Workbook

Sheet obrazec ПЛ1-П
B1: ЈЗУ Здравствени домови | L1: ПЛ1 - П
B3: Здравствена установа
B5: П Л А Н
B6: на пакети за превентивна здравствена заштита, итна помош и домашно лекување 2023 година
B8: Р.бр. | C8: Шифра | D8: Опис на примарен пакет | E8: референтна цена | F8: 1 квартал | H8: 2 квартал | J8: 3 квартал | L8: 4 квартал | N8: Вкупен износ
F9: Број на тимови месечно Х 3 за кв | G9: Износ | H9: Број на тимови месечно Х 3 за кв | I9: Износ | J9: Број на тимови месечно Х 3 за кв | K9: Износ | L9: Број на тимови месечно Х 3 за кв | M9: Износ
B10: 1 | C10: 2 | D10: 3 | E10: 4 | F10: 5 | G10: 6 ( 4*5) | H10: 7 | I10: 8 (4*7) | J10: 9 | K10: 10 (4*9) | L10: 11 | M10: 12 (4*11) | N10: 13 (6+8+10+12)
B11: 1 | E11: =IF(O11>3,VLOOKUP(C11,prim_paketi!$B$5:$D$14,3),"") | G11: =IF(O11>0,E11*F11,0) -> 0 | I11: =IF(O11>0,E11*H11,0) -> 0 | K11: =IF(O11>0,E11*J11,0) -> 0 | M11: =IF(O11>0,E11*L11,0) -> 0 | N11: =G11+I11+K11+M11 -> 0 | O11: =LEN(C11) -> 0
B12: 2 | D12: =IF(O12>3,VLOOKUP(C12,prim_paketi!$B$5:$D$14,2),"") | E12: =IF(O12>3,VLOOKUP(C12,prim_paketi!$B$5:$D$14,3),"") | G12: =IF(O12>0,E12*F12,0) -> 0 | I12: =IF(O12>0,E12*H12,0) -> 0 | K12: =IF(O12>0,E12*J12,0) -> 0 | M12: =IF(O12>0,E12*L12,0) -> 0 | N12: =G12+I12+K12+M12 -> 0 | O12: =LEN(C12) -> 0
B13: 3 | D13: =IF(O13>3,VLOOKUP(C13,prim_paketi!$B$5:$D$14,2),"") | E13: =IF(O13>3,VLOOKUP(C13,prim_paketi!$B$5:$D$14,3),"") | G13: =IF(O13>0,E13*F13,0) -> 0 | I13: =IF(O13>0,E13*H13,0) -> 0 | K13: =IF(O13>0,E13*J13,0) -> 0 | M13: =IF(O13>0,E13*L13,0) -> 0 | N13: =G13+I13+K13+M13 -> 0 | O13: =LEN(C13) -> 0
B14: 4 | D14: =IF(O14>3,VLOOKUP(C14,prim_paketi!$B$5:$D$14,2),"") | E14: =IF(O14>3,VLOOKUP(C14,prim_paketi!$B$5:$D$14,3),"") | G14: =IF(O14>0,E14*F14,0) -> 0 | I14: =IF(O14>0,E14*H14,0) -> 0 | K14: =IF(O14>0,E14*J14,0) -> 0 | M14: =IF(O14>0,E14*L14,0) -> 0 | N14: =G14+I14+K14+M14 -> 0 | O14: =LEN(C14) -> 0
B15: 5 | D15: =IF(O15>3,VLOOKUP(C15,prim_paketi!$B$5:$D$14,2),"") | E15: =IF(O15>3,VLOOKUP(C15,prim_paketi!$B$5:$D$14,3),"") | G15: =IF(O15>0,E15*F15,0) -> 0 | I15: =IF(O15>0,E15*H15,0) -> 0 | K15: =IF(O15>0,E15*J15,0) -> 0 | M15: =IF(O15>0,E15*L15,0) -> 0 | N15: =G15+I15+K15+M15 -> 0 | O15: =LEN(C15) -> 0
B16: 6 | D16: =IF(O16>3,VLOOKUP(C16,prim_paketi!$B$5:$D$14,2),"") | E16: =IF(O16>3,VLOOKUP(C16,prim_paketi!$B$5:$D$14,3),"") | G16: =IF(O16>0,E16*F16,0) -> 0 | I16: =IF(O16>0,E16*H16,0) -> 0 | K16: =IF(O16>0,E16*J16,0) -> 0 | M16: =IF(O16>0,E16*L16,0) -> 0 | N16: =G16+I16+K16+M16 -> 0 | O16: =LEN(C16) -> 0
B17: 7 | D17: =IF(O17>3,VLOOKUP(C17,prim_paketi!$B$5:$D$14,2),"") | E17: =IF(O17>3,VLOOKUP(C17,prim_paketi!$B$5:$D$14,3),"") | G17: =IF(O17>0,E17*F17,0) -> 0 | I17: =IF(O17>0,E17*H17,0) -> 0 | K17: =IF(O17>0,E17*J17,0) -> 0 | M17: =IF(O17>0,E17*L17,0) -> 0 | N17: =G17+I17+K17+M17 -> 0 | O17: =LEN(C17) -> 0
B18: 8 | D18: =IF(O18>3,VLOOKUP(C18,prim_paketi!$B$5:$D$14,2),"") | E18: =IF(O18>3,VLOOKUP(C18,prim_paketi!$B$5:$D$14,3),"") | G18: =IF(O18>0,E18*F18,0) -> 0 | I18: =IF(O18>0,E18*H18,0) -> 0 | K18: =IF(O18>0,E18*J18,0) -> 0 | M18: =IF(O18>0,E18*L18,0) -> 0 | N18: =G18+I18+K18+M18 -> 0 | O18: =LEN(C18) -> 0
B19: 9 | D19: =IF(O19>3,VLOOKUP(C19,prim_paketi!$B$5:$D$14,2),"") | E19: =IF(O19>3,VLOOKUP(C19,prim_paketi!$B$5:$D$14,3),"") | G19: =IF(O19>0,E19*F19,0) -> 0 | I19: =IF(O19>0,E19*H19,0) -> 0 | K19: =IF(O19>0,E19*J19,0) -> 0 | M19: =IF(O19>0,E19*L19,0) -> 0 | N19: =G19+I19+K19+M19 -> 0 | O19: =LEN(C19) -> 0
D20: Вкупно: | G20: =SUM(G11:G19) -> 0 | I20: =SUM(I11:I19) -> 0 | K20: =SUM(K11:K19) -> 0 | M20: =SUM(M11:M19) -> 0 | N20: =SUM(N11:N19) -> 0
B22: Во _____________________на __________2023__ год. | F22: Составил,_______________________

Sheet prim_paketi
A2: Р.бр. | B2: Шифра | C2: Опис на примарен пакет | D2: референтна цена
A4: 1 | B4: 2 | C4: 3 | D4: 4
A5: 1 | B5: ИМП1 | C5: Итна помош | D5: 177000
A6: 2 | B6: ПРЕ1 | C6: Домашно лекување | D6: 136500
A7: 3 | B7: ПРЕ2 | C7: Дежурна служба | D7: 76500
A8: 4 | B8: ПРЕ3 | C8: Систематски преглед, вакцинации и советувалиште | D8: 94700
A9: 5 | B9: ПРЕ4 | C9: Превентивна стоматологија | D9: 113000
A10: 6 | B10: ПРЕ5 | C10: Итна стоматологија | D10: 96200
A11: 7 | B11: ПРЕ6 | C11: Патронажа по сестра | D11: 40000
A12: 8 | B12: ПРЕ7 | C12: Преглед и стручно мислење за здравствена состојба на осигуреникот од страна на лекарска комисија | D12: 638000
A13: 9 | B13: ПРЕ8 | C13: Рурален тим | D13: 90300
A14: 10 | B14: ПРЕ9 | C14: Здравствена заштита во КПУ | D14: 120000
