Workbook

Sheet ПЛ-2 СС
A1: ЈЗУ и ПЗУ | G1: ПЛ 2 - Б (останати)
A2: Здравствена установа
A3: ПЛАН на вид и обем на здравствени услуги во ДНЕВНА БОЛНИЦА И БОЛНИЧКИ ДЕН на осигурени лица за 2023 година
C4: ________________________________________________________________ | H4: ДЕЈНОСТ
A6: Р.бр. | B6: Шифра на пакет | C6: Специјалистички пакети/ специјалистички услуги согласно ценовникот | D6: референтна цена | E6: Број на случаи / пациенти | J6: Вкупен износ за сите случаи
E7: I кв | F7: II кв | G7: III кв | H7: IV кв | I7: Вкупно
A8: 1 | B8: 2 | C8: 3 | D8: 4 | E8: 5 | F8: 6 | G8: 7 | H8: 8 | I8: 9(5+6+7+8 ) | J8: 10(4*9)
A9: 1 | C9: =IF(L9>2, VLOOKUP(B9,sheet1!$B$6:$D$1361,2,FALSE),"") | D9: =IF(L9>0,VLOOKUP(B9,sheet1!B6:D1361,3,FALSE),"") | I9: =E9+F9+G9+H9 -> 0 | J9: =IF(L9>= 2,I9*D9,0) -> 0 | L9: =LEN(B9) -> 0
A10: 2 | C10: =IF(L10>2, VLOOKUP(B10,sheet1!$B$6:$D$1361,2,FALSE),"") | D10: =IF(L10>0,VLOOKUP(B10,sheet1!B7:D1362,3,FALSE),"") | I10: =E10+F10+G10+H10 -> 0 | J10: =IF(L10>= 2,I10*D10,0) -> 0 | L10: =LEN(B10) -> 0
A11: 3 | C11: =IF(L11>2, VLOOKUP(B11,sheet1!$B$6:$D$1361,2,FALSE),"") | D11: =IF(L11>0,VLOOKUP(B11,sheet1!B8:D1363,3,FALSE),"") | I11: =E11+F11+G11+H11 -> 0 | J11: =IF(L11>= 2,I11*D11,0) -> 0 | L11: =LEN(B11) -> 0
A12: 4 | C12: =IF(L12>2, VLOOKUP(B12,sheet1!$B$6:$D$1361,2,FALSE),"") | D12: =IF(L12>0,VLOOKUP(B12,sheet1!B9:D1364,3,FALSE),"") | I12: =E12+F12+G12+H12 -> 0 | J12: =IF(L12>= 2,I12*D12,0) -> 0 | L12: =LEN(B12) -> 0
A13: 5 | C13: =IF(L13>2, VLOOKUP(B13,sheet1!$B$6:$D$1361,2,FALSE),"") | D13: =IF(L13>0,VLOOKUP(B13,sheet1!B10:D1365,3,FALSE),"") | I13: =E13+F13+G13+H13 -> 0 | J13: =IF(L13>= 2,I13*D13,0) -> 0 | L13: =LEN(B13) -> 0
A14: 6 | C14: =IF(L14>2, VLOOKUP(B14,sheet1!$B$6:$D$1361,2,FALSE),"") | D14: =IF(L14>0,VLOOKUP(B14,sheet1!B11:D1366,3,FALSE),"") | I14: =E14+F14+G14+H14 -> 0 | J14: =IF(L14>= 2,I14*D14,0) -> 0 | L14: =LEN(B14) -> 0
A15: 7 | C15: =IF(L15>2, VLOOKUP(B15,sheet1!$B$6:$D$1361,2,FALSE),"") | D15: =IF(L15>0,VLOOKUP(B15,sheet1!B12:D1367,3,FALSE),"") | I15: =E15+F15+G15+H15 -> 0 | J15: =IF(L15>= 2,I15*D15,0) -> 0 | L15: =LEN(B15) -> 0
A16: 8 | C16: =IF(L16>2, VLOOKUP(B16,sheet1!$B$6:$D$1361,2,FALSE),"") | D16: =IF(L16>0,VLOOKUP(B16,sheet1!B13:D1368,3,FALSE),"") | I16: =E16+F16+G16+H16 -> 0 | J16: =IF(L16>= 2,I16*D16,0) -> 0 | L16: =LEN(B16) -> 0
A17: 9 | C17: =IF(L17>2, VLOOKUP(B17,sheet1!$B$6:$D$1361,2,FALSE),"") | D17: =IF(L17>0,VLOOKUP(B17,sheet1!B14:D1369,3,FALSE),"") | I17: =E17+F17+G17+H17 -> 0 | J17: =IF(L17>= 2,I17*D17,0) -> 0 | L17: =LEN(B17) -> 0
A18: 10 | C18: =IF(L18>2, VLOOKUP(B18,sheet1!$B$6:$D$1361,2,FALSE),"") | D18: =IF(L18>0,VLOOKUP(B18,sheet1!B15:D1370,3,FALSE),"") | I18: =E18+F18+G18+H18 -> 0 | J18: =IF(L18>= 2,I18*D18,0) -> 0 | L18: =LEN(B18) -> 0
A19: 11 | C19: =IF(L19>2, VLOOKUP(B19,sheet1!$B$6:$D$1361,2,FALSE),"") | D19: =IF(L19>0,VLOOKUP(B19,sheet1!B16:D1371,3,FALSE),"") | I19: =E19+F19+G19+H19 -> 0 | J19: =IF(L19>= 2,I19*D19,0) -> 0 | L19: =LEN(B19) -> 0
A20: 12 | C20: =IF(L20>2, VLOOKUP(B20,sheet1!$B$6:$D$1361,2,FALSE),"") | D20: =IF(L20>0,VLOOKUP(B20,sheet1!B17:D1372,3,FALSE),"") | I20: =E20+F20+G20+H20 -> 0 | J20: =IF(L20>= 2,I20*D20,0) -> 0 | L20: =LEN(B20) -> 0
... A42: 34 | C42: =IF(L42>2, VLOOKUP(B42,sheet1!$B$6:$D$1361,2,FALSE),"") | D42: =IF(L42>0,VLOOKUP(B42,sheet1!B39:D1394,3,FALSE),"") | I42: =E42+F42+G42+H42 -> 0 | J42: =IF(L42>= 2,I42*D42,0) -> 0 | L42: =LEN(B42) -> 0
C43: Вкупно | E43: =SUM(E9:E42) -> 0 | F43: =SUM(F9:F42) -> 0 | G43: =SUM(G9:G42) -> 0 | H43: =SUM(H9:H42) -> 0 | I43: =SUM(I9:I42) -> 0 | J43: =SUM(J9:J42) -> 0
A45: Во _____________________на __________2023__ год. | E45: Составил,_______________________ | I45: Д и р е к т о р ,
I46: ___________ | J46: ___________

Sheet CENI za dnevna bol i stacionar
A2: Референтни цени за дневна болница и болнички ден во болничка здравствена заштита
A6: Р.бр. | B6: Шифра | C6: НАЗИВ НА ПАКЕТИ НА ЗДРАВСТВЕНАТА УСЛУГАТА | D6: РЕФЕРЕНТНА ЦЕНА | E6: СЛУЖБЕН ВЕСНИК
B7: ДБ01 | C7: Дневна болница (сместување, оброк и труд на персоналот) за апликација на хемотерапија и/или биолошка терапија под и над 4 часа | D7: 460 | E7: бр.181 од 27.12.2011 | F7: во примена од 1 април 2012
B8: ДБ02 | C8: Дневна болница (сместување и оброк) за апликација на медикаментозна терапија над 4 часа | D8: 200 | E8: бр.181 од 27.12.2011
B9: ДБ03 | C9: Дневна болница (сместување, оброк и труд на персоналот) за психијатрија со вклучени здравствени услуги и медикаментозна терапија над 4 часа | D9: 670 | E9: бр.138 од 06.11.2012 | F9: Новата референтна цена од 670 денари стапува на сила осмиот ден од денот на објава во службен весник односно од 14.11.2012 година. До таа дата важи старата референтна цена од 560 денари
B10: ДБ04 | C10: Дневна болница за апликација на медикаментозна терапија под 4 часа | D10: 130 | E10: бр.63 од 23.05.2012 | F10: во примена од 31 мај 2012
B11: ДБ05 | C11: Дневна болница за административно прикажуање на издадена терапија за домашни услови | D11: 10 | E11: бр. 144 од 02.06.2020 | F11: стапуваат на сила од 03.06.2020
B12: ДС01 | C12: Болнички ден во стационар (сместување, оброци и труд на персоналот) со вклучени здравствени услуги и медикаментозна терапија во психијатрија за болните | D12: 960 | E12: бр.138 од 06.11.2012 | F12: Новата референтна цена од 960 денари стапува на сила осмиот ден од денот на објава во службен весник односно од 14.11.2012 година. До таа дата важи старата референтна цена од 710 денари
B13: ДС02 | C13: Болнички ден во стационар (сместување, оброци и труд на персоналот) со вклучени здравствени услуги и медикаментозна терапија за хронично болни и продолжено болничко лекување во заводи и специјални болници за пациенти по решение на ФЗОМ | D13: 1200 | E13: бр.181 од 27.12.2011 | F13: во примена од 1 април 2012
B14: ДС03 | C14: Болнички ден во стационар (сместување и оброци) за придружник на болно дете на возраст до 3 години | D14: 350 | E14: бр.181 од 27.12.2011
B15: ДС04 | C15: Болнички ден во стационар со вклучени здравствени услуги и медикаментозна терапија за болни во герентологија | D15: 860 | E15: бр.110 од 19.05.2021 | F15: во примена од 20 мај 2021

Sheet sheet1
C2: РЕФЕРЕНТНИ ЦЕНИ ЗА ДНЕВНА БОЛНИЦА И БОЛНИЧКИ ДЕН ВО БОЛНИЧКА ЗДРАВСТВЕНА ЗАШТИТА
C3: REFERENTNI CENI
A5: Р.бр. | B5: Шифра | C5: НАЗИВ НА ПАКЕТИ НА ЗДРАВСТВЕНИ УСЛУГИ | D5: РЕФЕРЕНТНА ЦЕНА
B6: 1022 | C6: Нормално породување | D6: 13315
B7: 4851 | C7: ПАП ТЕСТ | D7: 600
B8: AH1 | C8: Анестезија до 90 минути | D8: 4680
B9: AOM10 | C9: Проширен пакет за преглед на заболувања на задниот сегмент на очите и очниот нерв со дијагностика | D9: 1550
B10: AOM11 | C10: Пакет за решавање на рефракциски аномалии кај деца до 14 години и пореметување на моталитетот | D10: 700
B11: AOM12 | C11: Пакет за решавање на рефракциски аномалии кај деца до 14 години, пореметување на мотилитет и нивен третман | D11: 4900
B12: AOM13 | C12: Пакет за третман кај повреди на очи и аднекси | D12: 800
B13: AOM2 | C13: Дијагностички и терапевтски постапки за третман на помошен, солзен апарат и преден сегмент | D13: 400
B14: AOM3 | C14: Одредување на рефракција на очи | D14: 650
B15: AOM4 | C15: Одредување на рефракција на очи со контактни леќи | D15: 950
B16: AOM5 | C16: Основен пакет за глауком | D16: 520
B17: AOM6 | C17: Проширен пакет за дијагностика на глауком | D17: 1000
B18: AOM7 | C18: Ласерски третман на очи | D18: 1100
B19: AOM8 | C19: Пакет за преглед на заболувања на задниот сегмент на очите | D19: 600
... B306: АСКМ17 | C306: Пакет за 1 подесување на кохлеарен имплант после имплантација | D306: 3000
B307: АСКМТ1 | C307: Медикаментозна терапија 1 - Специфични лекови | D307: 1.501-2.500
B308: АСКМТ2 | C308: Медикаментозна терапија 2 - Специфични лекови | D308: 2.501-4.500
B309: АСКМТ3 | C309: Медикаментозна терапија 3 - Специфични лекови | D309: 4.501-7.500
B310: АСКМТ4 | C310: Медикаментозна терапија 4 - Специфични лекови | D310: над 7.500
B311: АТМ1 | C311: Токсиколошки пакет | D311: 1700
B312: АФМ1 | C312: Стандарден пакет за физикален и рехабилитационен третман за 5 дена | D312: 2500
B313: АФМ2 | C313: Mинимален пакет за физикален и рехабилитационен третман зa 5 дена | D313: 2000
B314: АФМ3 | C314: Стандарден пакет за физикален и рехабилитационен третман зa 10 дена | D314: 4000
B315: АФМ4 | C315: Mинимален пакет за физикален и рехабилитационен третман зa 10 дена (од 3 до 5 процедури) | D315: 3500
B316: АФМ5 | C316: Стандарден пакет за физикален и рехабилитационен третман зa 15 дена | D316: 6000
B317: АФМ6 | C317: Прв проширен пакет за физикален и рехабилитационен третман зa 15 дена | D317: 6500
B318: АФМ7 | C318: Втор проширен пакет за физикален и рехабилитационен третман зa 15 дена | D318: 7500
B319: АФМ8 | C319: Pакет за специфичен физикален и рехабилитационен третман зa 20 дена | D319: 8000
B320: АХИ1 | C320: Единечна максимална доза за третман на зглобни и мускулни крварења за лица со хемофилија и присутни инхибитори | D320: 752000
B321: АХИ2 | C321: Дневна доза за третман на зглобни и мускулни крварења за лица со хемофилија и присутни инхитори со помалку од 75 килограми | D321: 970000
B322: АХИ3 | C322: Дневна доза за третман на зглобни и мускулни крварења за лица со хемофилија и присутни инхитори со над 75 килограми | D322: 1699000
... B1361: ЦГА4 | C1361: Цитогенетска анализа на клетки од плодова вода или хорионски ресички со кариограм | D1361: 10300
