Workbook

Sheet ПЛ-2 СС
A1: ЈЗУ и ПЗУ | I1: ПЛ 2 - СС
A2: Здравствена установа __________________________________________________________________________________
A3: ПЛАН ЗА СПЕЦИЈАЛИСТИЧКО-КОНСУЛТАТИВНA СТОМАТОЛОШКА ЗДРАВСТВЕНA ЗАШТИТА
C4: ________________________________________________________________ | H4: ДЕЈНОСТ
A5: по видот и обемот на здравствени услуги на осигурените лица за 2023 год.
A7: Р.бр. | B7: Шифра на пакет | C7: НАЗИВ НА ЗДРАВСТВЕНА УСЛУГА/ПАКЕТ | D7: референтна цена | E7: Број на случаи / пациенти | J7: Вкупен износ за сите случаи
E8: I кв | F8: II кв | G8: III кв | H8: IV кв | I8: Вкупно
A9: 1 | B9: 2 | C9: 3 | D9: 4 | E9: 5 | F9: 6 | G9: 7 | H9: 8 | I9: 9(5+6+7+8 ) | J9: 10(4*9)
A10: 1 | C10: =IF(L10>2, VLOOKUP(B10,ценовник!$A$7:$C$132,2,FALSE),"") | D10: =IF(L10>0,VLOOKUP(B10,ценовник!$A$7:$C$132,3,FALSE),"") | I10: =E10+F10+G10+H10 -> 0 | J10: =IF(L10>= 2,I10*D10,0) -> 0 | L10: =LEN(B10) -> 0
A11: 2 | C11: =IF(L11>2, VLOOKUP(B11,ценовник!$A$7:$C$132,2,FALSE),"") | D11: =IF(L11>0,VLOOKUP(B11,ценовник!$A$7:$C$132,3,FALSE),"") | I11: =E11+F11+G11+H11 -> 0 | J11: =IF(L11>= 2,I11*D11,0) -> 0 | L11: =LEN(B11) -> 0
A12: 3 | C12: =IF(L12>2, VLOOKUP(B12,ценовник!$A$7:$C$132,2,FALSE),"") | D12: =IF(L12>0,VLOOKUP(B12,ценовник!$A$7:$C$132,3,FALSE),"") | I12: =E12+F12+G12+H12 -> 0 | J12: =IF(L12>= 2,I12*D12,0) -> 0 | L12: =LEN(B12) -> 0
A13: 4 | C13: =IF(L13>2, VLOOKUP(B13,ценовник!$A$7:$C$132,2,FALSE),"") | D13: =IF(L13>0,VLOOKUP(B13,ценовник!$A$7:$C$132,3,FALSE),"") | I13: =E13+F13+G13+H13 -> 0 | J13: =IF(L13>= 2,I13*D13,0) -> 0 | L13: =LEN(B13) -> 0
A14: 5 | C14: =IF(L14>2, VLOOKUP(B14,ценовник!$A$7:$C$132,2,FALSE),"") | D14: =IF(L14>0,VLOOKUP(B14,ценовник!$A$7:$C$132,3,FALSE),"") | I14: =E14+F14+G14+H14 -> 0 | J14: =IF(L14>= 2,I14*D14,0) -> 0 | L14: =LEN(B14) -> 0
A15: 6 | C15: =IF(L15>2, VLOOKUP(B15,ценовник!$A$7:$C$132,2,FALSE),"") | D15: =IF(L15>0,VLOOKUP(B15,ценовник!$A$7:$C$132,3,FALSE),"") | I15: =E15+F15+G15+H15 -> 0 | J15: =IF(L15>= 2,I15*D15,0) -> 0 | L15: =LEN(B15) -> 0
A16: 7 | C16: =IF(L16>2, VLOOKUP(B16,ценовник!$A$7:$C$132,2,FALSE),"") | D16: =IF(L16>0,VLOOKUP(B16,ценовник!$A$7:$C$132,3,FALSE),"") | I16: =E16+F16+G16+H16 -> 0 | J16: =IF(L16>= 2,I16*D16,0) -> 0 | L16: =LEN(B16) -> 0
A17: 8 | C17: =IF(L17>2, VLOOKUP(B17,ценовник!$A$7:$C$132,2,FALSE),"") | D17: =IF(L17>0,VLOOKUP(B17,ценовник!$A$7:$C$132,3,FALSE),"") | I17: =E17+F17+G17+H17 -> 0 | J17: =IF(L17>= 2,I17*D17,0) -> 0 | L17: =LEN(B17) -> 0
A18: 9 | C18: =IF(L18>2, VLOOKUP(B18,ценовник!$A$7:$C$132,2,FALSE),"") | D18: =IF(L18>0,VLOOKUP(B18,ценовник!$A$7:$C$132,3,FALSE),"") | I18: =E18+F18+G18+H18 -> 0 | J18: =IF(L18>= 2,I18*D18,0) -> 0 | L18: =LEN(B18) -> 0
A19: 10 | C19: =IF(L19>2, VLOOKUP(B19,ценовник!$A$7:$C$132,2,FALSE),"") | D19: =IF(L19>0,VLOOKUP(B19,ценовник!$A$7:$C$132,3,FALSE),"") | I19: =E19+F19+G19+H19 -> 0 | J19: =IF(L19>= 2,I19*D19,0) -> 0 | L19: =LEN(B19) -> 0
A20: 11 | C20: =IF(L20>2, VLOOKUP(B20,ценовник!$A$7:$C$132,2,FALSE),"") | D20: =IF(L20>0,VLOOKUP(B20,ценовник!$A$7:$C$132,3,FALSE),"") | I20: =E20+F20+G20+H20 -> 0 | J20: =IF(L20>= 2,I20*D20,0) -> 0 | L20: =LEN(B20) -> 0
A21: 12 | C21: =IF(L21>2, VLOOKUP(B21,ценовник!$A$7:$C$132,2,FALSE),"") | D21: =IF(L21>0,VLOOKUP(B21,ценовник!$A$7:$C$132,3,FALSE),"") | I21: =E21+F21+G21+H21 -> 0 | J21: =IF(L21>= 2,I21*D21,0) -> 0 | L21: =LEN(B21) -> 0
... A43: 34 | C43: =IF(L43>2, VLOOKUP(B43,ценовник!$A$7:$C$132,2,FALSE),"") | D43: =IF(L43>0,VLOOKUP(B43,ценовник!$A$7:$C$132,3,FALSE),"") | I43: =E43+F43+G43+H43 -> 0 | J43: =IF(L43>= 2,I43*D43,0) -> 0 | L43: =LEN(B43) -> 0
C44: Вкупно | E44: =SUM(E10:E43) -> 0 | F44: =SUM(F10:F43) -> 0 | G44: =SUM(G10:G43) -> 0 | H44: =SUM(H10:H43) -> 0 | I44: =SUM(I10:I43) -> 0 | J44: =SUM(J10:J43) -> 0
A46: Во _____________________на __________2023__ год. | E46: Составил,_______________________ | I46: Д и р е к т о р ,
I47: ___________

Sheet ceni spec.stomatologija
A2: РЕФЕРЕНТНИ ЦЕНИ НА ЗДРАВСТЕВНИ УСЛУГИ ВО СТОМАТОЛОШКА СПЕЦИЈАЛИСТИЧКО - КОНСУЛТАТИВНA ЗДРАВСТВЕНА ЗАШТИТА
A7: Р.БР | B7: шифра | C7: Назив на завршената услуга | D7: Цена на завршената услуга со 5 % ДДВ за потрошен материјал | E7: СЛУЖБЕН ВЕСНИК
A8: 1 | C8: ЦЕНИ НА ЗАВРШЕНИ УСЛУГИ ВО ОРАЛНА ХИРУРГИЈА
B9: ОРА01 | C9: Вадење длабоко скршен заб | D9: 803 | E9: бр. 171 од 19.08.2019
B10: ОРА02 | C10: Вадење на заб или еносален имплант со остеотомија | D10: 910 | E10: бр. 171 од 19.08.2019
B11: ОРА03 | C11: Вадење на ретиниран, импактиран или длабоко положен заб со остеотомија | D11: 1660 | E11: бр. 171 од 19.08.2019
B12: ОРА04 | C12: Хируршка ревизија на рана | D12: 730 | E12: бр. 171 од 19.08.2019
B13: ОРА05 | C13: Инцизија (флегмона) | D13: 990 | E13: бр. 171 од 19.08.2019
B14: ОРА06 | C14: Циркумцизија и ексцизија на лигавица | D14: 750 | E14: бр. 171 од 19.08.2019
B15: ОРА07 | C15: Ексцизија на голем израсток на лигавица (фиброн епулис) | D15: 880 | E15: бр. 171 од 19.08.2019
B16: ОРА08 | C16: Туберпластика | D16: 1207 | E16: бр. 171 од 19.08.2019
B17: ОРА09 | C17: Хемиресекција | D17: 1560 | E17: бр. 171 од 19.08.2019
B18: ОРА10 | C18: Реимплантација на заб | D18: 2162 | E18: бр. 171 од 19.08.2019
B19: ОРА11 | C19: Трансплантација на заб | D19: 1770 | E19: бр. 171 од 19.08.2019
B20: ОРА12 | C20: Имплантација | D20: 1766 | E20: бр. 171 од 19.08.2019
... B56: ОРА48 | C56: Ексцизија на одонтом | D56: 2000 | E56: бр. 171 од 19.08.2019
A57: 2 | C57: ЦЕНИ НА ЗАВРШЕНИ УСЛУГИ ВО ПРОТЕТИКА
B58: PRO01 | C58: ТОТАЛНА ПРОТЕЗА ОД АКРИЛАТ ГОРНА | D58: 4967 | E58: бр.132 од 31.10.2007
B59: PRO02 | C59: ТОТАЛНА ПРОТЕЗА ОД АКРИЛАТ ДОЛНА | D59: 5407 | E59: бр.132 од 31.10.2007
B60: PRO03 | C60: ПАРЦИЈАЛНА ПРОТЕЗА ОД АКРИЛАТ ГОРНА | D60: 3566 | E60: бр.132 од 31.10.2007
B61: PRO04 | C61: ПАРЦИЈАЛНА ПРОТЕЗА ОД АКРИЛАТ ДОЛНА | D61: 3656 | E61: бр.132 од 31.10.2007
B62: PRO05 | C62: ЕДНОДЕЛНА ЛЕАНА ФАСЕТИРАНА КОРОНКА | D62: 2136 | E62: бр.132 од 31.10.2007
B63: PRO06 | C63: РЕПАРАТУРА НА ПРОТЕЗА(ПАРЦИЈАЛНА И ТОТАЛНА)ОД АКРИЛАТ БЕЗ ОТИСОК | D63: 618 | E63: бр.132 од 31.10.2007
B64: PRO07 | C64: РЕПАРАТУРА НА ПРОТЕЗА ОД АКРИЛАТ СО ОТИСОК | D64: 819 | E64: бр.132 од 31.10.2007
B65: PRO08 | C65: РЕПАРАТУРА ПО МОМЕ | D65: 1097 | E65: бр.132 од 31.10.2007
B66: PRO09 | C66: РЕПАРАТУРА ПО МОМЕ СО ДЕФЕКТ | D66: 1396 | E66: бр.132 од 31.10.2007
B67: PRO10 | C67: ПОДЛОЖУВАЊЕ НА ПРОТЕЗА | D67: 553 | E67: бр.132 од 31.10.2007
B68: PRO11 | C68: КОРЕКЦИЈА НА ПРОТЕЗА | D68: 239 | E68: бр.132 од 31.10.2007
B69: PRO12 | C69: ЛЕАНА НАДОГРАДБА | D69: 937 | E69: бр.132 од 31.10.2007
A70: 3 | C70: ЦЕНИ НА ЗАВРШЕНИ УСЛУГИ ВО ОРТОДОНЦИЈА
B71: ORT01 | C71: АКТИВЕН ГОРЕН АПАРАТ | D71: 5857 | E71: бр.132 од 31.10.2007
B72: ORT02 | C72: АКТИВЕН АПАРАТ ДОЛЕН | D72: 5857 | E72: бр.132 од 31.10.2007
B73: ORT03 | C73: ПАСИВЕН ПОДВИЖЕН АПАРАТ МОНОБЛОК | D73: 6076 | E73: бр.132 од 31.10.2007
B74: ORT04 | C74: ПАСИВЕН ОРТОДОНТСКИ АПАРАТ- ПРОПУЛЗОР | D74: 6026 | E74: бр.132 од 31.10.2007
B75: ORT06 | C75: ФУНКЦИОНАЛЕН АПАРАТ ПО Frankel, Balters, Grude | D75: 6076 | E75: бр.132 од 31.10.2007
B76: ORT07 | C76: БРАДОДРЖАЛКА СО КАПА | D76: 3126 | E76: бр.132 од 31.10.2007
B77: ORT05 | C77: КОСА РАМНИНА (ИНДИРЕКТНА МЕТОДА) | D77: 3290 | E77: бр.132 од 31.10.2007
B78: ORT08 | C78: СЕЛЕКТИВНО СОСТРУЖУВАЊЕ СОВЕТИ ЗА ВЕЖБИ СО ПОМАГАЛА И МИОФУНКЦИОНАЛНИ ВЕЖБИ | D78: 1032 | E78: бр.132 од 31.10.2007
B79: ORT09 | C79: МИОФУНКЦИОНАЛНИ ВЕЖБИ | D79: 910 | E79: бр.132 од 31.10.2007
B80: ORT10 | C80: РЕПАРАТУРА СО ОТИСОК | D80: 1007 | E80: бр.132 од 31.10.2007
...

Sheet ценовник
A2: REFERENTNI CENI НА ЗДРАВСТЕВНИ УСЛУГИ ВО СТОМАТОЛОШКА SPECIJALISTIЧКО-КОНСУЛТАТИВНA ZDRAVSTVENA ZA[TITA
A6: шифра | B6: Назив на завршената услуга | C6: Цена на завршената услуга со 5 % ДДВ за потрошен материјал
A7: ORT01 | B7: АКТИВЕН ГОРЕН АПАРАТ | C7: 5857
A8: ORT02 | B8: АКТИВЕН АПАРАТ ДОЛЕН | C8: 5857
A9: ORT03 | B9: ПАСИВЕН ПОДВИЖЕН АПАРАТ МОНОБЛОК | C9: 6076
A10: ORT04 | B10: ПАСИВЕН ОРТОДОНТСКИ АПАРАТ- ПРОПУЛЗОР | C10: 6026
A11: ORT05 | B11: КОСА РАМНИНА (ИНДИРЕКТНА МЕТОДА) | C11: 3290
A12: ORT06 | B12: ФУНКЦИОНАЛЕН АПАРАТ ПО Frankel, Balters, Grude | C12: 6076
A13: ORT07 | B13: БРАДОДРЖАЛКА СО КАПА | C13: 3126
A14: ORT08 | B14: СЕЛЕКТИВНО СОСТРУЖУВАЊЕ СОВЕТИ ЗА ВЕЖБИ СО ПОМАГАЛА И МИОФУНКЦИОНАЛНИ ВЕЖБИ | C14: 1032
A15: ORT09 | B15: МИОФУНКЦИОНАЛНИ ВЕЖБИ | C15: 910
A16: ORT10 | B16: РЕПАРАТУРА СО ОТИСОК | C16: 1007
A17: ORT11 | B17: СТУДИО МОДЕЛ ЗА ДИЈАГНОСТИКА | C17: 1164
A18: ORT12 | B18: РЕГУЛАЦИЈА НА ОКЛУЗИЈА | C18: 2060
... A132: ОРА48 | B132: Ексцизија на одонтом | C132: 2000
