Workbook

Sheet План-ДСГ
A1: ЈЗУ Универзитетски клиники, клинички болници, општи болници, специјални болници | I1: ПЛ 3 Б - ДСГ
B3: Здравствена установа | C3: ________________________________________________________________________
A5: П Л А Н
A6: на видот и обемот на ДСГ здравствени услуги на осигурените лица за 2024 год.
A7: за болничка здравствена заштита
A9: Ред.Број | B9: Шифра на ДСГ услуга | C9: Назив на ДСГ услуга | D9: Референтнa ценa | F9: Број на ДСГ здравствени услуги | J9: Вкупен износ по ДСГ
E10: 1 квартал | F10: 2 квартал | G10: 3 квартал | H10: 4 квартал | I10: Вкупно
A11: 1 | B11: 2 | C11: 3 | D11: 4 | E11: 5 | F11: 6 | G11: 7 | H11: 8 | I11: 9=(5+6+7+8) | J11: 10(4*9)
A12: 1 | C12: =IF(K12>3,VLOOKUP(B12,DRG!$B$5:$D$1000,2),"") | D12: =IF(K12>3,VLOOKUP(B12,DRG!$B$5:$D$1000,3),0) -> 0 | I12: =E12+F12+G12+H12 -> 0 | J12: =I12*D12 -> 0 | K12: =LEN(B12) -> 0
A13: 2 | C13: =IF(K13>3,VLOOKUP(B13,DRG!$B$5:$D$1000,2),"") | D13: =IF(K13>3,VLOOKUP(B13,DRG!$B$5:$D$1000,3),0) -> 0 | I13: =E13+F13+G13+H13 -> 0 | J13: =I13*D13 -> 0 | K13: =LEN(B13) -> 0
A14: 3 | C14: =IF(K14>3,VLOOKUP(B14,DRG!$B$5:$D$1000,2),"") | D14: =IF(K14>3,VLOOKUP(B14,DRG!$B$5:$D$1000,3),0) -> 0 | I14: =E14+F14+G14+H14 -> 0 | J14: =I14*D14 -> 0 | K14: =LEN(B14) -> 0
A15: 4 | C15: =IF(K15>3,VLOOKUP(B15,DRG!$B$5:$D$1000,2),"") | D15: =IF(K15>3,VLOOKUP(B15,DRG!$B$5:$D$1000,3),0) -> 0 | I15: =E15+F15+G15+H15 -> 0 | J15: =I15*D15 -> 0 | K15: =LEN(B15) -> 0
A16: 5 | C16: =IF(K16>3,VLOOKUP(B16,DRG!$B$5:$D$1000,2),"") | D16: =IF(K16>3,VLOOKUP(B16,DRG!$B$5:$D$1000,3),0) -> 0 | I16: =E16+F16+G16+H16 -> 0 | J16: =I16*D16 -> 0 | K16: =LEN(B16) -> 0
A17: 6 | C17: =IF(K17>3,VLOOKUP(B17,DRG!$B$5:$D$1000,2),"") | D17: =IF(K17>3,VLOOKUP(B17,DRG!$B$5:$D$1000,3),0) -> 0 | I17: =E17+F17+G17+H17 -> 0 | J17: =I17*D17 -> 0 | K17: =LEN(B17) -> 0
A18: 7 | C18: =IF(K18>3,VLOOKUP(B18,DRG!$B$5:$D$1000,2),"") | D18: =IF(K18>3,VLOOKUP(B18,DRG!$B$5:$D$1000,3),0) -> 0 | I18: =E18+F18+G18+H18 -> 0 | J18: =I18*D18 -> 0 | K18: =LEN(B18) -> 0
A19: 8 | C19: =IF(K19>3,VLOOKUP(B19,DRG!$B$5:$D$1000,2),"") | D19: =IF(K19>3,VLOOKUP(B19,DRG!$B$5:$D$1000,3),0) -> 0 | I19: =E19+F19+G19+H19 -> 0 | J19: =I19*D19 -> 0 | K19: =LEN(B19) -> 0
A20: 9 | C20: =IF(K20>3,VLOOKUP(B20,DRG!$B$5:$D$1000,2),"") | D20: =IF(K20>3,VLOOKUP(B20,DRG!$B$5:$D$1000,3),0) -> 0 | I20: =E20+F20+G20+H20 -> 0 | J20: =I20*D20 -> 0 | K20: =LEN(B20) -> 0
A21: 10 | C21: =IF(K21>3,VLOOKUP(B21,DRG!$B$5:$D$1000,2),"") | D21: =IF(K21>3,VLOOKUP(B21,DRG!$B$5:$D$1000,3),0) -> 0 | I21: =E21+F21+G21+H21 -> 0 | J21: =I21*D21 -> 0 | K21: =LEN(B21) -> 0
A22: 11 | C22: =IF(K22>3,VLOOKUP(B22,DRG!$B$5:$D$1000,2),"") | D22: =IF(K22>3,VLOOKUP(B22,DRG!$B$5:$D$1000,3),0) -> 0 | I22: =E22+F22+G22+H22 -> 0 | J22: =I22*D22 -> 0 | K22: =LEN(B22) -> 0
A23: 12 | C23: =IF(K23>3,VLOOKUP(B23,DRG!$B$5:$D$1000,2),"") | D23: =IF(K23>3,VLOOKUP(B23,DRG!$B$5:$D$1000,3),0) -> 0 | I23: =E23+F23+G23+H23 -> 0 | J23: =I23*D23 -> 0 | K23: =LEN(B23) -> 0
... A78: 67 | C78: =IF(K78>3,VLOOKUP(B78,DRG!$B$5:$D$1000,2),"") | D78: =IF(K78>3,VLOOKUP(B78,DRG!$B$5:$D$1000,3),0) -> 0 | I78: =E78+F78+G78+H78 -> 0 | J78: =I78*D78 -> 0 | K78: =LEN(B78) -> 0
C79: ВКУПНО | E79: =SUM(E12:E78) -> 0 | F79: =SUM(F12:F78) -> 0 | G79: =SUM(G12:G78) -> 0 | H79: =SUM(H12:H78) -> 0 | I79: =SUM(I12:I78) -> 0 | J79: =SUM(J12:J78) -> 0
A81: Во _____________________на __________2023__ год. | E81: Составил,_______________________
F83: Д и р е к т о р,
F84: ______________

Sheet DRG
C1: ЛИСТА НА ДСГ УСЛУГИ СО РЕФЕРЕНТНИ ЦЕНИ
A3: Р. бр. | B3: шифра на ДСГ | C3: Вид на ДСГ услуга | D3: Референтна цена | E3: Службен весник
A4: 1 | B4: 2 | C4: 3 | D4: 4
A5: 1 | B5: 901Z | C5: Екстензивна процедура во операциона сала неповрзана со главната дијагноза | D5: 44084 | E5: бр.203 од 08.11.2018
A6: 2 | B6: 902Z | C6: Неекстензивна процедура во операциона сала неповрзана со главната дијагноза | D6: 27682 | E6: бр.203 од 08.11.2018
A7: 3 | B7: 903Z | C7: Процедура за простата во операциона сала неповрзана со главната дијагноза | D7: 68430 | E7: бр.203 од 08.11.2018
A8: 4 | B8: 960Z | C8: Не може да се групира | D8: 0
A9: 5 | B9: 961Z | C9: Неприфатлива главна дијагноза | D9: 0
A10: 6 | B10: 963Z | C10: Неонатална дијагнoза неповрзана со возраст/тежина | D10: 0
A11: 7 | B11: A01Z | C11: Трансплантација на црн дроб | D11: 2721300 | E11: бр.10 од 20.01.2014
A12: 8 | B12: A03Z | C12: Трансплантација на бел дроб или на срце/бел дроб | D12: 594410 | E12: бр.203 од 08.11.2018
A13: 9 | B13: A05Z | C13: Трансплантација на срце | D13: 2349500 | E13: бр.239 од 08.11.2022
A14: 10 | B14: A06A | C14: Трахеостомија и вентилација поголема од 96 часа | D14: 350750 | E14: бр.203 од 08.11.2018
A15: 11 | B15: A06B | C15: Трахеостомија и вентилација помала од 96 часа | D15: 40388 | E15: бр.203 од 08.11.2018
A16: 12 | B16: A07Z | C16: Алогенична трансплантација на коскена срж од сроден донор | D16: 983700 | E16: бр.106 од 07.06.2018
A17: 13 | B17: A08A | C17: Автологна транасплантација на коскена срж со катастрофални КК | D17: 818174
A18: 14 | B18: A08B | C18: Автологна транасплантација на коскена срж без катастрофални КК | D18: 559100 | E18: бр.106 од 07.06.2018
A19: 15 | B19: A09A | C19: Трансплантација на бубрег со трансплантација на панкреас или со катастрофални КК | D19: 1115995 | E19: бр.203 од 08.11.2018
A20: 16 | B20: A09B | C20: Трансплантација на бубрег без трансплантација на панкреас , без катастрофални КК | D20: 747143 | E20: бр.203 од 08.11.2018
A21: 17 | B21: A10Z | C21: Трансплантација на рожница | D21: 201300 | E21: бр. 17 од 05.02.2015
A22: 18 | B22: A11Z | C22: Припрема на донор, мултиорганска експлантација и експлантација на ткиво | D22: 315250 | E22: бр. 84 од 04.07.2012
A23: 19 | B23: A12Z | C23: Припрема на донор и мултиорганска експлантација | D23: 298400 | E23: бр. 84 од 04.07.2012
A24: 20 | B24: A13Z | C24: Припрема на донор и експлантација на орган | D24: 307100 | E24: бр. 84 од 04.07.2012
A25: 21 | B25: A14Z | C25: Припрема на донор и експлантација рожннице/очна јаболкница еднострана и/или двостран | D25: 15570 | E25: бр. 84 од 04.07.2012
B26: A15Z | C26: Алогенична трансплантација на коскена срцевина од несроден донор | D26: 3185500 | E26: бр.106 од 07.06.2018
A27: 22 | B27: A40Z | C27: Екстракорпорална мембранска оксигенација (ECMO) без операција на срце | D27: 936562 | E27: бр.203 од 08.11.2018
A28: 23 | B28: A41A | C28: Интубација кај возраст <16 со КК | D28: 67926 | E28: бр.203 од 08.11.2018
A29: 24 | B29: A41B | C29: Интубација кај возраст <16 без КК | D29: 21591 | E29: бр.203 од 08.11.2018
A30: 25 | B30: A42Z | C30: Серолошка обработка на донорот на органи/ткива | D30: 13581 | E30: бр.203 од 08.11.2018
A31: 26 | B31: B01Z | C31: Ревизија на вентрикуларен шант | D31: 60008 | E31: бр.203 од 08.11.2018
A32: 27 | B32: B02A | C32: Краниотомија со катастрофални КК | D32: 132210 | E32: бр.203 од 08.11.2018
A33: 28 | B33: B02B | C33: Краниотомија со тешки или умерени КК | D33: 105967 | E33: бр.203 од 08.11.2018
A34: 29 | B34: B02C | C34: Краниотомија без КК | D34: 102121 | E34: бр.203 од 08.11.2018
A35: 30 | B35: B03A | C35: Спинални процедури со катастрофални или тешки КК | D35: 106722 | E35: бр.203 од 08.11.2018
A36: 31 | B36: B03B | C36: Спинални процедури без катастрофални или тешки КК | D36: 54172 | E36: бр.203 од 08.11.2018
A37: 32 | B37: B04A | C37: Екстракранијални васкуларни процедури со катастрофални или тешки КК | D37: 143119 | E37: бр.203 од 08.11.2018
A38: 33 | B38: B04B | C38: Екстракранијални васкуларни процедури без катастрофални или тешки КК | D38: 136464 | E38: бр.203 од 08.11.2018
... A332: 327 | B332: I03B | C332: Замена на колк со катастрофални или тешки КК или ревизија на колк без катастофални или тешки КК | D332: 155250 | E332: бр.203 од 08.11.2018
A333: 328 | B333: I03C | C333: Замена на колк без катастрофални или тешки КК | D333: 125000
A334: 329 | B334: I04Z | C334: Замена на колено и повторно спојување | D334: 123846 | E334: бр.203 од 08.11.2018
...
