Workbook

Sheet ПЛ-2 С
A1: ЈЗУ и ПЗУ | I1: ПЛ 2 - С (oстанати)
A2: Здравствена установа
A3: ПЛАН ЗА ЗАВРШЕНИ ПАКЕТИ ОД ОБЛАСТА НА ОЧНА ХИРУРГИЈА, ТБЦ, ПЛАСТИЧНА И РЕКОНСТРУКТИВНА ХИРУРГИЈА, НЕВРОХИРУРГИЈА И ИНТЕРВЕНТНА РАДИОЛОГИЈА, КАРДИОЛОГИЈА И ЗДРАВСТВЕНИ УСЛУГИ ОД БОЛНИЧКА ЗЗ ОД ОБЛАСТА НА ИНФЕКТИВНИ БОЛЕСТИ
C4: ________________________________________________________________ | H4: ДЕЈНОСТ
A5: по видот и обемот на здравствени услуги на осигурените лица за ____________ година.
A7: Р.бр. | B7: Шифра на пакет | C7: Назив на здравствена услуга | D7: референтна цена | E7: Број на случаи / пациенти | J7: Вкупен износ за сите случаи
E8: I кв | F8: II кв | G8: III кв | H8: IV кв | I8: Вкупно
A9: 1 | B9: 2 | C9: 3 | D9: 4 | E9: 5 | F9: 6 | G9: 7 | H9: 8 | I9: 9(5+6+7+8 ) | J9: 10(4*9)
A10: 1 | C10: =IF(L10>2, VLOOKUP(B10,ceni!$B$8:$D$100,2,FALSE),"") | D10: =IF(L10>0,VLOOKUP(B10,ceni!$B$8:$D$100,3,FALSE),"") | I10: =E10+F10+G10+H10 -> 0 | J10: =IF(L10>= 2,I10*D10,0) -> 0 | L10: =LEN(B10) -> 0
A11: 2 | C11: =IF(L11>2, VLOOKUP(B11,ceni!$B$8:$D$100,2,FALSE),"") | D11: =IF(L11>0,VLOOKUP(B11,ceni!$B$8:$D$100,3,FALSE),"") | I11: =E11+F11+G11+H11 -> 0 | J11: =IF(L11>= 2,I11*D11,0) -> 0 | L11: =LEN(B11) -> 0
A12: 3 | C12: =IF(L12>2, VLOOKUP(B12,ceni!$B$8:$D$100,2,FALSE),"") | D12: =IF(L12>0,VLOOKUP(B12,ceni!$B$8:$D$100,3,FALSE),"") | I12: =E12+F12+G12+H12 -> 0 | J12: =IF(L12>= 2,I12*D12,0) -> 0 | L12: =LEN(B12) -> 0
A13: 4 | C13: =IF(L13>2, VLOOKUP(B13,ceni!$B$8:$D$100,2,FALSE),"") | D13: =IF(L13>0,VLOOKUP(B13,ceni!$B$8:$D$100,3,FALSE),"") | I13: =E13+F13+G13+H13 -> 0 | J13: =IF(L13>= 2,I13*D13,0) -> 0 | L13: =LEN(B13) -> 0
A14: 5 | C14: =IF(L14>2, VLOOKUP(B14,ceni!$B$8:$D$100,2,FALSE),"") | D14: =IF(L14>0,VLOOKUP(B14,ceni!$B$8:$D$100,3,FALSE),"") | I14: =E14+F14+G14+H14 -> 0 | J14: =IF(L14>= 2,I14*D14,0) -> 0 | L14: =LEN(B14) -> 0
A15: 6 | C15: =IF(L15>2, VLOOKUP(B15,ceni!$B$8:$D$100,2,FALSE),"") | D15: =IF(L15>0,VLOOKUP(B15,ceni!$B$8:$D$100,3,FALSE),"") | I15: =E15+F15+G15+H15 -> 0 | J15: =IF(L15>= 2,I15*D15,0) -> 0 | L15: =LEN(B15) -> 0
A16: 7 | C16: =IF(L16>2, VLOOKUP(B16,ceni!$B$8:$D$100,2,FALSE),"") | D16: =IF(L16>0,VLOOKUP(B16,ceni!$B$8:$D$100,3,FALSE),"") | I16: =E16+F16+G16+H16 -> 0 | J16: =IF(L16>= 2,I16*D16,0) -> 0 | L16: =LEN(B16) -> 0
A17: 8 | C17: =IF(L17>2, VLOOKUP(B17,ceni!$B$8:$D$100,2,FALSE),"") | D17: =IF(L17>0,VLOOKUP(B17,ceni!$B$8:$D$100,3,FALSE),"") | I17: =E17+F17+G17+H17 -> 0 | J17: =IF(L17>= 2,I17*D17,0) -> 0 | L17: =LEN(B17) -> 0
A18: 9 | C18: =IF(L18>2, VLOOKUP(B18,ceni!$B$8:$D$100,2,FALSE),"") | D18: =IF(L18>0,VLOOKUP(B18,ceni!$B$8:$D$100,3,FALSE),"") | I18: =E18+F18+G18+H18 -> 0 | J18: =IF(L18>= 2,I18*D18,0) -> 0 | L18: =LEN(B18) -> 0
A19: 10 | C19: =IF(L19>2, VLOOKUP(B19,ceni!$B$8:$D$100,2,FALSE),"") | D19: =IF(L19>0,VLOOKUP(B19,ceni!$B$8:$D$100,3,FALSE),"") | I19: =E19+F19+G19+H19 -> 0 | J19: =IF(L19>= 2,I19*D19,0) -> 0 | L19: =LEN(B19) -> 0
A20: 11 | C20: =IF(L20>2, VLOOKUP(B20,ceni!$B$8:$D$100,2,FALSE),"") | D20: =IF(L20>0,VLOOKUP(B20,ceni!$B$8:$D$100,3,FALSE),"") | I20: =E20+F20+G20+H20 -> 0 | J20: =IF(L20>= 2,I20*D20,0) -> 0 | L20: =LEN(B20) -> 0
A21: 12 | C21: =IF(L21>2, VLOOKUP(B21,ceni!$B$8:$D$100,2,FALSE),"") | D21: =IF(L21>0,VLOOKUP(B21,ceni!$B$8:$D$100,3,FALSE),"") | I21: =E21+F21+G21+H21 -> 0 | J21: =IF(L21>= 2,I21*D21,0) -> 0 | L21: =LEN(B21) -> 0
... A43: 34 | C43: =IF(L43>2, VLOOKUP(B43,ceni!$B$8:$D$100,2,FALSE),"") | D43: =IF(L43>0,VLOOKUP(B43,ceni!$B$8:$D$100,3,FALSE),"") | I43: =E43+F43+G43+H43 -> 0 | J43: =IF(L43>= 2,I43*D43,0) -> 0 | L43: =LEN(B43) -> 0
C44: Вкупно | E44: =SUM(E10:E43) -> 0 | F44: =SUM(F10:F43) -> 0 | G44: =SUM(G10:G43) -> 0 | H44: =SUM(H10:H43) -> 0 | I44: =SUM(I10:I43) -> 0 | J44: =SUM(J10:J43) -> 0
A46: Во _____________________на _____________ година. | E46: Составил,_______________________ | I46: Д и р е к т о р ,
I47: ___________

Sheet ceni
A2: РЕФЕРЕНТНИ ЦЕНИ ЗА ОЧНА ХИРУРГИЈА, ТБЦ И ПЛАСТИЧНА И РЕКОНСТРУКТИВНА ХИРУРГИЈА
A6: р.бр | B6: Шифра | C6: Вид на здравствена услуга | D6: референтна цена | E6: СЛУЖБЕН ВЕСНИК | F6: забелешка
A7: 1 | C7: здравствени услуги од областа на ОЧНА ХИРУРГИЈА
B8: ХОМ1 | C8: ВИТРЕКТОМИЈА на заден сегмент | D8: 91500 | E8: бр.62 од 05.05.2011
B9: ХОМ2 | C9: АБЛАЦИЈА НА МРЕЖНИЦА | D9: 79300 | E9: бр.62 од 05.05.2011
B10: ХОМ3 | C10: ЗАМЕНА НА СИЛИКОНСКО МАСЛО | D10: 82500 | E10: бр.62 од 05.05.2011
B11: ХОМ4 | C11: КЕРАТОПЛАСТИКА ТРАНСПЛАНТАЦИЈА | D11: 201300 | E11: бр.17 од 05.02.2015 | F11: се бришат и не се во употреба од осмиот ден од денот на објава во сл весник
B12: ХОМ5 | C12: КЕРАТОПРОТЕЗА | D12: 90000 | E12: бр.17 од 05.02.2015
B13: ХОМ6 | C13: Оперативен зафат кај прематурна ретинопатија со постоперативни контролни прегледи за едно око | D13: 225000 | E13: бр.18 од 01.02.2013 | F13: во употреба осмиот ден од денот на објавување во службен весник (01.02.2012) односно од 09.02.2013 година
B14: ХОМ7 | C14: Оперативен зафат кај прематурна ретинопатија со постоперативни контролни прегледи за две очи | D14: 305000 | E14: бр.18 од 01.02.2013
B15: ХОМ8 | C15: Oфталмолошки преглед со мерење на очен притисок, ехо преглед, рефрактометрија, под општа анестезија (се врши најмалку 1 месец по оперативниот зафат кај прематурна ретинопатија) | D15: 45750 | E15: бр.18 од 01.02.2013
B16: ХОМ9 | C16: Оперативен зафат кај вродена катаракта со анестезија (слежена процедура) - со факоемулзификација, предна витректомија и/или ленсектомија и вклучен постоперативен контролен преглед | D16: 104550 | E16: бр.54 од 15.04.2013 | F16: стапува на сила со денот на објавување во сл. весник односно 15.04.2013 година
B17: ХОМ10 | C17: Крослинкинг на едно око | D17: 19500 | E17: бр.17 од 05.02.2015 | F17: во примена осмиот ден од денот на објавување во сл весник
B18: ХОМ11 | C18: Крослинкинг на две очи | D18: 34000 | E18: бр.17 од 05.02.2015
B19: ХОМ12 | C19: Трабекулектомија со имплант | D19: 77000 | E19: бр.17 од 05.02.2015
B20: ХОМ13 | C20: Радиална и лимбална кератoтомија на едно око | D20: 15000 | E20: бр.17 од 05.02.2015
B21: ХОМ14 | C21: Радиална и лимбална кератoтомија на две очи | D21: 25000 | E21: бр.17 од 05.02.2015
A22: 2 | C22: здравствени услуги -третирање на акутни случаи на ТУБЕРКУЛОЗА - пневмофтизиологија
B23: ТБЦ1 | C23: Акутна туберкулоза со завршено лекување до 31 ден | D23: 24947 | E23: бр.99 од 22.07.2011
B24: ТБЦ2 | C24: Акутна туберкулоза со завршено лекување од 32 до 61 ден | D24: 47400 | E24: бр.99 од 22.07.2011
B25: ТБЦ3 | C25: Акутна туберкулоза со завршено лекување за повеќе од 62 дена | D25: 83922 | E25: бр.99 од 22.07.2011
A26: 3 | C26: Пакети на завршени здравствени услуги од болничка зз од областа на пластична и реконструктивна хирургија
B27: ХПД1 | C27: Вградување на имплант на дојка по мастектомија или вроден недостиг на дојка | D27: 45200 | E27: бр.129 од 12.07.2018 | F27: во примена од 20.07.2018
B28: ХПД2 | C28: Реконструкција на дојка со имплант и експандер по мастектомија | D28: 75900 | E28: бр.129 од 12.07.2018 | F28: во примена од 20.07.2018
B29: ХПД3 | C29: Примарна реконструкција на дојка, мастектомија со вградување на имплант, мамопластика | D29: 75800 | E29: бр. 10 од 20.01.2014 | F29: во примена од 28.01.2014
B30: ХПД4 | C30: Вградување на имплант на дојка по мастектомија или вроден недостиг на дојка, двострано | D30: 76000 | E30: бр.129 од 12.07.2018 | F30: во примена од 20.07.2018
B31: ХПД5 | C31: Реконструкција на дојка со имплант и експандер по мастектомија, двострано | D31: 128600 | E31: бр.129 од 12.07.2018 | F31: во примена од 20.07.2018
B32: ХПД6 | C32: Примарна реконструкција на дојка, мастектомија со вградување на имплант, мамопластика, двострано | D32: 100800 | E32: бр. 42 од 17.03.2015 | F32: во примена од 25 март 2015
A33: 3 | C33: Пакети на завршени здравствени услуги од болничка зз од областа на неврохирургија хирургија и интервентна радиологија
B34: НРА1 | C34: Емболизација на мозочни анавризми од 1-3 Коили | D34: 389700 | E34: бр. 107 од 06.06.2016 | F34: Забелешка: Пакетот НРА7 може да се комбинира со еден од пакетите од НРА1 до НРА5. Во примена од 14.06.2016 година
B35: НРА2 | C35: Емболизација на мозочни анавризми од 4-6 Коили | D35: 647300 | E35: бр. 107 од 06.06.2016
B36: НРА3 | C36: Емболизација на мозочни анавризми од 7-9 Коили | D36: 904800 | E36: бр. 107 од 06.06.2016
B37: НРА4 | C37: Емболизација на мозочни анавризми од 10-12 Коили | D37: 1162400 | E37: бр. 107 од 06.06.2016
B38: НРА5 | C38: Емболизација на мозочни анавризми над 12 Коили | D38: 1334100 | E38: бр. 107 од 06.06.2016
B39: НРА6 | C39: Поставување на насочувач на проток (flow diverter) во мозочни крвни садови | D39: 818100 | E39: бр. 107 од 06.06.2016
B40: НРА7 | C40: Поставување на стент во мозочни крвни садови | D40: 273000 | E40: бр. 107 од 06.06.2016
B41: НРА8 | C41: Механичка тромбектомија при акутен исхемичен мозочен удар (со еден стент ретривер) | D41: 566375 | E41: бр. 70 од 04.04.2019 | F41: во примена од 05.04.2019
B42: НРА9 | C42: Механичка тромбектомија при акутен исхемичен мозочен удар (со два стент ретривери) | D42: 834375 | E42: бр. 70 од 04.04.2019
A43: 3 | C43: Пакети на завршени здравствени услуги од болничка зз од областа на ортопедија и трауматологија
B44: БЛО1 | C44: Замена на тотална протеза на колено | D44: 688000 | E44: бр. 107 од 06.06.2016 | F44: во примена од 14.06.2016 година
B45: БЛО2 | C45: Рбетна фузија на три и повеќе нивоа | D45: 210000 | E45: бр. 107 од 06.06.2016
A46: 4 | C46: Пакети на завршени здравствени услуги од болничка зз од областа на кардиологија
B47: РТС1 | C47: Ресинхронизирана терапија на срцето (CRT-P) | D47: 200000 | E47: бр. 47 од 10.03.2014 | F47: во примена од 18.03.2014
B48: РТС2 | C48: Ресинхронизирана терапија на срцето со имплантибилен кардиовертер дефибрилатор (CRT-D) | D48: 900000 | E48: бр. 47 од 10.03.2014
B49: БЛК1 | C49: Трансаортална имплантација или репласман на валвула (TAVI) | D49: 1350000 | E49: бр.107 од 06.06.2016 | F49: во примена од 14.06.2016 година
B50: БЛК2 | C50: Ендоваскуларна поправка на аневризма на торакална аорта (TEVAR) со еден стент | D50: 598000 | E50: бр.107 од 06.06.2016
B51: БЛК3 | C51: Ендоваскуларна поправка на аневризма на торакална аорта (TEVAR) со два стента | D51: 1081000 | E51: бр.107 од 06.06.2016
B52: БЛК4 | C52: Ендоваскуларна поправка на аневризма на абдоминална аорта (EVAR) со еден стент | D52: 671000 | E52: бр.107 од 06.06.2016
B53: БЛК5 | C53: Ендоваскуларна поправка на аневризма на абдоминална аорта (EVAR) со стент и аортална/илијачна екстензија | D53: 840000 | E53: бр.107 од 06.06.2016
B54: БЛК6 | C54: Кардијално електрофизиолошко испитување со радиофрекфентна аблација (3-Д мапирање) | D54: 496000 | E54: бр.218 од 17.10.2023 | F54: во примена од 25.10.2023
B55: БЛК7 | C55: Хибридни процедури на срце и големи крвни садови (frozen elephant trunk - FET) | D55: 1640000 | E55: бр. 203 од 08.11.2018 | F55: во примена од 16.11. 2018 година
B56: БЛК8 | C56: Вградување на помошен уред за поддршка на срцевата работа (VAD ventricular assist device) | D56: 8181000 | E56: бр. 25 од 01.02.2019 | F56: во примена од 02.02. 2019 година
B57: БЛК9 | C57: Вградување на помошен уред за поддршка на срцевата работа (двострана) (BiVAD biventricular assist device) | D57: 14488500 | E57: бр. 188 од 20.07.2020 | F57: во примена од 21.07. 2020 година
B58: БЛК10 | C58: Минимално инвазивна процедура за замена на аортна валвула- MIAVR | D58: 781570 | E58: бр.283 од 16.12.2021 | F58: во примена од 17.22. 2021 година
B59: БЛК11 | C59: Криоаблација на пулмонални вени при атријална фибрилација | D59: 491000 | E59: бр.218 од 17.10.2023 | F59: во примена од 25.10.2023
A60: 4 | C60: Пакети на завршени здравствени услуги од болничка з.з. од областа на инфективни болести
B61: БЛИ 1 | C61: Болничко лекување во универзитетска клиника на пациенти со КОВИД19 до 5 дена | D61: 41125 | E61: бр.226 од 21.09.2020 | F61: во примена од 22.09.2020
B62: БЛИ 2 | C62: Болничко лекување во универзитетска клиника на пациенти со КОВИД19 од 6 до 10 дена | D62: 82250 | E62: бр.226 од 21.09.2020
B63: БЛИ 3 | C63: Болничко лекување во универзитетска клиника на пациенти со КОВИД19 од 11 до 15 дена | D63: 141000 | E63: бр.226 од 21.09.2020
B64: БЛИ 4 | C64: Болничко лекување во универзитетска клиника на пациенти со КОВИД19 над 15 дена | D64: 211500 | E64: бр.226 од 21.09.2020
B65: БЛИ 5 | C65: Болничко лекување во клиничка, општа и специјална болница на пациенти со КОВИД19 до 5 дена | D65: 30844 | E65: бр.226 од 21.09.2020
B66: БЛИ 6 | C66: Болничко лекување во клиничка, општа и специјална болница на пациенти со КОВИД19 од 6 до 10 дена | D66: 61688 | E66: бр.226 од 21.09.2020
B67: БЛИ 7 | C67: Болничко лекување во клиничка, општа и специјална болница на пациенти со КОВИД19 од 11 до 15 дена | D67: 105750 | E67: бр.226 од 21.09.2020
B68: БЛИ 8 | C68: Болничко лекување во клиничка, општа и специјална болница на пациенти со КОВИД19 над 15 дена | D68: 158625 | E68: бр.226 од 21.09.2020
B69: БЛИ 9 | C69: Болничко лекување на пациенти со КОВИД19 на механичка вентилација до 5 дена | D69: 76375 | E69: бр.226 од 21.09.2020
B70: БЛИ 10 | C70: Болничко лекување на пациенти со КОВИД19 на механичка вентилација од 6 до 10 дена | D70: 122200 | E70: бр.226 од 21.09.2020
B71: БЛИ 11 | C71: Болничко лекување на пациенти со КОВИД19 на механичка вентилација од 11 до 15 дена | D71: 198575 | E71: бр.226 од 21.09.2020
B72: БЛИ 12 | C72: Болничко лекување на пациенти со КОВИД19 на механичка вентилација над 15 дена | D72: 305500 | E72: бр.226 од 21.09.2020
A73: 4 | C73: Пакети на завршени здравствени услуги од болничка з.з. од областа на гастроентерохепатологија
B74: БЛГ 1 | C74: Радиофреквентна биполарна аблација на езофагус | D74: 153870 | E74: бр.110 од 19.05.2021 | F74: во примена од 20 мај 2021
A75: 4 | C75: Пакети на завршени здравствени услуги од болничка з.з. од областа на урологијата
B76: БЛУ 1 | C76: Поставување вештачки уринарен сфинктер | D76: 350000 | E76: бр.218 од 17.10.2023 | F76: во примена од 25.10.2023
