Workbook

Sheet ПЛ-2 СС
A1: ЈЗУ и ПЗУ | I1: ПЛ 2 - СС
A2: Здравствена установа __________________________________________________________________________________
A3: ПЛАН ЗА СПЕЦИЈАЛИСТИЧКО-КОНСУЛТАТИВНA СТОМАТОЛОШКА ЗДРАВСТВЕНA ЗАШТИТА
C4: ________________________________________________________________ | H4: ДЕЈНОСТ
A5: по видот и обемот на здравствени услуги на осигурените лица за ___________ година.
A7: Р.бр. | B7: Шифра на пакет | C7: НАЗИВ НА ЗДРАВСТВЕНА УСЛУГА/ПАКЕТ | D7: референтна цена | E7: Број на случаи / пациенти | J7: Вкупен износ за сите случаи
E8: I кв | F8: II кв | G8: III кв | H8: IV кв | I8: Вкупно
A9: 1 | B9: 2 | C9: 3 | D9: 4 | E9: 5 | F9: 6 | G9: 7 | H9: 8 | I9: 9(5+6+7+8 ) | J9: 10(4*9)
A10: 1 | C10: =IF(L10>2, VLOOKUP(B10,ceni!$B$7:$D$203,2,FALSE),"") | D10: =IF(L10>0,VLOOKUP(B10,ceni!$B$7:$D$203,3,FALSE),"") | I10: =E10+F10+G10+H10 -> 0 | J10: =IF(L10>= 2,I10*D10,0) -> 0 | L10: =LEN(B10) -> 0
A11: 2 | C11: =IF(L11>2, VLOOKUP(B11,ceni!$B$7:$D$203,2,FALSE),"") | D11: =IF(L11>0,VLOOKUP(B11,ceni!$B$7:$D$203,3,FALSE),"") | I11: =E11+F11+G11+H11 -> 0 | J11: =IF(L11>= 2,I11*D11,0) -> 0 | L11: =LEN(B11) -> 0
A12: 3 | C12: =IF(L12>2, VLOOKUP(B12,ceni!$B$7:$D$203,2,FALSE),"") | D12: =IF(L12>0,VLOOKUP(B12,ceni!$B$7:$D$203,3,FALSE),"") | I12: =E12+F12+G12+H12 -> 0 | J12: =IF(L12>= 2,I12*D12,0) -> 0 | L12: =LEN(B12) -> 0
A13: 4 | C13: =IF(L13>2, VLOOKUP(B13,ceni!$B$7:$D$203,2,FALSE),"") | D13: =IF(L13>0,VLOOKUP(B13,ceni!$B$7:$D$203,3,FALSE),"") | I13: =E13+F13+G13+H13 -> 0 | J13: =IF(L13>= 2,I13*D13,0) -> 0 | L13: =LEN(B13) -> 0
A14: 5 | C14: =IF(L14>2, VLOOKUP(B14,ceni!$B$7:$D$203,2,FALSE),"") | D14: =IF(L14>0,VLOOKUP(B14,ceni!$B$7:$D$203,3,FALSE),"") | I14: =E14+F14+G14+H14 -> 0 | J14: =IF(L14>= 2,I14*D14,0) -> 0 | L14: =LEN(B14) -> 0
A15: 6 | C15: =IF(L15>2, VLOOKUP(B15,ceni!$B$7:$D$203,2,FALSE),"") | D15: =IF(L15>0,VLOOKUP(B15,ceni!$B$7:$D$203,3,FALSE),"") | I15: =E15+F15+G15+H15 -> 0 | J15: =IF(L15>= 2,I15*D15,0) -> 0 | L15: =LEN(B15) -> 0
A16: 7 | C16: =IF(L16>2, VLOOKUP(B16,ceni!$B$7:$D$203,2,FALSE),"") | D16: =IF(L16>0,VLOOKUP(B16,ceni!$B$7:$D$203,3,FALSE),"") | I16: =E16+F16+G16+H16 -> 0 | J16: =IF(L16>= 2,I16*D16,0) -> 0 | L16: =LEN(B16) -> 0
A17: 8 | C17: =IF(L17>2, VLOOKUP(B17,ceni!$B$7:$D$203,2,FALSE),"") | D17: =IF(L17>0,VLOOKUP(B17,ceni!$B$7:$D$203,3,FALSE),"") | I17: =E17+F17+G17+H17 -> 0 | J17: =IF(L17>= 2,I17*D17,0) -> 0 | L17: =LEN(B17) -> 0
A18: 9 | C18: =IF(L18>2, VLOOKUP(B18,ceni!$B$7:$D$203,2,FALSE),"") | D18: =IF(L18>0,VLOOKUP(B18,ceni!$B$7:$D$203,3,FALSE),"") | I18: =E18+F18+G18+H18 -> 0 | J18: =IF(L18>= 2,I18*D18,0) -> 0 | L18: =LEN(B18) -> 0
A19: 10 | C19: =IF(L19>2, VLOOKUP(B19,ceni!$B$7:$D$203,2,FALSE),"") | D19: =IF(L19>0,VLOOKUP(B19,ceni!$B$7:$D$203,3,FALSE),"") | I19: =E19+F19+G19+H19 -> 0 | J19: =IF(L19>= 2,I19*D19,0) -> 0 | L19: =LEN(B19) -> 0
A20: 11 | C20: =IF(L20>2, VLOOKUP(B20,ceni!$B$7:$D$203,2,FALSE),"") | D20: =IF(L20>0,VLOOKUP(B20,ceni!$B$7:$D$203,3,FALSE),"") | I20: =E20+F20+G20+H20 -> 0 | J20: =IF(L20>= 2,I20*D20,0) -> 0 | L20: =LEN(B20) -> 0
A21: 12 | C21: =IF(L21>2, VLOOKUP(B21,ceni!$B$7:$D$203,2,FALSE),"") | D21: =IF(L21>0,VLOOKUP(B21,ceni!$B$7:$D$203,3,FALSE),"") | I21: =E21+F21+G21+H21 -> 0 | J21: =IF(L21>= 2,I21*D21,0) -> 0 | L21: =LEN(B21) -> 0
... A41: 32 | C41: =IF(L41>2, VLOOKUP(B41,ceni!$B$7:$D$203,2,FALSE),"") | D41: =IF(L41>0,VLOOKUP(B41,ceni!$B$7:$D$203,3,FALSE),"") | I41: =E41+F41+G41+H41 -> 0 | J41: =IF(L41>= 2,I41*D41,0) -> 0 | L41: =LEN(B41) -> 0
A42: 33 | I42: =E42+F42+G42+H42 -> 0 | J42: =IF(L42>= 2,I42*D42,0) -> 0
A43: 34 | C43: =IF(L43>2, VLOOKUP(B43,ceni!$B$7:$D$203,2,FALSE),"") | D43: =IF(L43>0,VLOOKUP(B43,ceni!$B$7:$D$203,3,FALSE),"") | I43: =E43+F43+G43+H43 -> 0 | J43: =IF(L43>= 2,I43*D43,0) -> 0 | L43: =LEN(B43) -> 0
A44: 35 | C44: =IF(L44>2, VLOOKUP(B44,ceni!$B$7:$D$203,2,FALSE),"") | D44: =IF(L44>0,VLOOKUP(B44,ceni!$B$7:$D$203,3,FALSE),"") | I44: =E44+F44+G44+H44 -> 0 | J44: =IF(L44>= 2,I44*D44,0) -> 0 | L44: =LEN(B44) -> 0
C45: Вкупно | E45: =SUM(E10:E44) -> 0 | F45: =SUM(F10:F44) -> 0 | G45: =SUM(G10:G44) -> 0 | H45: =SUM(H10:H44) -> 0 | I45: =SUM(I10:I44) -> 0 | J45: =SUM(J10:J44) -> 0
A47: Во _____________________на _________________ година. | E47: Составил,_______________________ | I47: Д и р е к т о р ,
I48: ___________

Sheet ceni
A2: РЕФЕРЕНТНИ ЦЕНИ НА ЗДРАВСТЕВНИ УСЛУГИ ВО СТОМАТОЛОШКА СПЕЦИЈАЛИСТИЧКО - КОНСУЛТАТИВНA ЗДРАВСТВЕНА ЗАШТИТА
A7: Р.БР | B7: шифра | C7: Назив на завршената услуга | D7: Цена на завршената услуга со 5 % ДДВ за потрошен материјал | E7: СЛУЖБЕН ВЕСНИК
A8: 1 | C8: ЦЕНИ НА ЗАВРШЕНИ УСЛУГИ ВО ОРАЛНА ХИРУРГИЈА
B9: ОРА01 | C9: Вадење длабоко скршен заб | D9: 1550 | E9: бр. 277 од 25.12.2023 | F9: во примена од 02.01.2024
B10: ОРА02 | C10: Вадење на заб или ендоосален имплант со остеотомија | D10: 2345 | E10: бр. 277 од 25.12.2023 | F10: во примена од 02.01.2024
B11: ОРА03 | C11: Вадење на ретиниран, импактиран или длабоко положен заб со остеотомија | D11: 3286 | E11: бр. 277 од 25.12.2023 | F11: во примена од 02.01.2024
B12: ОРА04 | C12: Хируршка ревизија на рана | D12: 1757 | E12: бр. 277 од 25.12.2023 | F12: во примена од 02.01.2024
B13: ОРА05 | C13: Инцизија (флегмона) | D13: 1935 | E13: бр. 277 од 25.12.2023 | F13: во примена од 02.01.2024
B14: ОРА06 | C14: Циркумцизија и ексцизија на лигавица | D14: 1394 | E14: бр. 277 од 25.12.2023 | F14: во примена од 02.01.2024
B15: ОРА07 | C15: Ексцизија на голем израсток на лигавица (фиброн епулис) | D15: 2068 | E15: бр. 277 од 25.12.2023 | F15: во примена од 02.01.2024
B16: ОРА08 | C16: Туберпластика | D16: 3106 | E16: бр. 277 од 25.12.2023 | F16: во примена од 02.01.2024
B17: ОРА09 | C17: Хемиресекција | D17: 2531 | E17: бр. 277 од 25.12.2023 | F17: во примена од 02.01.2024
B18: ОРА10 | C18: Реимплантација на заб | D18: 2368 | E18: бр. 277 од 25.12.2023 | F18: во примена од 02.01.2024
B19: ОРА11 | C19: Трансплантација на заб | D19: 2585 | E19: бр. 277 од 25.12.2023 | F19: во примена од 02.01.2024
B20: ОРА12 | C20: Имплантација | D20: 1881 | E20: бр. 277 од 25.12.2023 | F20: во примена од 02.01.2024
... B56: ОРА48 | C56: Отстранување на одонтом | D56: 2380 | E56: бр. 277 од 25.12.2023 | F56: во примена од 02.01.2024
A57: 2 | C57: ЦЕНИ НА ЗАВРШЕНИ УСЛУГИ ВО ПРОТЕТИКА
B58: PRO01 | C58: Тотална протеза од акрилат горна | D58: 11117 | E58: бр. 277 од 25.12.2023 | F58: во примена од 02.01.2024
B59: PRO02 | C59: Тотална протеза од акрилат долна | D59: 11117 | E59: бр. 277 од 25.12.2023 | F59: во примена од 02.01.2024
B60: PRO03 | C60: Парцијална протеза од акрилат горна | D60: 11349 | E60: бр. 277 од 25.12.2023 | F60: во примена од 02.01.2024
B61: PRO04 | C61: Парцијална протеза од акрилат долна | D61: 11349 | E61: бр. 277 од 25.12.2023 | F61: во примена од 02.01.2024
B62: PRO05 | C62: Едноделна леана фасетирана коронка | D62: 2136 | E62: бр. 277 од 25.12.2023 | F62: во примена од 02.01.2024
B63: PRO06 | C63: Репаратура на протеза (парцијална и тотална) од акрилат без отисок | D63: 2176 | E63: бр. 277 од 25.12.2023 | F63: во примена од 02.01.2024
B64: PRO07 | C64: Репаратура на протеза од акрилат со отисок | D64: 3909 | E64: бр. 277 од 25.12.2023 | F64: во примена од 02.01.2024
B65: PRO08 | C65: Репаратура по МОМЕ | D65: 4920 | E65: бр. 277 од 25.12.2023 | F65: во примена од 02.01.2024
B66: PRO09 | C66: Репаратура по МОМЕ со дефект | D66: 5905 | E66: бр. 277 од 25.12.2023 | F66: во примена од 02.01.2024
B67: PRO10 | C67: Продолжување на протеза (индиректна метода) | D67: 3588 | E67: бр. 277 од 25.12.2023 | F67: во примена од 02.01.2024
B68: PRO11 | C68: Корекција на протеза | D68: 1688 | E68: бр. 277 од 25.12.2023 | F68: во примена од 02.01.2024
B69: PRO12 | C69: Леана надоградба | D69: 3726 | E69: бр. 277 од 25.12.2023 | F69: во примена од 02.01.2024
... B71: PRO14 | C71: Продолжување на протеза (директна метода) | D71: 2290 | E71: бр. 277 од 25.12.2023 | F71: во примена од 02.01.2024
A72: 3 | C72: ЦЕНИ НА ЗАВРШЕНИ УСЛУГИ ВО ОРТОДОНЦИЈА
B73: ORT01 | C73: Активен горен апарат | D73: 8776 | E73: бр. 277 од 25.12.2023 | F73: во примена од 02.01.2024
B74: ORT02 | C74: Активен апарат долен | D74: 8776 | E74: бр. 277 од 25.12.2023 | F74: во примена од 02.01.2024
B75: ORT03 | C75: Пасивен подвижен апарат - моноблок | D75: 9995 | E75: бр. 277 од 25.12.2023 | F75: во примена од 02.01.2024
B76: ORT04 | C76: пасивен ортодонтски апарат - пропулзор | D76: 9939 | E76: бр. 277 од 25.12.2023 | F76: во примена од 02.01.2024
B77: ORT05 | C77: Коса рамнина (индиректна метода) | D77: 7468 | E77: бр. 277 од 25.12.2023 | F77: во примена од 02.01.2024
B78: ORT06 | C78: Функционален апарат по Frankel, Balters, Grude | D78: 10980 | E78: бр. 277 од 25.12.2023 | F78: во примена од 02.01.2024
B79: ORT07 | C79: Брадодржалка со капа | D79: 4214 | E79: бр. 277 од 25.12.2023 | F79: во примена од 02.01.2024
B80: ORT08 | C80: Совети за вежби со помагала и миофункционални вежби | D80: 1326 | E80: бр. 277 од 25.12.2023 | F80: во примена од 02.01.2024
B81: ORT10 | C81: Репаратура со отисок | D81: 2711 | E81: бр. 277 од 25.12.2023 | F81: во примена од 02.01.2024
B82: ORT11 | C82: Студио модел за дијагностика | D82: 3015 | E82: бр. 277 од 25.12.2023 | F82: во примена од 02.01.2024
B83: ORT12 | C83: Селективно состружување и/или регулација на оклузија | D83: 2072 | E83: бр. 277 од 25.12.2023 | F83: во примена од 02.01.2024
B84: ORT13 | C84: Ретенционен апарат | D84: 4551 | E84: бр. 277 од 25.12.2023 | F84: во примена од 02.01.2024
... B90: ORT19 | C90: Специјалистички ортодонтски контролен преглед | D90: 400 | E90: бр. 277 од 25.12.2023 | F90: во примена од 02.01.2024
A91: Р.БР | B91: Шифра | C91: НАЗИВ НА ПАКЕТИ НА ЗДРАВСТВЕНИ УСЛУГИ за Стоматолошки клинички центар | D91: РЕФЕРЕНТНА ЦЕНА | E91: СЛУЖБЕН ВЕСНИК
A92: 1 | C92: Пакети на завршени специјалистичко - консултативни услуги од областа на детска стоматологија ЗА СТОМАТОЛОШКИ КЛИНИЧКИ ЦЕНТАР
B93: ДС01 | C93: Утврдување на дијагноза за циркуларен кариес, чистење на меки и тврди наслаги кај сите заби и полирање и флуоризација кај деца до три годишна возраст | D93: 1350 | E93: бр.151 од 31.10.2011
B94: ДС02 | C94: Залевање на фисури кај деца до тригодишна возраст до 8 заба | D94: 1170 | E94: бр.151 од 31.10.2011
B95: ДС03 | C95: Преглед за утврдување на неправилности во развојот и структурата на забите и/или заболување на пародонтот, отстранување на меки и тврди наслаги и анализа на панорамикс | D95: 700 | E95: бр.151 од 31.10.2011
B96: ДС04 | C96: Реставрација на еден заб при неправилност во форма, големина, боја и структура/ при општо или системско заболување/траума без експониrана пулпа | D96: 1100 | E96: бр.151 од 31.10.2011
B97: ДС05 | C97: Конзервативен третман на кариес на млечни заби (пломбирање) со и без третман на кариес профунда | D97: 950 | E97: бр.151 од 31.10.2011
B98: ДС06 | C98: Ендодонтски третман на млечни заби со примена на витална метода односно со мортална метода односно при гангрена, и дефинитивно затварање (пломбирање) на забот | D98: 1700 | E98: бр. 171 од 19.08.2019 | F98: Пакетот со шифра ДС06 се брише.
B99: ДС06А | C99: Специјалистички преглед со ендодонтски третман на млечни заби (витална метода/мортална метода) и ПРИВРЕМЕНО затворање на забот за специфични случаи | D99: 800 | E99: бр. 171 од 19.08.2019 | F99: Забелешка: За еден заб може да се избере комбинација ДС06А и ДС06Б доколку се извршени сите процедури наведени во пакетите
B100: ДС06Б | C100: Специјалистички преглед со ендодонтски третман на млечни заби (витална метода/мортална метода) и ДЕФИНИТИВНО затворање (пломбирање) на забот за специфични случаи | D100: 1050 | E100: бр. 171 од 19.08.2019
B101: ДС07 | C101: Ендодонтски третман на заби со незавршен раст на корен so plombirawe, или контрола и ревизија на полнењето и пломбирање na zab so nezavr{en rast na koren | D101: 2050 | E101: бр.151 од 31.10.2011
B102: ДС08 | C102: Третман на авулзија / екструзија на заб со незавршен раст на корен (по 2 часа од траумата), со два контролни прегледа и отстранување на шината | D102: 3100 | E102: бр.151 од 31.10.2011
B103: ДС09 | C103: Екстракција на заб кај пациент со општо или системско заболување до 18 год | D103: 1200 | E103: бр.151 од 31.10.2011
B104: ДС10 | C104: Пломбирање на заби кај деца со посебни потреби до 3 заба | D104: 2900 | E104: бр.151 од 31.10.2011
B105: ДС11 | C105: Комбиниран пакет за третман на заби кај деца со посебни потреби до 14 заби (вклучена анестезија) | D105: 5500 | E105: бр. 171 од 19.08.2019
B106: ДС12 | C106: Комбиниран пакет за третман на заби кај деца со посебни потреби над 14 заби (вклучена анестезија) | D106: 6830 | E106: бр. 171 од 19.08.2019
B107: ДС13А | C107: Специјалистички преглед со ендодонтски третман на млечни заби при пулпит (витална/ мортална метода) со ПРИВРЕМЕНО затварање на забот за специфични случаи* | D107: 980 | E107: бр. 171 од 19.08.2019 | F107: Забелешка: За еден заб може да се избере комбинација ДС13А и ДС13Б доколку се извршени сите процедури наведени во пакетите
B108: ДС13Б | C108: Специјалистички преглед со ендодонтски третман на млечни заби при пулпит (витална/ мортална метода) со ДЕФИНИТИВНО затварање на забот за специфични случаи* | D108: 1200 | E108: бр. 171 од 19.08.2019
B109: ДС14А | C109: Специјалистички преглед со ендодонтски третман на млечни заби при гангрени и пародонтити со отстранување на кариес и трепанација за специфични случаи* | D109: 980 | E109: бр. 171 од 19.08.2019 | F109: Забелешка: а еден заб може да се избере комбинација ДС14А, ДС14Б и ДС14В доколку се извршени сите процедури наведени во пакетите
B110: ДС14Б | C110: Специјалистички преглед со ендодонтски третман на млечни заби при гангрени и пародонтити со чистење и ширење на канали со привремено затварање на забот за специфични случаи* | D110: 1150 | E110: бр. 171 од 19.08.2019
B111: ДС14Ц | C111: Специјалистички преглед со ендодонтски третман на млечни заби при гангрени и пародонтити со дефинитивно затварање на забот за специфични случаи* | D111: 950 | E111: бр. 171 од 19.08.2019
B112: ДС15 | C112: Третман на фрактура со експонирана пулпа (три фази) | D112: 780 | E112: бр. 171 од 19.08.2019
B113: ДС16 | C113: Третман на фрактура на корен со два контролни прегледа и отстранување на шината( три фази) | D113: 780 | E113: бр. 171 од 19.08.2019
B114: ДС17 | C114: Френулектомија, гингивектомија и отстранување на полипи со ласер кај деца | D114: 920 | E114: бр. 171 од 19.08.2019
B115: ДС18 | C115: Дезинфекција на инфицирани коренски канали со ласер по заб | D115: 650 | E115: бр. 171 од 19.08.2019
A116: 2 | C116: Пакети и услуги од специјалистичко консултативната забоздравствена заштита од областа на орална патологија и пародонтологија (болести на устата и парадонтот) ЗА СТОМАТОЛОШКИ КЛИНИЧКИ ЦЕНТАР
B117: БУ01 | C117: Утврдување на заболување на парадонтот и негови компликации (наод и мислење) | D117: 380 | E117: бр.151 од 31.10.2011
B118: БУ02 | C118: Обработка (длабока киретажа) на парадонтален џеб по регија до 6 заба со чистење на забен камен | D118: 800 | E118: бр.151 од 31.10.2011
B119: БУ03 | C119: Обработка (длабока киретажа) на парадонтален џеб по регија до 14 заба со чистење на забен камен | D119: 1400 | E119: бр.151 од 31.10.2011
B120: БУ04 | C120: Обработка (длабока киретажа) на парадонтален џеб по регија над 14 заба со чистење на забен камен | D120: 2500 | E120: бр.151 од 31.10.2011
B121: БУ05 | C121: Хируршки зафат на хипетрофична гингива (гингивектомија) со контрола | D121: 1100 | E121: бр.151 од 31.10.2011
B122: БУ06 | C122: Хируршки зафат за продлабочување на вестибулум (периостална сепарација) со контрола и вадење на конци | D122: 1700 | E122: бр.151 од 31.10.2011
B123: БУ07 | C123: Основен пакет за преглед, мислење и третман на локални промени на ниво на орална лигавица | D123: 480 | E123: бр.151 од 31.10.2011
B124: БУ08 | C124: Проширен пакет за преглед, мислење и третман на заболување и орална лигавица со брис за цитологија, земање материјали за алерголошки испитување и земање материјал за биопсија | D124: 600 | E124: бр. 171 од 19.08.2019 | F124: Пакетот со шифра БУ08 се брише.
B125: БУ09 | C125: Терапија на орална лигавица со отстранување на тврди и меки наслаги, остри забни ивици, рани контакти на оклузија и артикулација, физикална и биостимулирачка терапија и контрола | D125: 1460 | E125: бр. 171 од 19.08.2019 | F125: Пакетот со шифра БУ09 се брише.
B126: БУ10 | C126: Преглед и мислење за орални фокуси и фокални инфекции | D126: 640 | E126: бр.151 од 31.10.2011
B127: БУ11 | C127: Хируршки зафат FLAP (по регија) со контрола | D127: 3300 | E127: бр.151 од 31.10.2011
B128: БУ12 | C128: Проширен пакет за преглед , мислење и третман на заболување на оралната лигавица со анализа на брис за цитологија, анализа на резултат од алерголошки испитувања и контролен преглед (две посети) | D128: 1100 | E128: бр. 171 од 19.08.2019
B129: БУ13 | C129: Хируршки зафат за земање на материјал за биопсија со контролен преглед (две посети) | D129: 1300 | E129: бр. 171 од 19.08.2019
B130: БУ14 | C130: Терапија на орална лигавица со отстранување на тврди и меки наслаги, остри забни ивици, рани контакти на оклузија и артикулација и контрола (две посети) | D130: 1180 | E130: бр. 171 од 19.08.2019
B131: БУ15 | C131: Терапија на орална лигавица со физикална и биостимулирачка терапија и контрола (десет посети) | D131: 2300 | E131: бр. 171 од 19.08.2019
B132: БУ16 | C132: Хируршки зафат на хипетрофична гингива со гингивопластика (до 6 заби) и контролен преглед (три посети) | D132: 1900 | E132: бр. 171 од 19.08.2019
B133: БУ17 | C133: Контрола и следење на промените на орална лигавица, испирање и апликација на медикамент - (една посета) | D133: 600 | E133: бр. 171 од 19.08.2019
B134: БУ18 | C134: Инцизија на пародонтален абсцес, испирање и апликација на медикамент и контрола (две посети) | D134: 980 | E134: бр. 171 од 19.08.2019
B135: БУ19 | C135: Резен операција со земање и апликација на слободен сврзноткивен графт со контролен преглед | D135: 2100 | E135: бр. 171 од 19.08.2019
B136: БУ20 | C136: Ексцизија на промени нa орална лигавица со каутеризација | D136: 1100 | E136: бр. 171 од 19.08.2019
A137: 3 | C137: Пакети на завршени специјалистичко - консултативни услуги од областа на болести на заби и ендодонтот - ЗА СТОМАТОЛОШКИ КЛИНИЧКИ ЦЕНТАР
B138: БЗ01 | C138: Ендодонтска терапија на еднокорен заб | D138: 1500 | E138: бр.61 од 17.05.2012
B139: БЗ02 | C139: Ендодонтска терапија на повеќекорен заб | D139: 1950 | E139: бр.61 од 17.05.2012
B140: БЗ03 | C140: Терапија на интерен гранулом | D140: 1900 | E140: бр.61 од 17.05.2012
B141: БЗ04 | C141: Ендодонтска терапија на компликации од протетска рехабилитација | D141: 1850 | E141: бр. 171 од 19.08.2019
B142: БЗ05 | C142: Ендодонтски третман на периапикални лезии | D142: 2350 | E142: бр. 171 од 19.08.2019
B143: БЗ06 | C143: Ретретман на ендодонтски третирани заби | D143: 2300 | E143: бр. 171 од 19.08.2019
B144: БЗ07 | C144: Третман на рест пулпит | D144: 1800 | E144: бр. 171 од 19.08.2019
B145: БЗ08 | C145: Подготовка на заб за интраканален имплант | D145: 2100 | E145: бр.61 од 17.05.2012
B146: БЗ09 | C146: Поставување на парапулпални колчиња кај витални заби со дефинитивно полнење | D146: 1100 | E146: бр. 171 од 19.08.2019
