Workbook

Sheet obrazec ПЛ1-П
B1: ЈЗУ Здравствени домови | L1: ПЛ 1 - П
A3: Здравствена установа:
C5: П Л А Н
B6: на пакети за превентивна здравствена заштита, итна помош и домашно лекување | K6: година.
E8: 2024 година | F8: 2025 година | I8: 2026 година
A9: Р.бр. | B9: Шифра | C9: Опис на примарен пакет | D9: референтна цена | E9: годишно | F9: I полугодие | G9: II полугодие | H9: вкупен износ | I9: I полугодие | K9: II полугодие | M9: Вкупно (I и II полугодие) | N9: Вкупен износ
E10: реализиран вкупен износ | F10: реализиран вкупен износ | G10: проекција вкупен износ | I10: Број на тимови месечно Х 6 | J10: Број на случаи / пациенти | K10: Број на тимови месечно Х 6 | L10: Број на случаи / пациенти
A11: 1 | B11: 2 | C11: 3 | D11: 4 | E11: 5 | F11: 6 | G11: 7 | H11: 8 (6+7) | I11: 9 | J11: 10 | K11: 11 | L11: 12 | M11: 13 (9+10+11+12) | N11: 14 (4*13)
A12: 1 | C12: =IF(O12>3,VLOOKUP(B12,prim_paketi!$A$5:$C$31,2,FALSE),"") | D12: =IF(O12>3,VLOOKUP(B12,prim_paketi!$A$5:$C$31,3,FALSE),"") | H12: =F12+G12 -> 0 | M12: =I12+K12+J12+L12 -> 0 | N12: =IF(O12>=2,D12*M12,0) -> 0 | O12: =LEN(B12) -> 0
A13: 2 | C13: =IF(O13>3,VLOOKUP(B13,prim_paketi!$A$5:$C$31,2,FALSE),"") | D13: =IF(O13>3,VLOOKUP(B13,prim_paketi!$A$5:$C$31,3,FALSE),"") | H13: =F13+G13 -> 0 | M13: =I13+K13+J13+L13 -> 0 | N13: =IF(O13>=2,D13*M13,0) -> 0 | O13: =LEN(B13) -> 0
A14: 3 | C14: =IF(O14>3,VLOOKUP(B14,prim_paketi!$A$5:$C$31,2,FALSE),"") | D14: =IF(O14>3,VLOOKUP(B14,prim_paketi!$A$5:$C$31,3,FALSE),"") | H14: =F14+G14 -> 0 | M14: =I14+K14+J14+L14 -> 0 | N14: =IF(O14>=2,D14*M14,0) -> 0 | O14: =LEN(B14) -> 0
A15: 4 | C15: =IF(O15>3,VLOOKUP(B15,prim_paketi!$A$5:$C$31,2,FALSE),"") | D15: =IF(O15>3,VLOOKUP(B15,prim_paketi!$A$5:$C$31,3,FALSE),"") | H15: =F15+G15 -> 0 | M15: =I15+K15+J15+L15 -> 0 | N15: =IF(O15>=2,D15*M15,0) -> 0 | O15: =LEN(B15) -> 0
A16: 5 | C16: =IF(O16>3,VLOOKUP(B16,prim_paketi!$A$5:$C$31,2,FALSE),"") | D16: =IF(O16>3,VLOOKUP(B16,prim_paketi!$A$5:$C$31,3,FALSE),"") | H16: =F16+G16 -> 0 | M16: =I16+K16+J16+L16 -> 0 | N16: =IF(O16>=2,D16*M16,0) -> 0 | O16: =LEN(B16) -> 0
A17: 6 | C17: =IF(O17>3,VLOOKUP(B17,prim_paketi!$A$5:$C$31,2,FALSE),"") | D17: =IF(O17>3,VLOOKUP(B17,prim_paketi!$A$5:$C$31,3,FALSE),"") | H17: =F17+G17 -> 0 | M17: =I17+K17+J17+L17 -> 0 | N17: =IF(O17>=2,D17*M17,0) -> 0 | O17: =LEN(B17) -> 0
A18: 7 | C18: =IF(O18>3,VLOOKUP(B18,prim_paketi!$A$5:$C$31,2,FALSE),"") | D18: =IF(O18>3,VLOOKUP(B18,prim_paketi!$A$5:$C$31,3,FALSE),"") | H18: =F18+G18 -> 0 | M18: =I18+K18+J18+L18 -> 0 | N18: =IF(O18>=2,D18*M18,0) -> 0 | O18: =LEN(B18) -> 0
A19: 8 | C19: =IF(O19>3,VLOOKUP(B19,prim_paketi!$A$5:$C$31,2,FALSE),"") | D19: =IF(O19>3,VLOOKUP(B19,prim_paketi!$A$5:$C$31,3,FALSE),"") | H19: =F19+G19 -> 0 | M19: =I19+K19+J19+L19 -> 0 | N19: =IF(O19>=2,D19*M19,0) -> 0 | O19: =LEN(B19) -> 0
A20: 9 | C20: =IF(O20>3,VLOOKUP(B20,prim_paketi!$A$5:$C$31,2,FALSE),"") | D20: =IF(O20>3,VLOOKUP(B20,prim_paketi!$A$5:$C$31,3,FALSE),"") | H20: =F20+G20 -> 0 | M20: =I20+K20+J20+L20 -> 0 | N20: =IF(O20>=2,D20*M20,0) -> 0 | O20: =LEN(B20) -> 0
A21: 10 | C21: =IF(O21>3,VLOOKUP(B21,prim_paketi!$A$5:$C$31,2,FALSE),"") | D21: =IF(O21>3,VLOOKUP(B21,prim_paketi!$A$5:$C$31,3,FALSE),"") | H21: =F21+G21 -> 0 | M21: =I21+K21+J21+L21 -> 0 | N21: =IF(O21>=2,D21*M21,0) -> 0 | O21: =LEN(B21) -> 0
A22: 11 | C22: =IF(O22>3,VLOOKUP(B22,prim_paketi!$A$5:$C$31,2,FALSE),"") | D22: =IF(O22>3,VLOOKUP(B22,prim_paketi!$A$5:$C$31,3,FALSE),"") | H22: =F22+G22 -> 0 | M22: =I22+K22+J22+L22 -> 0 | N22: =IF(O22>=2,D22*M22,0) -> 0 | O22: =LEN(B22) -> 0
A23: 12 | C23: =IF(O23>3,VLOOKUP(B23,prim_paketi!$A$5:$C$31,2,FALSE),"") | D23: =IF(O23>3,VLOOKUP(B23,prim_paketi!$A$5:$C$31,3,FALSE),"") | H23: =F23+G23 -> 0 | M23: =I23+K23+J23+L23 -> 0 | N23: =IF(O23>=2,D23*M23,0) -> 0 | O23: =LEN(B23) -> 0
... A31: 20 | C31: =IF(O31>3,VLOOKUP(B31,prim_paketi!$A$5:$C$31,2,FALSE),"") | D31: =IF(O31>3,VLOOKUP(B31,prim_paketi!$A$5:$C$31,3,FALSE),"") | H31: =F31+G31 -> 0 | M31: =I31+K31+J31+L31 -> 0 | N31: =IF(O31>=2,D31*M31,0) -> 0 | O31: =LEN(B31) -> 0
C32: Вкупно: | E32: =SUM(E12:E31) -> 0 | F32: =SUM(F12:F31) -> 0 | G32: =SUM(G12:G31) -> 0 | H32: =SUM(H12:H31) -> 0 | I32: =SUM(I12:I31) -> 0 | J32: =SUM(J12:J31) -> 0 | K32: =SUM(K12:K31) -> 0 | L32: =SUM(L12:L31) -> 0 | ... N32: =SUM(N12:N31) -> 0
B34: Во | D34: година. | E34: Составил: | J34: Д и р е к т о р

Sheet prim_paketi
A2: РЕФЕРЕНТНИ ЦЕНИ НА ПАКЕТИ НА УСЛУГИ ВО ПРЕВЕНТИВНА ЗДРАВСТВЕНА ЗАШТИТА И ИТНА МЕДИЦИНСКА ПОМОШ СО ДОМАШНО ЛЕКУВАЊЕ
A4: Шифра | B4: Вид на здравствена услуга | C4: референтна цена | D4: СЛУЖБЕН ВЕСНИК | E4: забелешка
A5: ИМП1 | B5: Итна помош | C5: 177000 | D5: бр.151 од 31.10.2011
A6: ПРЕ1 | B6: Домашно лекување | C6: 136500 | D6: бр.151 од 31.10.2011
A7: ПРЕ2 | B7: Дежурна служба | C7: 76500 | D7: бр.151 од 31.10.2011
A8: ПРЕ3 | B8: Систематски преглед, вакцинации и советувалиште | C8: 94700 | D8: бр.151 од 31.10.2011
A9: ПРЕ4 | B9: Превентивна стоматологија | C9: 113000 | D9: бр.151 од 31.10.2011
A10: ПРЕ5 | B10: Итна стоматологија | C10: 96200 | D10: бр.151 од 31.10.2011
A11: ПРЕ6 | B11: Патронажа по сестра | C11: 40000 | D11: бр.151 од 31.10.2011
A12: ПРЕ7 | B12: Преглед и стручно мислење за здравствена состојба на осигуреникот од страна на лекарска комисија | C12: 638000 | D12: бр.171 од 30.12.2010
A13: ПРЕ8 | B13: Рурален тим | C13: 90300 | D13: бр.138 од 17.09.2014 | E13: во примена од 26.09.2014
A14: ПРЕ9 | B14: Здравствена заштита во КПУ | C14: 120000 | D14: бр.130 од 27.06.2019
A15: ФПР1 | B15: Функционална проценка на деца и младинци (преглед и стручно мислење) | C15: 252000 | D15: бр.64 од 23.03.2023 | E15: важи само за ЈЗУ Здравствен дом Скопје
B16: Пакети во примарна здравствена заштита од областа на општа медицина за осигурени лица од држави со кои Република С. Македонија има склучено (преземено) договор за социјално осигурување
A17: ОПЗЗ01 | B17: Основен пакет | C17: 630 | D17: бр. 56 од 17.03.2026 | E17: во примена од 25.03.2026
A18: ОПЗЗ02 | B18: Проширен лекарски преглед со апликација на терапија | C18: 960 | D18: бр. 56 од 17.03.2026
A19: ОПЗЗ03 | B19: Проширен лекарски преглед со апликација на терапија и ЕКГ | C19: 1680 | D19: бр. 56 од 17.03.2026
A20: ОПЗЗ04 | B20: Основен пакет со згрижување на мала рана со три до пет преврски | C20: 1420 | D20: бр. 56 од 17.03.2026
A21: ОПЗЗ05 | B21: Пакет од три до пет преврски | C21: 550 | D21: бр. 56 од 17.03.2026
B22: Пакети во примарна здравствена заштита од областа на гинекологија за осигурени лица од држави со кои Република С. Македонија има склучено (преземено) договор за социјално осигурување
A23: ГПЗЗ01 | B23: Итен гинеколошки/ акушерски преглед без ЕХО | C23: 800 | D23: бр. 56 од 17.03.2026 | E23: во примена од 25.03.2026
A24: ГПЗЗ02 | B24: Итен акушерски / гинеколошки преглед со ЕХО | C24: 1470 | D24: бр. 56 од 17.03.2026
B25: Пакети во примарна здравствена заштита од областа на стоматологија за осигурени лица од држави со кои Република С. Македонија има склучено (преземено) договор за социјално осигурување
A26: СПЗЗ01 | B26: Ендодонтски третман за едно/повеќекорен заб во ПЗЗ | C26: 1250 | D26: бр. 56 од 17.03.2026 | E26: во примена од 25.03.2026
A27: СПЗЗ02 | B27: Конзервативен третман при фрактура на заб | C27: 1170 | D27: бр. 56 од 17.03.2026
A28: СПЗЗ03 | B28: Киретажа на пародонтален џеб | C28: 750 | D28: бр. 56 од 17.03.2026
A29: СПЗЗ04 | B29: Инцизија на пародонтален апсцес | C29: 860 | D29: бр. 56 од 17.03.2026
A30: СПЗЗ05 | B30: Вадење заб | C30: 940 | D30: бр. 56 од 17.03.2026
A31: СПЗЗ06 | B31: Повреда на меки ткива/крварење/алвеолит | C31: 1250 | D31: бр. 56 од 17.03.2026
