Workbook

Sheet Почетна страна
B2: П Л А Н
B3: на видот и обемот на ДСГ здравствени услуги и пакети за завршени здравствени услуги во болничка здравствена заштита (акутни болнички случаи кои не се искажуваат според ДС методата) на осигурените лица за 2026 година.
C8: Главна дијагностичка категорија (ДСГ групи: A01-A42) ТРАНСПЛАНТАЦИИ, ЕКСПЛАНТАЦИЈА, МЕХАНИЧКА ВЕНТИЛАЦИЈА И СЛ.
C9: Главна дијагностичка категорија (ДСГ групи: B01-B81) БОЛЕСТИ И ПОРЕМЕТУВАЊА НА НЕРВНИОТ СИСТЕМ
C10: Главна дијагностичка категорија (ДСГ групи: C01-C63, Пакети ХОМ1-ХОМ14) БОЛЕСТИ И ПОРЕМЕТУВАЊА НА ОКОТО
C11: Главна дијагностичка категорија (ДСГ групи: D01-D67) БОЛЕСТИ И ПОРЕМЕТУВАЊА НА УВО НОС И ГРЛО
C12: Главна дијагностичка категорија (ДСГ групи: E01-E75, ТБЦ1-ТБЦ3) БОЛЕСТИ И ПОРЕМЕТУВАЊА НА РЕСПИРАТОРЕН СИСТЕМ
C13: Главна дијагностичка категорија (ДСГ групи: F01-F75, РТС1-РТС2, БЛК1-БЛК11) БОЛЕСТИ И ПОРЕМЕТУВАЊА НА ЦИРКУЛАТОРЕН СИСТЕМ
C14: Главна дијагностичка категорија (ДСГ групи: G01-G70, БЛГ1) БОЛЕСТИ И ПОРЕМЕТУВАЊА НА ДИГЕСТИВЕН СИСТЕМ
C15: Главна дијагностичка категорија (ДСГ групи: H01-H64) БОЛЕСТИ И ПОРЕМЕТУВАЊЕ НА ХЕПАТОБИЛИЈАРЕН СИСТЕМ И ПАНКРЕАС
C16: Главна дијагностичка категорија (ДСГ групи: I01-I79, БЛО1-БЛО2) БОЛЕСТИ И ПОРЕМЕТУВАЊА НА МУСКУЛНО-КОСКЕН И СВРЗЕН СИСТЕМ
C17: Главна дијагностичка категорија (ДСГ групи: J01-J68, ХПД1-ХПД6) БОЛЕСТИ И ПОРЕМЕТУВАЊА НА КОЖАТА ПОТКОЖНОТО ТКИВО И ДОЈКАТА
C18: Главна дијагностичка категорија (ДСГ групи: K01-K64) БОЛЕСТИ И ПОРЕМЕТУВАЊА НА ЖЛЕЗДИ СО ВНАТРЕШНО ЛАЧЕЊЕ, ИСХРАНА И МЕТАБОЛИЗАМ
C19: Главна дијагностичка категорија (ДСГ групи: L02-L67, БЛУ1-БЛУ3) БОЛЕСТИ И ПОРЕМЕТУВАЊА НА БУБРЕГ И УРИНАРЕН СИСТЕМ
... C31: Главна дијагностичка категорија (ДСГ групи: Z01-Z65) ОСТАНАТИ ФАКТОРИ КОИ ВЛИЈААТ НА ЗДРАВЈЕТО

Sheet План-ДСГ-MDC-A
A1: ЈЗУ Универзитетски клиники, клинички болници, општи болници, специјални болници | I1: ПЛ 3 Б - ДСГ MDC-A | O1: Врати се на почетна страна
B3: Здравствена установа | C3: ________________________________________________________________________
A5: П Л А Н
A6: на видот и обемот на ДСГ здравствени услуги и пакети за завршени здравствени услуги во болничка здравствена заштита (акутни болнички случаи кои не се искажуваат според ДСГ методата) на осигурените лица за ___________ година.
A7: Главна дијагностичка категорија (PRE-MDC: A01-A42) ТРАНСПЛАНТАЦИИ, ЕКСПЛАНТАЦИЈА, МЕХАНИЧКА ВЕНТИЛАЦИЈА И СЛ.
A9: Ред.Број | B9: Шифра на ДСГ услуга | C9: Назив на ДСГ услуга | D9: Референтнa ценa | E9: 2026 | K9: 2025 (Реализација јануари- септември и проекција до декември) | M9: 2024
E10: I полугодие | G10: II полугодие | I10: Вкупно
E11: бр. на случаи | F11: износ по ДСГ | G11: бр. на случаи | H11: износ по ДСГ | I11: бр. на услуги | J11: износ по ДСГ | K11: Вкупен бр. на услуги | L11: Вкупен износ по ДСГ | M11: Вкупен бр. на услуги | N11: Вкупен износ по ДСГ
A12: 1 | B12: 2 | C12: 3 | D12: 4 | E12: 5 | F12: 6 | G12: 7 | H12: 8 | I12: 9=(5+6+7+8) | J12: 10(4*9) | K12: 11 | L12: 12 | M12: 13 | N12: 14
A13: 1 | B13: A01Z | C13: Трансплантација на црн дроб | D13: 2721300 | F13: =E13*D13 -> 0 | H13: =G13*D13 -> 0 | I13: =E13+G13 -> 0 | J13: =I13*D13 -> 0 | L13: =K13*D13 -> 0 | N13: =M13*D13 -> 0
A14: 2 | B14: A03Z | C14: Трансплантација на бел дроб или на срце/бел дроб | D14: 594410 | F14: =E14*D14 -> 0 | H14: =G14*D14 -> 0 | I14: =E14+G14 -> 0 | J14: =I14*D14 -> 0 | L14: =K14*D14 -> 0 | N14: =M14*D14 -> 0
A15: 3 | B15: A05Z | C15: Трансплантација на срце | D15: 2349500 | F15: =E15*D15 -> 0 | H15: =G15*D15 -> 0 | I15: =E15+G15 -> 0 | J15: =I15*D15 -> 0 | L15: =K15*D15 -> 0 | N15: =M15*D15 -> 0
A16: 4 | B16: A06A | C16: Трахеостомија и вентилација поголема од 96 часа | D16: 350750 | F16: =E16*D16 -> 0 | H16: =G16*D16 -> 0 | I16: =E16+G16 -> 0 | J16: =I16*D16 -> 0 | L16: =K16*D16 -> 0 | N16: =M16*D16 -> 0
A17: 5 | B17: A06B | C17: Трахеостомија и вентилација помала од 96 часа | D17: 40388 | F17: =E17*D17 -> 0 | H17: =G17*D17 -> 0 | I17: =E17+G17 -> 0 | J17: =I17*D17 -> 0 | L17: =K17*D17 -> 0 | N17: =M17*D17 -> 0
A18: 6 | B18: A07Z | C18: Алогенична трансплантација на коскена срж од сроден донор | D18: 983700 | F18: =E18*D18 -> 0 | H18: =G18*D18 -> 0 | I18: =E18+G18 -> 0 | J18: =I18*D18 -> 0 | L18: =K18*D18 -> 0 | N18: =M18*D18 -> 0
A19: 7 | B19: A08A | C19: Автологна транасплантација на коскена срж со катастрофални КК | D19: 818174 | F19: =E19*D19 -> 0 | H19: =G19*D19 -> 0 | I19: =E19+G19 -> 0 | J19: =I19*D19 -> 0 | L19: =K19*D19 -> 0 | N19: =M19*D19 -> 0
A20: 8 | B20: A08B | C20: Автологна транасплантација на коскена срж без катастрофални КК | D20: 559100 | F20: =E20*D20 -> 0 | H20: =G20*D20 -> 0 | I20: =E20+G20 -> 0 | J20: =I20*D20 -> 0 | L20: =K20*D20 -> 0 | N20: =M20*D20 -> 0
A21: 9 | B21: A09A | C21: Трансплантација на бубрег со трансплантација на панкреас или со катастрофални КК | D21: 1115995 | F21: =E21*D21 -> 0 | H21: =G21*D21 -> 0 | I21: =E21+G21 -> 0 | J21: =I21*D21 -> 0 | L21: =K21*D21 -> 0 | N21: =M21*D21 -> 0
A22: 10 | B22: A09B | C22: Трансплантација на бубрег без трансплантација на панкреас , без катастрофални КК | D22: 747143 | F22: =E22*D22 -> 0 | H22: =G22*D22 -> 0 | I22: =E22+G22 -> 0 | J22: =I22*D22 -> 0 | L22: =K22*D22 -> 0 | N22: =M22*D22 -> 0
A23: 11 | B23: A10Z | C23: Трансплантација на рожница | D23: 201300 | F23: =E23*D23 -> 0 | H23: =G23*D23 -> 0 | I23: =E23+G23 -> 0 | J23: =I23*D23 -> 0 | L23: =K23*D23 -> 0 | N23: =M23*D23 -> 0
A24: 12 | B24: A11Z | C24: Припрема на донор, мултиорганска експлантација и експлантација на ткиво | D24: 315250 | F24: =E24*D24 -> 0 | H24: =G24*D24 -> 0 | I24: =E24+G24 -> 0 | J24: =I24*D24 -> 0 | L24: =K24*D24 -> 0 | N24: =M24*D24 -> 0
... A32: 20 | B32: A42Z | C32: Серолошка обработка на донорот на органи/ткива | D32: 13581 | F32: =E32*D32 -> 0 | H32: =G32*D32 -> 0 | I32: =E32+G32 -> 0 | J32: =I32*D32 -> 0 | L32: =K32*D32 -> 0 | N32: =M32*D32 -> 0
A33: 21
A34: 22
A35: 23
A36: 24
A37: 25
A38: 26
A39: 27
A40: 28
A41: 29
A42: 30
C43: ВКУПНО | E43: =SUM(E13:E42) -> 0 | F43: =SUM(F13:F42) -> 0 | G43: =SUM(G13:G42) -> 0 | H43: =SUM(H13:H42) -> 0 | I43: =SUM(I13:I42) -> 0 | J43: =SUM(J13:J42) -> 0 | K43: =SUM(K13:K42) -> 0 | L43: =SUM(L13:L42) -> 0 | ... N43: =SUM(N13:N42) -> 0
B45: ДСГ здравствени услуги по тип на нега
B46: Шифра на ДСГ група | C46: тип на нега | E46: План за 2026 | N46: 2025 (Реализација јануари- септември и проекција до декември) | Q46: 2024
E47: I полугодие | H47: II полугодие | K47: Вкупно
E48: бр. на случаи | F48: Износ | G48: % од бр. на случаи | H48: бр. на случаи | I48: Износ | J48: % од бр. на случаи | K48: бр. на случаи | L48: Износ | M48: % од бр. на случаи | N48: бр. на случаи | O48: Износ | P48: % од бр. на случаи | Q48: бр. на случаи | R48: Износ | S48: % од бр. на случаи
B49: A01-A15 | C49: Хируршки ДСГ групи | E49: =SUM(E13:E28) -> 0 | F49: =SUM(F13:F28) -> 0 | G49: =E49/$E$43 -> #DIV/0! | H49: =SUM(G13:G28) -> 0 | I49: =SUM(H13:H28) -> 0 | J49: =H49/$G$43 -> #DIV/0! | K49: =SUM(I13:I28) -> 0 | L49: =SUM(J13:J28) -> 0 | M49: =K49/$I$43 -> #DIV/0! | N49: =SUM(K13:K28) -> 0 | O49: =SUM(L13:L28) -> 0 | P49: =N49/$K$43 -> #DIV/0! | Q49: =SUM(M13:M28) -> 0 | R49: =SUM(N13:N28) -> 0 | S49: =Q49/$M$43 -> #DIV/0!
B50: нема | C50: Медицински (интернистички) ДСГ групи | E50: 0 | F50: 0 | G50: =E50/$E$43 -> #DIV/0! | H50: 0 | I50: 0 | J50: =H50/$G$43 -> #DIV/0! | K50: 0 | L50: 0 | M50: =K50/$I$43 -> #DIV/0! | N50: 0 | O50: 0 | P50: =N50/$K$43 -> #DIV/0! | Q50: 0 | R50: 0 | S50: =Q50/$M$43 -> #DIV/0!
B51: A40-A42 | C51: Останати ДСГ групи | E51: =SUM(E29:E32) -> 0 | F51: =SUM(F29:F32) -> 0 | G51: =E51/$E$43 -> #DIV/0! | H51: =SUM(G29:G32) -> 0 | I51: =SUM(H29:H32) -> 0 | J51: =H51/$G$43 -> #DIV/0! | K51: =SUM(I29:I32) -> 0 | L51: =SUM(J29:J32) -> 0 | M51: =K51/$I$43 -> #DIV/0! | N51: =SUM(K29:K32) -> 0 | O51: =SUM(L29:L32) -> 0 | P51: =N51/$K$43 -> #DIV/0! | Q51: =SUM(M29:M32) -> 0 | R51: =SUM(N29:N32) -> 0 | S51: =Q51/$M$43 -> #DIV/0!
...

Sheet План-ДСГ-MDC-B
A1: ЈЗУ Универзитетски клиники, клинички болници, општи болници, специјални болници | I1: ПЛ 3 Б - ДСГ MDC-B | O1: Врати се на почетна страна
B3: Здравствена установа | C3: ________________________________________________________________________
A5: П Л А Н
A6: на видот и обемот на ДСГ здравствени услуги и пакети за завршени здравствени услуги во болничка здравствена заштита (акутни болнички случаи кои не се искажуваат според ДСГ методата) на осигурените лица за ___________ година.
A7: Главна дијагностичка категорија (MDC: B01-B81) БОЛЕСТИ И ПОРЕМЕТУВАЊА НА НЕРВНИОТ СИСТЕМ
A9: Ред.Број | B9: Шифра на ДСГ услуга | C9: Назив на ДСГ услуга | D9: Референтнa ценa | E9: 2026 | K9: 2025 (Реализација јануари- септември и проекција до декември) | M9: 2024
E10: I полугодие | G10: II полугодие | I10: Вкупно
E11: бр. на случаи | F11: износ по ДСГ | G11: бр. на случаи | H11: износ по ДСГ | I11: бр. на услуги | J11: износ по ДСГ | K11: Вкупен бр. на услуги | L11: Вкупен износ по ДСГ | M11: Вкупен бр. на услуги | N11: Вкупен износ по ДСГ
A12: 1 | B12: 2 | C12: 3 | D12: 4 | E12: 5 | F12: 6 | G12: 7 | H12: 8 | I12: 9=(5+6+7+8) | J12: 10(4*9) | K12: 11 | L12: 12 | M12: 13 | N12: 14
A13: 1 | B13: B01Z | C13: Ревизија на вентрикуларен шант | D13: 60008 | F13: =E13*D13 -> 0 | H13: =G13*D13 -> 0 | I13: =E13+G13 -> 0 | J13: =I13*D13 -> 0 | L13: =K13*D13 -> 0 | N13: =M13*D13 -> 0
A14: 2 | B14: B02A | C14: Краниотомија со катастрофални КК | D14: 132210 | F14: =E14*D14 -> 0 | H14: =G14*D14 -> 0 | I14: =E14+G14 -> 0 | J14: =I14*D14 -> 0 | L14: =K14*D14 -> 0 | N14: =M14*D14 -> 0
A15: 3 | B15: B02B | C15: Краниотомија со тешки или умерени КК | D15: 105967 | F15: =E15*D15 -> 0 | H15: =G15*D15 -> 0 | I15: =E15+G15 -> 0 | J15: =I15*D15 -> 0 | L15: =K15*D15 -> 0 | N15: =M15*D15 -> 0
A16: 4 | B16: B02C | C16: Краниотомија без КК | D16: 102121 | F16: =E16*D16 -> 0 | H16: =G16*D16 -> 0 | I16: =E16+G16 -> 0 | J16: =I16*D16 -> 0 | L16: =K16*D16 -> 0 | N16: =M16*D16 -> 0
A17: 5 | B17: B03A | C17: Спинални процедури со катастрофални или тешки КК | D17: 106722 | F17: =E17*D17 -> 0 | H17: =G17*D17 -> 0 | I17: =E17+G17 -> 0 | J17: =I17*D17 -> 0 | L17: =K17*D17 -> 0 | N17: =M17*D17 -> 0
A18: 6 | B18: B03B | C18: Спинални процедури без катастрофални или тешки КК | D18: 54172 | F18: =E18*D18 -> 0 | H18: =G18*D18 -> 0 | I18: =E18+G18 -> 0 | J18: =I18*D18 -> 0 | L18: =K18*D18 -> 0 | N18: =M18*D18 -> 0
A19: 7 | B19: B04A | C19: Екстракранијални васкуларни процедури со катастрофални или тешки КК | D19: 143119 | F19: =E19*D19 -> 0 | H19: =G19*D19 -> 0 | I19: =E19+G19 -> 0 | J19: =I19*D19 -> 0 | L19: =K19*D19 -> 0 | N19: =M19*D19 -> 0
A20: 8 | B20: B04B | C20: Екстракранијални васкуларни процедури без катастрофални или тешки КК | D20: 136464 | F20: =E20*D20 -> 0 | H20: =G20*D20 -> 0 | I20: =E20+G20 -> 0 | J20: =I20*D20 -> 0 | L20: =K20*D20 -> 0 | N20: =M20*D20 -> 0
A21: 9 | B21: B05Z | C21: Ослободување од Карпал Тунел синдром | D21: 9179 | F21: =E21*D21 -> 0 | H21: =G21*D21 -> 0 | I21: =E21+G21 -> 0 | J21: =I21*D21 -> 0 | L21: =K21*D21 -> 0 | N21: =M21*D21 -> 0
A22: 10 | B22: B06A | C22: Процедури за церебрална одземеност, мускулна дистрофија, невропатија со катастрофални или тешки КК | D22: 83947 | F22: =E22*D22 -> 0 | H22: =G22*D22 -> 0 | I22: =E22+G22 -> 0 | J22: =I22*D22 -> 0 | L22: =K22*D22 -> 0 | N22: =M22*D22 -> 0
A23: 11 | B23: B06B | C23: Процедури за церебрална одземеност, мускулна дистрофија, невропатија без катастрофални или тешки КК | D23: 34500 | F23: =E23*D23 -> 0 | H23: =G23*D23 -> 0 | I23: =E23+G23 -> 0 | J23: =I23*D23 -> 0 | L23: =K23*D23 -> 0 | N23: =M23*D23 -> 0
A24: 12 | B24: B07A | C24: Процедури на периферни и кранијални нерви и други процедури на нервен систем со КК | D24: 55162 | F24: =E24*D24 -> 0 | H24: =G24*D24 -> 0 | I24: =E24+G24 -> 0 | J24: =I24*D24 -> 0 | L24: =K24*D24 -> 0 | N24: =M24*D24 -> 0
... A65: 53 | B65: B81B | C65: Други пореметувања на нервниот систем без катастрофални или тешки КК | D65: 19191 | F65: =E65*D65 -> 0 | H65: =G65*D65 -> 0 | I65: =E65+G65 -> 0 | J65: =I65*D65 -> 0 | L65: =K65*D65 -> 0 | N65: =M65*D65 -> 0
C67: ВКУПНО | E67: =SUM(E13:E66) -> 0 | F67: =SUM(F13:F66) -> 0 | G67: =SUM(G13:G66) -> 0 | H67: =SUM(H13:H66) -> 0 | I67: =SUM(I13:I66) -> 0 | J67: =SUM(J13:J66) -> 0 | K67: =SUM(K13:K66) -> 0 | L67: =SUM(L13:L66) -> 0 | ... N67: =SUM(N13:N66) -> 0
B69: ДСГ здравствени услуги по тип на нега
B70: Шифра на ДСГ група | C70: тип на нега | E70: План за 2026 | N70: 2025 (Реализација јануари- септември и проекција до декември) | Q70: 2024
E71: I полугодие | H71: II полугодие | K71: Вкупно
E72: бр. на случаи | F72: Износ | G72: % од бр. на случаи | H72: бр. на случаи | I72: Износ | J72: % од бр. на случаи | K72: бр. на случаи | L72: Износ | M72: % од бр. на случаи | N72: бр. на случаи | O72: Износ | P72: % од бр. на случаи | Q72: бр. на случаи | R72: Износ | S72: % од бр. на случаи
B73: B01-B07 | C73: Хируршки ДСГ групи | E73: =SUM(E13:E25) -> 0 | F73: =SUM(F13:F25) -> 0 | G73: =E73/$E$67 -> #DIV/0! | H73: =SUM(G13:G25) -> 0 | I73: =SUM(H13:H25) -> 0 | J73: =H73/$G$67 -> #DIV/0! | K73: =SUM(I13:I25) -> 0 | L73: =SUM(J13:J25) -> 0 | M73: =K73/$I$67 -> #DIV/0! | N73: =SUM(K13:K25) -> 0 | O73: =SUM(L13:L25) -> 0 | P73: =N73/$K$67 -> #DIV/0! | Q73: =SUM(M13:M25) -> 0 | R73: =SUM(N13:N25) -> 0 | S73: =Q73/$M$67 -> #DIV/0!
B74: B60-B81 | C74: Медицински (интернистички) ДСГ групи | E74: =SUM(E28:E66) -> 0 | F74: =SUM(F28:F66) -> 0 | G74: =E74/$E$67 -> #DIV/0! | H74: =SUM(G28:G66) -> 0 | I74: =SUM(H28:H66) -> 0 | J74: =H74/$G$67 -> #DIV/0! | K74: =SUM(I28:I66) -> 0 | L74: =SUM(J28:J66) -> 0 | M74: =K74/$I$67 -> #DIV/0! | N74: =SUM(K28:K66) -> 0 | O74: =SUM(L28:L66) -> 0 | P74: =N74/$K$67 -> #DIV/0! | Q74: =SUM(M28:M66) -> 0 | R74: =SUM(N28:N66) -> 0 | S74: =Q74/$M$67 -> #DIV/0!
B75: B40-B41 | C75: Останати ДСГ групи | E75: =SUM(E26:E27) -> 0 | F75: =SUM(F26:F27) -> 0 | G75: =E75/$E$67 -> #DIV/0! | H75: =SUM(G26:G27) -> 0 | I75: =SUM(H26:H27) -> 0 | J75: =H75/$G$67 -> #DIV/0! | K75: =SUM(I26:I27) -> 0 | L75: =SUM(J26:J27) -> 0 | M75: =K75/$I$67 -> #DIV/0! | N75: =SUM(K26:K27) -> 0 | O75: =SUM(L26:L27) -> 0 | P75: =N75/$K$67 -> #DIV/0! | Q75: =SUM(M26:M27) -> 0 | R75: =SUM(N26:N27) -> 0 | S75: =Q75/$M$67 -> #DIV/0!
A77: Во _____________________на _________________ година. | E77: Составил,_______________________
F79: Д и р е к т о р,
F80: ______________

Sheet План-ДСГ-MDC-C
A1: ЈЗУ Универзитетски клиники, клинички болници, општи болници, специјални болници | I1: ПЛ 3 Б - ДСГ MDC-C | O1: Врати се на почетна страна
B3: Здравствена установа | C3: ________________________________________________________________________
A5: П Л А Н
A6: на видот и обемот на ДСГ здравствени услуги и пакети за завршени здравствени услуги во болничка здравствена заштита (акутни болнички случаи кои не се искажуваат според ДСГ методата) на осигурените лица за ___________ година.
A7: Главна дијагностичка категорија (MDC: C01-C63, ХОМ1-ХОМ14) БОЛЕСТИ И ПОРЕМЕТУВАЊА НА ОКОТО
A9: Ред.Број | B9: Шифра на ДСГ услуга | C9: Назив на ДСГ услуга | D9: Референтнa ценa | E9: 2026 | K9: 2025 (Реализација јануари- септември и проекција до декември) | M9: 2024
E10: I полугодие | G10: II полугодие | I10: Вкупно
E11: бр. на случаи | F11: износ по ДСГ | G11: бр. на случаи | H11: износ по ДСГ | I11: бр. на услуги | J11: износ по ДСГ | K11: Вкупен бр. на услуги | L11: Вкупен износ по ДСГ | M11: Вкупен бр. на услуги | N11: Вкупен износ по ДСГ
A12: 1 | B12: 2 | C12: 3 | D12: 4 | E12: 5 | F12: 6 | G12: 7 | H12: 8 | I12: 9=(5+6+7+8) | J12: 10(4*9) | K12: 11 | L12: 12 | M12: 13 | N12: 14
A13: 1 | B13: C01Z | C13: Процедури за пенетрирачки повреди на око | D13: 31593 | F13: =E13*D13 -> 0 | H13: =G13*D13 -> 0 | I13: =E13+G13 -> 0 | J13: =I13*D13 -> 0 | L13: =K13*D13 -> 0 | N13: =M13*D13 -> 0
A14: 2 | B14: C02Z | C14: Процедури за отстранување на очно јаболко и процедури на орбитата | D14: 25278 | F14: =E14*D14 -> 0 | H14: =G14*D14 -> 0 | I14: =E14+G14 -> 0 | J14: =I14*D14 -> 0 | L14: =K14*D14 -> 0 | N14: =M14*D14 -> 0
A15: 3 | B15: C03Z | C15: Процедури на мрежницата | D15: 27727 | F15: =E15*D15 -> 0 | H15: =G15*D15 -> 0 | I15: =E15+G15 -> 0 | J15: =I15*D15 -> 0 | L15: =K15*D15 -> 0 | N15: =M15*D15 -> 0
A16: 4 | B16: C04Z | C16: Големи процедури на рожницата , белката и конјуктивата | D16: 24808 | F16: =E16*D16 -> 0 | H16: =G16*D16 -> 0 | I16: =E16+G16 -> 0 | J16: =I16*D16 -> 0 | L16: =K16*D16 -> 0 | N16: =M16*D16 -> 0
A17: 5 | B17: C05Z | C17: Дакриоцисториностомија | D17: 23376 | F17: =E17*D17 -> 0 | H17: =G17*D17 -> 0 | I17: =E17+G17 -> 0 | J17: =I17*D17 -> 0 | L17: =K17*D17 -> 0 | N17: =M17*D17 -> 0
A18: 6 | B18: C10Z | C18: Процедури за страбизам | D18: 19690 | F18: =E18*D18 -> 0 | H18: =G18*D18 -> 0 | I18: =E18+G18 -> 0 | J18: =I18*D18 -> 0 | L18: =K18*D18 -> 0 | N18: =M18*D18 -> 0
A19: 7 | B19: C11Z | C19: Процедури на очниот капак | D19: 13326 | F19: =E19*D19 -> 0 | H19: =G19*D19 -> 0 | I19: =E19+G19 -> 0 | J19: =I19*D19 -> 0 | L19: =K19*D19 -> 0 | N19: =M19*D19 -> 0
A20: 8 | B20: C12Z | C20: Други процедури на рожницата , белката и конјуктивата | D20: 9957 | F20: =E20*D20 -> 0 | H20: =G20*D20 -> 0 | I20: =E20+G20 -> 0 | J20: =I20*D20 -> 0 | L20: =K20*D20 -> 0 | N20: =M20*D20 -> 0
A21: 9 | B21: C13Z | C21: Процедури на солзните жлезди и канали | D21: 7634 | F21: =E21*D21 -> 0 | H21: =G21*D21 -> 0 | I21: =E21+G21 -> 0 | J21: =I21*D21 -> 0 | L21: =K21*D21 -> 0 | N21: =M21*D21 -> 0
A22: 10 | B22: C14Z | C22: Други процедури на окото | D22: 6901 | F22: =E22*D22 -> 0 | H22: =G22*D22 -> 0 | I22: =E22+G22 -> 0 | J22: =I22*D22 -> 0 | L22: =K22*D22 -> 0 | N22: =M22*D22 -> 0
A23: 11 | B23: C15A | C23: Сложени процедури на глауком и катаракта | D23: 17279 | F23: =E23*D23 -> 0 | H23: =G23*D23 -> 0 | I23: =E23+G23 -> 0 | J23: =I23*D23 -> 0 | L23: =K23*D23 -> 0 | N23: =M23*D23 -> 0
A24: 12 | B24: C15B | C24: Сложени процедури на глауком и катаракта ,истиот ден | D24: 10773 | F24: =E24*D24 -> 0 | H24: =G24*D24 -> 0 | I24: =E24+G24 -> 0 | J24: =I24*D24 -> 0 | L24: =K24*D24 -> 0 | N24: =M24*D24 -> 0
... A46: 45 | B46: ХОМ14 | C46: Радиална и лимбална кератoтомија на две очи | D46: 25000 | F46: =E46*D46 -> 0 | H46: =G46*D46 -> 0 | I46: =E46+G46 -> 0 | J46: =I46*D46 -> 0 | L46: =K46*D46 -> 0 | N46: =M46*D46 -> 0
C48: ВКУПНО | E48: =SUM(E13:E47) -> 0 | F48: =SUM(F13:F47) -> 0 | G48: =SUM(G13:G47) -> 0 | H48: =SUM(H13:H47) -> 0 | I48: =SUM(I13:I47) -> 0 | J48: =SUM(J13:J47) -> 0 | K48: =SUM(K13:K47) -> 0 | L48: =SUM(L13:L47) -> 0 | ... N48: =SUM(N13:N47) -> 0
B50: ДСГ здравствени услуги по тип на нега
B51: Шифра на ДСГ група | C51: тип на нега | E51: План за 2026 | N51: 2025 (Реализација јануари- септември и проекција до декември) | Q51: 2024
E52: I полугодие | H52: II полугодие | K52: Вкупно
E53: бр. на случаи | F53: Износ | G53: % од бр. на случаи | H53: бр. на случаи | I53: Износ | J53: % од бр. на случаи | K53: бр. на случаи | L53: Износ | M53: % од бр. на случаи | N53: бр. на случаи | O53: Износ | P53: % од бр. на случаи | Q53: бр. на случаи | R53: Износ | S53: % од бр. на случаи
B54: C01-C17, ХОМ01-ХОМ07, ХОМ09-ХОМ14 | C54: Хируршки ДСГ групи | E54: =SUM(E13:E28)+E35+E36+E37+E38+E39+E41+E42+E43+E44+E45+E46 -> 0 | F54: =SUM(F13:F28)+F35+F36+F37+F38+F39+F41+F42+F43+F44+F45+F46 -> 0 | G54: =E54/$E$48 -> #DIV/0! | H54: =SUM(G13:G28)+G35+G36+G37+G38+G39+G41+G42+G43+G44+G45+G46 -> 0 | I54: =SUM(H13:H28)+H35+H36+H37+H38+H39+H41+H42+H43+H44+H45+H46 -> 0 | J54: =H54/$G$48 -> #DIV/0! | K54: =SUM(I13:I28)+I35+I36+I37+I38+I39+I41+I42+I43+I44+I45+I46 -> 0 | L54: =SUM(J13:J28)+J35+J36+J37+J38+J39+J41+J42+J43+J44+J45+J46 -> 0 | M54: =K54/$I$48 -> #DIV/0! | N54: =SUM(K13:K28)+K35+K36+K37+K38+K39+K41+K42+K43+K44+K45+K46 -> 0 | O54: =SUM(L13:L28)+L35+L36+L37+L38+L39+L41+L42+L43+L44+L45+L46 -> 0 | P54: =N54/$K$48 -> #DIV/0! | Q54: =SUM(M13:M28)+M35+M36+M37+M38+M39+M41+M42+M43+M44+M45+M46 -> 0 | R54: =SUM(N13:N28)+N35+N36+N37+N38+N39+N41+N42+N43+N44+N45+N46 -> 0 | S54: =Q54/$M$48 -> #DIV/0!
B55: C60-C63, ХОМ08 | C55: Медицински (интернистички) ДСГ групи | E55: =SUM(E29:E34)+E40 -> 0 | F55: =SUM(F29:F34)+F40 -> 0 | G55: =E55/$E$48 -> #DIV/0! | H55: =SUM(G29:G34)+G40 -> 0 | I55: =SUM(H29:H34)+H40 -> 0 | J55: =H55/$G$48 -> #DIV/0! | K55: =SUM(I29:I34)+I40 -> 0 | L55: =SUM(J29:J34)+J40 -> 0 | M55: =K55/$I$48 -> #DIV/0! | N55: =SUM(K29:K34)+K40 -> 0 | O55: =SUM(L29:L34)+L40 -> 0 | P55: =N55/$K$48 -> #DIV/0! | Q55: =SUM(M29:M34)+M40 -> 0 | R55: =SUM(N29:N34)+N40 -> 0 | S55: =Q55/$M$48 -> #DIV/0!
B56: нема | C56: Останати ДСГ групи | E56: 0 | F56: 0 | G56: =E56/$E$48 -> #DIV/0! | H56: 0 | I56: 0 | J56: =H56/$G$48 -> #DIV/0! | K56: 0 | L56: 0 | M56: =K56/$I$48 -> #DIV/0! | N56: 0 | O56: 0 | P56: =N56/$K$48 -> #DIV/0! | Q56: 0 | R56: 0 | S56: =Q56/$M$48 -> #DIV/0!
A58: Во _____________________на _________________ година. | E58: Составил,_______________________
F60: Д и р е к т о р,
F61: ______________

Sheet План-ДСГ-MDC-D
A1: ЈЗУ Универзитетски клиники, клинички болници, општи болници, специјални болници | I1: ПЛ 3 Б - ДСГ MDC-D | O1: Врати се на почетна страна
B3: Здравствена установа | C3: ________________________________________________________________________
A5: П Л А Н
A6: на видот и обемот на ДСГ здравствени услуги и пакети за завршени здравствени услуги во болничка здравствена заштита (акутни болнички случаи кои не се искажуваат според ДСГ методата) на осигурените лица за ___________ година.
A7: Главна дијагностичка категорија (MDC: D01-D67) БОЛЕСТИ И ПОРЕМЕТУВАЊА НА УВО НОС И ГРЛО
A9: Ред.Број | B9: Шифра на ДСГ услуга | C9: Назив на ДСГ услуга | D9: Референтнa ценa | E9: 2026 | K9: 2025 (Реализација јануари- септември и проекција до декември) | M9: 2024
E10: I полугодие | G10: II полугодие | I10: Вкупно
E11: бр. на случаи | F11: износ по ДСГ | G11: бр. на случаи | H11: износ по ДСГ | I11: бр. на услуги | J11: износ по ДСГ | K11: Вкупен бр. на услуги | L11: Вкупен износ по ДСГ | M11: Вкупен бр. на услуги | N11: Вкупен износ по ДСГ
A12: 1 | B12: 2 | C12: 3 | D12: 4 | E12: 5 | F12: 6 | G12: 7 | H12: 8 | I12: 9=(5+6+7+8) | J12: 10(4*9) | K12: 11 | L12: 12 | M12: 13 | N12: 14
A13: 1 | B13: D01Z | C13: Вградување на кохлеарен имплант | D13: 636400 | F13: =E13*D13 -> 0 | H13: =G13*D13 -> 0 | I13: =E13+G13 -> 0 | J13: =I13*D13 -> 0 | L13: =K13*D13 -> 0 | N13: =M13*D13 -> 0
A14: 2 | B14: D02A | C14: Процедури на глава и врат со катастрофални и тешки КК | D14: 87139 | F14: =E14*D14 -> 0 | H14: =G14*D14 -> 0 | I14: =E14+G14 -> 0 | J14: =I14*D14 -> 0 | L14: =K14*D14 -> 0 | N14: =M14*D14 -> 0
A15: 3 | B15: D02B | C15: Процедури на глава и врат со малигна болест или умерени КК | D15: 48223 | F15: =E15*D15 -> 0 | H15: =G15*D15 -> 0 | I15: =E15+G15 -> 0 | J15: =I15*D15 -> 0 | L15: =K15*D15 -> 0 | N15: =M15*D15 -> 0
A16: 4 | B16: D02C | C16: Процедури на глава и врат без малигна болест и без КК | D16: 28080 | F16: =E16*D16 -> 0 | H16: =G16*D16 -> 0 | I16: =E16+G16 -> 0 | J16: =I16*D16 -> 0 | L16: =K16*D16 -> 0 | N16: =M16*D16 -> 0
A17: 5 | B17: D03Z | C17: Хируршка репарација на расцепена уста или непце | D17: 37168 | F17: =E17*D17 -> 0 | H17: =G17*D17 -> 0 | I17: =E17+G17 -> 0 | J17: =I17*D17 -> 0 | L17: =K17*D17 -> 0 | N17: =M17*D17 -> 0
A18: 6 | B18: D04A | C18: Максиларна хирургија со КК | D18: 55445 | F18: =E18*D18 -> 0 | H18: =G18*D18 -> 0 | I18: =E18+G18 -> 0 | J18: =I18*D18 -> 0 | L18: =K18*D18 -> 0 | N18: =M18*D18 -> 0
A19: 7 | B19: D04B | C19: Максиларна хирургија без КК | D19: 45215 | F19: =E19*D19 -> 0 | H19: =G19*D19 -> 0 | I19: =E19+G19 -> 0 | J19: =I19*D19 -> 0 | L19: =K19*D19 -> 0 | N19: =M19*D19 -> 0
A20: 8 | B20: D05Z | C20: Процедури на паротидна жлезда | D20: 45675 | F20: =E20*D20 -> 0 | H20: =G20*D20 -> 0 | I20: =E20+G20 -> 0 | J20: =I20*D20 -> 0 | L20: =K20*D20 -> 0 | N20: =M20*D20 -> 0
A21: 9 | B21: D06Z | C21: Процедури на синусусите, мастоидот и сложени процедури на средното уво | D21: 27039 | F21: =E21*D21 -> 0 | H21: =G21*D21 -> 0 | I21: =E21+G21 -> 0 | J21: =I21*D21 -> 0 | L21: =K21*D21 -> 0 | N21: =M21*D21 -> 0
A22: 10 | B22: D09Z | C22: Разни процедури на уво, нос, уста и грло | D22: 17494 | F22: =E22*D22 -> 0 | H22: =G22*D22 -> 0 | I22: =E22+G22 -> 0 | J22: =I22*D22 -> 0 | L22: =K22*D22 -> 0 | N22: =M22*D22 -> 0
A23: 11 | B23: D10Z | C23: Процедури на носот | D23: 22280 | F23: =E23*D23 -> 0 | H23: =G23*D23 -> 0 | I23: =E23+G23 -> 0 | J23: =I23*D23 -> 0 | L23: =K23*D23 -> 0 | N23: =M23*D23 -> 0
A24: 12 | B24: D11Z | C24: Тонзилектомија и/или аденоидектомија | D24: 14208 | F24: =E24*D24 -> 0 | H24: =G24*D24 -> 0 | I24: =E24+G24 -> 0 | J24: =I24*D24 -> 0 | L24: =K24*D24 -> 0 | N24: =M24*D24 -> 0
... A40: 28 | B40: D67B | C40: Орални и дентални пореметувања освен ектракции и поправки, истиот ден | D40: 3304 | F40: =E40*D40 -> 0 | H40: =G40*D40 -> 0 | I40: =E40+G40 -> 0 | J40: =I40*D40 -> 0 | L40: =K40*D40 -> 0 | N40: =M40*D40 -> 0
C42: ВКУПНО | E42: =SUM(E13:E41) -> 0 | F42: =SUM(F13:F41) -> 0 | G42: =SUM(G13:G41) -> 0 | H42: =SUM(H13:H41) -> 0 | I42: =SUM(I13:I41) -> 0 | J42: =SUM(J13:J41) -> 0 | K42: =SUM(K13:K41) -> 0 | L42: =SUM(L13:L41) -> 0 | ... N42: =SUM(N13:N41) -> 0
B44: ДСГ здравствени услуги по тип на нега
B45: Шифра на ДСГ група | C45: тип на нега | E45: План за 2026 | N45: 2025 (Реализација јануари- септември и проекција до декември) | Q45: 2024
E46: I полугодие | H46: II полугодие | K46: Вкупно
E47: бр. на случаи | F47: Износ | G47: % од бр. на случаи | H47: бр. на случаи | I47: Износ | J47: % од бр. на случаи | K47: бр. на случаи | L47: Износ | M47: % од бр. на случаи | N47: бр. на случаи | O47: Износ | P47: % од бр. на случаи | Q47: бр. на случаи | R47: Износ | S47: % од бр. на случаи
B48: D01-D14 | C48: Хируршки ДСГ групи | E48: =SUM(E13:E27) -> 0 | F48: =SUM(F13:F27) -> 0 | G48: =E48/$E$42 -> #DIV/0! | H48: =SUM(G13:G27) -> 0 | I48: =SUM(H13:H27) -> 0 | J48: =H48/$G$42 -> #DIV/0! | K48: =SUM(I13:I27) -> 0 | L48: =SUM(J13:J27) -> 0 | M48: =K48/$I$42 -> #DIV/0! | N48: =SUM(K13:K27) -> 0 | O48: =SUM(L13:L27) -> 0 | P48: =N48/$K$42 -> #DIV/0! | Q48: =SUM(M13:M27) -> 0 | R48: =SUM(N13:N27) -> 0 | S48: =Q48/$M$42 -> #DIV/0!
B49: B60-B67 | C49: Медицински (интернистички) ДСГ групи | E49: =SUM(E29:E40) -> 0 | F49: =SUM(F29:F40) -> 0 | G49: =E49/$E$42 -> #DIV/0! | H49: =SUM(G29:G40) -> 0 | I49: =SUM(H29:H40) -> 0 | J49: =H49/$G$42 -> #DIV/0! | K49: =SUM(I29:I40) -> 0 | L49: =SUM(J29:J40) -> 0 | M49: =K49/$I$42 -> #DIV/0! | N49: =SUM(K29:K40) -> 0 | O49: =SUM(L29:L40) -> 0 | P49: =N49/$K$42 -> #DIV/0! | Q49: =SUM(M29:M40) -> 0 | R49: =SUM(N29:N40) -> 0 | S49: =Q49/$M$42 -> #DIV/0!
B50: D40 | C50: Останати ДСГ групи | E50: =SUM(E28) -> 0 | F50: =SUM(F28) -> 0 | G50: =E50/$E$42 -> #DIV/0! | H50: =SUM(G28) -> 0 | I50: =SUM(H28) -> 0 | J50: =H50/$G$42 -> #DIV/0! | K50: =SUM(I28) -> 0 | L50: =SUM(J28) -> 0 | M50: =K50/$I$42 -> #DIV/0! | N50: =SUM(K28) -> 0 | O50: =SUM(L28) -> 0 | P50: =N50/$K$42 -> #DIV/0! | Q50: =SUM(M28) -> 0 | R50: =SUM(N28) -> 0 | S50: =Q50/$M$42 -> #DIV/0!
A52: Во _____________________на _________________ година. | E52: Составил,_______________________
F54: Д и р е к т о р,
F55: ______________

Sheet План-ДСГ-MDC-E
A1: ЈЗУ Универзитетски клиники, клинички болници, општи болници, специјални болници | I1: ПЛ 3 Б - ДСГ MDC-E | O1: Врати се на почетна страна
B3: Здравствена установа | C3: ________________________________________________________________________
A5: П Л А Н
A6: на видот и обемот на ДСГ здравствени услуги и пакети за завршени здравствени услуги во болничка здравствена заштита (акутни болнички случаи кои не се искажуваат според ДСГ методата) на осигурените лица за ___________ година.
A7: Главна дијагностичка категорија (MDC: E01-E75, ТБЦ1-ТБЦ3) БОЛЕСТИ И ПОРЕМЕТУВАЊА НА РЕСПИРАТОРЕН СИСТЕМ
A9: Ред.Број | B9: Шифра на ДСГ услуга | C9: Назив на ДСГ услуга | D9: Референтнa ценa | E9: 2026 | K9: 2025 (Реализација јануари- септември и проекција до декември) | M9: 2024
E10: I полугодие | G10: II полугодие | I10: Вкупно
E11: бр. на случаи | F11: износ по ДСГ | G11: бр. на случаи | H11: износ по ДСГ | I11: бр. на услуги | J11: износ по ДСГ | K11: Вкупен бр. на услуги | L11: Вкупен износ по ДСГ | M11: Вкупен бр. на услуги | N11: Вкупен износ по ДСГ
A12: 1 | B12: 2 | C12: 3 | D12: 4 | E12: 5 | F12: 6 | G12: 7 | H12: 8 | I12: 9=(5+6+7+8) | J12: 10(4*9) | K12: 11 | L12: 12 | M12: 13 | N12: 14
A13: 1 | B13: E01A | C13: Големи процедури на градниот кош со катастрофални КК | D13: 164531 | F13: =E13*D13 -> 0 | H13: =G13*D13 -> 0 | I13: =E13+G13 -> 0 | J13: =I13*D13 -> 0 | L13: =K13*D13 -> 0 | N13: =M13*D13 -> 0
A14: 2 | B14: E01B | C14: Големи процедури на градниот кош без катастрофални КК | D14: 95728 | F14: =E14*D14 -> 0 | H14: =G14*D14 -> 0 | I14: =E14+G14 -> 0 | J14: =I14*D14 -> 0 | L14: =K14*D14 -> 0 | N14: =M14*D14 -> 0
A15: 3 | B15: E02A | C15: Други процедури на респираторниот систем во операциона сала со катастрофални КК | D15: 82893 | F15: =E15*D15 -> 0 | H15: =G15*D15 -> 0 | I15: =E15+G15 -> 0 | J15: =I15*D15 -> 0 | L15: =K15*D15 -> 0 | N15: =M15*D15 -> 0
A16: 4 | B16: E02B | C16: Други процедури на респираторниот систем во операциона сала со тешки КК | D16: 51583 | F16: =E16*D16 -> 0 | H16: =G16*D16 -> 0 | I16: =E16+G16 -> 0 | J16: =I16*D16 -> 0 | L16: =K16*D16 -> 0 | N16: =M16*D16 -> 0
A17: 5 | B17: E02C | C17: Други процедури на респираторниот систем во операциона сала без катастрофални или тешки КК | D17: 34150 | F17: =E17*D17 -> 0 | H17: =G17*D17 -> 0 | I17: =E17+G17 -> 0 | J17: =I17*D17 -> 0 | L17: =K17*D17 -> 0 | N17: =M17*D17 -> 0
A18: 6 | B18: E40Z | C18: Дијагноза на респираторниот систем со помош на респираторна подршка | D18: 129627 | F18: =E18*D18 -> 0 | H18: =G18*D18 -> 0 | I18: =E18+G18 -> 0 | J18: =I18*D18 -> 0 | L18: =K18*D18 -> 0 | N18: =M18*D18 -> 0
A19: 7 | B19: E41Z | C19: Дијагноза на респираторниот систем со неинвазивна вентилација | D19: 50763 | F19: =E19*D19 -> 0 | H19: =G19*D19 -> 0 | I19: =E19+G19 -> 0 | J19: =I19*D19 -> 0 | L19: =K19*D19 -> 0 | N19: =M19*D19 -> 0
A20: 8 | B20: E60A | C20: Цистична фиброза со катастрофални или тешки КК | D20: 94547 | F20: =E20*D20 -> 0 | H20: =G20*D20 -> 0 | I20: =E20+G20 -> 0 | J20: =I20*D20 -> 0 | L20: =K20*D20 -> 0 | N20: =M20*D20 -> 0
A21: 9 | B21: E60B | C21: Цистична фиброза без катастрофални или тешки КК | D21: 58068 | F21: =E21*D21 -> 0 | H21: =G21*D21 -> 0 | I21: =E21+G21 -> 0 | J21: =I21*D21 -> 0 | L21: =K21*D21 -> 0 | N21: =M21*D21 -> 0
A22: 10 | B22: E61A | C22: Белодробна емболија со катастрофални или тешки КК | D22: 47340 | F22: =E22*D22 -> 0 | H22: =G22*D22 -> 0 | I22: =E22+G22 -> 0 | J22: =I22*D22 -> 0 | L22: =K22*D22 -> 0 | N22: =M22*D22 -> 0
A23: 11 | B23: E61B | C23: Белодробна емболија без катастрофални или тешки КК | D23: 33722 | F23: =E23*D23 -> 0 | H23: =G23*D23 -> 0 | I23: =E23+G23 -> 0 | J23: =I23*D23 -> 0 | L23: =K23*D23 -> 0 | N23: =M23*D23 -> 0
A24: 12 | B24: E62A | C24: Респираторни инфекции/воспаленија со катастрофални КК | D24: 47058 | F24: =E24*D24 -> 0 | H24: =G24*D24 -> 0 | I24: =E24+G24 -> 0 | J24: =I24*D24 -> 0 | L24: =K24*D24 -> 0 | N24: =M24*D24 -> 0
... A57: 45 | B57: ТБЦ3 | C57: Акутна туберкулоза со завршено лекување за повеќе од 62 дена | D57: 83922 | F57: =E57*D57 -> 0 | H57: =G57*D57 -> 0 | I57: =E57+G57 -> 0 | J57: =I57*D57 -> 0 | L57: =K57*D57 -> 0 | N57: =M57*D57 -> 0
C59: ВКУПНО | E59: =SUM(E13:E58) -> 0 | F59: =SUM(F13:F58) -> 0 | G59: =SUM(G13:G58) -> 0 | H59: =SUM(H13:H58) -> 0 | I59: =SUM(I13:I58) -> 0 | J59: =SUM(J13:J58) -> 0 | K59: =SUM(K13:K58) -> 0 | L59: =SUM(L13:L58) -> 0 | ... N59: =SUM(N13:N58) -> 0
B61: ДСГ здравствени услуги по тип на нега
B62: Шифра на ДСГ група | C62: тип на нега | E62: План за 2026 | N62: 2025 (Реализација јануари- септември и проекција до декември) | Q62: 2024
E63: I полугодие | H63: II полугодие | K63: Вкупно
E64: бр. на случаи | F64: Износ | G64: % од бр. на случаи | H64: бр. на случаи | I64: Износ | J64: % од бр. на случаи | K64: бр. на случаи | L64: Износ | M64: % од бр. на случаи | N64: бр. на случаи | O64: Износ | P64: % од бр. на случаи | Q64: бр. на случаи | R64: Износ | S64: % од бр. на случаи
B65: E01-E02 | C65: Хируршки ДСГ групи | E65: =SUM(E13:E17) -> 0 | F65: =SUM(F13:F17) -> 0 | G65: =E65/$E$59 -> #DIV/0! | H65: =SUM(G13:G17) -> 0 | I65: =SUM(H13:H17) -> 0 | J65: =H65/$G$59 -> #DIV/0! | K65: =SUM(I13:I17) -> 0 | L65: =SUM(J13:J17) -> 0 | M65: =K65/$I$59 -> #DIV/0! | N65: =SUM(K13:K17) -> 0 | O65: =SUM(L13:L17) -> 0 | P65: =N65/$K$59 -> #DIV/0! | Q65: =SUM(M13:M17) -> 0 | R65: =SUM(N13:N17) -> 0 | S65: =Q65/$M$59 -> #DIV/0!
B66: E60-E75, ТБЦ1-ТБЦ3 | C66: Медицински (интернистички) ДСГ групи | E66: =SUM(E20:E58) -> 0 | F66: =SUM(F20:F58) -> 0 | G66: =E66/$E$59 -> #DIV/0! | H66: =SUM(G20:G58) -> 0 | I66: =SUM(H20:H58) -> 0 | J66: =H66/$G$59 -> #DIV/0! | K66: =SUM(I20:I58) -> 0 | L66: =SUM(J20:J58) -> 0 | M66: =K66/$I$59 -> #DIV/0! | N66: =SUM(K20:K58) -> 0 | O66: =SUM(L20:L58) -> 0 | P66: =N66/$K$59 -> #DIV/0! | Q66: =SUM(M20:M58) -> 0 | R66: =SUM(N20:N58) -> 0 | S66: =Q66/$M$59 -> #DIV/0!
B67: Е40-Е41 | C67: Останати ДСГ групи | E67: =SUM(E18:E19) -> 0 | F67: =SUM(F18:F19) -> 0 | G67: =E67/$E$59 -> #DIV/0! | H67: =SUM(G18:G19) -> 0 | I67: =SUM(H18:H19) -> 0 | J67: =H67/$G$59 -> #DIV/0! | K67: =SUM(I18:I19) -> 0 | L67: =SUM(J18:J19) -> 0 | M67: =K67/$I$59 -> #DIV/0! | N67: =SUM(K18:K19) -> 0 | O67: =SUM(L18:L19) -> 0 | P67: =N67/$K$59 -> #DIV/0! | Q67: =SUM(M18:M19) -> 0 | R67: =SUM(N18:N19) -> 0 | S67: =Q67/$M$59 -> #DIV/0!
A69: Во _____________________на _________________ година. | E69: Составил,_______________________
F71: Д и р е к т о р,
F72: ______________

Sheet План-ДСГ-MDC-F
A1: ЈЗУ Универзитетски клиники, клинички болници, општи болници, специјални болници | I1: ПЛ 3 Б - ДСГ MDC-F | O1: Врати се на почетна страна
B3: Здравствена установа | C3: ________________________________________________________________________
A5: П Л А Н
A6: на видот и обемот на ДСГ здравствени услуги и пакети за завршени здравствени услуги во болничка здравствена заштита (акутни болнички случаи кои не се искажуваат според ДСГ методата) на осигурените лица за ___________ година.
A7: Главна дијагностичка категорија (MDC: F01-F75, РТС1-РТС2, БЛК1-БЛК11) БОЛЕСТИ И ПОРЕМЕТУВАЊА НА ЦИРКУЛАТОРЕН СИСТЕМ
A9: Ред.Број | B9: Шифра на ДСГ услуга | C9: Назив на ДСГ услуга | D9: Референтнa ценa | E9: 2026 | K9: 2025 (Реализација јануари- септември и проекција до декември) | M9: 2024
E10: I полугодие | G10: II полугодие | I10: Вкупно
E11: бр. на случаи | F11: износ по ДСГ | G11: бр. на случаи | H11: износ по ДСГ | I11: бр. на услуги | J11: износ по ДСГ | K11: Вкупен бр. на услуги | L11: Вкупен износ по ДСГ | M11: Вкупен бр. на услуги | N11: Вкупен износ по ДСГ
A12: 1 | B12: 2 | C12: 3 | D12: 4 | E12: 5 | F12: 6 | G12: 7 | H12: 8 | I12: 9=(5+6+7+8) | J12: 10(4*9) | K12: 11 | L12: 12 | M12: 13 | N12: 14
A13: 1 | B13: F01A | C13: Имплантација или замена на AICD ( автоматски имплантабилен кардијален дефибрилатор ), вкупен систем со катастрофални или тешки КК | D13: 397990 | F13: =E13*D13 -> 0 | H13: =G13*D13 -> 0 | I13: =E13+G13 -> 0 | J13: =I13*D13 -> 0 | L13: =K13*D13 -> 0 | N13: =M13*D13 -> 0
A14: 2 | B14: F01B | C14: Имплантација или замена на AICD ( автоматски имплантабилен кардијален дефибрилатор ), вкупен систем без катастрофални или тешки КК | D14: 277216 | F14: =E14*D14 -> 0 | H14: =G14*D14 -> 0 | I14: =E14+G14 -> 0 | J14: =I14*D14 -> 0 | L14: =K14*D14 -> 0 | N14: =M14*D14 -> 0
A15: 3 | B15: F02Z | C15: Имплантација или замена на дел од AICD ( автоматски имплантабилен кардијален дефибрилатор ). | D15: 99878 | F15: =E15*D15 -> 0 | H15: =G15*D15 -> 0 | I15: =E15+G15 -> 0 | J15: =I15*D15 -> 0 | L15: =K15*D15 -> 0 | N15: =M15*D15 -> 0
A16: 4 | B16: F03Z | C16: Процедура на срцева валвула со пумпа за кардиопулмонално премостување ,со инвазивно испитување на срцето | D16: 538925 | F16: =E16*D16 -> 0 | H16: =G16*D16 -> 0 | I16: =E16+G16 -> 0 | J16: =I16*D16 -> 0 | L16: =K16*D16 -> 0 | N16: =M16*D16 -> 0
A17: 5 | B17: F04A | C17: Процедура на срцева валвула со пумпа за кардиопулмонално премостување без инвазивно испитување на срцето , со катастрофални КК | D17: 494015 | F17: =E17*D17 -> 0 | H17: =G17*D17 -> 0 | I17: =E17+G17 -> 0 | J17: =I17*D17 -> 0 | L17: =K17*D17 -> 0 | N17: =M17*D17 -> 0
A18: 6 | B18: F04B | C18: Процедура на срцева валвула со пумпа за кардиопулмонално премостување без инвазивно испитување на срцето , без катастрофални КК | D18: 424350 | F18: =E18*D18 -> 0 | H18: =G18*D18 -> 0 | I18: =E18+G18 -> 0 | J18: =I18*D18 -> 0 | L18: =K18*D18 -> 0 | N18: =M18*D18 -> 0
A19: 7 | B19: F05A | C19: Коронарен бајпас со инвазивно испитување на срцето со катастрофални КК | D19: 403840 | F19: =E19*D19 -> 0 | H19: =G19*D19 -> 0 | I19: =E19+G19 -> 0 | J19: =I19*D19 -> 0 | L19: =K19*D19 -> 0 | N19: =M19*D19 -> 0
A20: 8 | B20: F05B | C20: Коронарен бајпас со инвазивно испитување на срцето ,без катастрофални КК | D20: 353625 | F20: =E20*D20 -> 0 | H20: =G20*D20 -> 0 | I20: =E20+G20 -> 0 | J20: =I20*D20 -> 0 | L20: =K20*D20 -> 0 | N20: =M20*D20 -> 0
A21: 9 | B21: F06A | C21: Коронарен бајпас без инвазивно испитување на срцето со катастрофални или тешки КК | D21: 352728 | F21: =E21*D21 -> 0 | H21: =G21*D21 -> 0 | I21: =E21+G21 -> 0 | J21: =I21*D21 -> 0 | L21: =K21*D21 -> 0 | N21: =M21*D21 -> 0
A22: 10 | B22: F06B | C22: Коронарен бајпас без инвазивно испитување на срцето без катастрофални или тешки КК | D22: 332408 | F22: =E22*D22 -> 0 | H22: =G22*D22 -> 0 | I22: =E22+G22 -> 0 | J22: =I22*D22 -> 0 | L22: =K22*D22 -> 0 | N22: =M22*D22 -> 0
A23: 11 | B23: F07A | C23: Други кардиоторакални/васкуларни процедури со пумпа за кардиопулмонално премостување (CPB пумпа) со катастрофални КК | D23: 407800 | F23: =E23*D23 -> 0 | H23: =G23*D23 -> 0 | I23: =E23+G23 -> 0 | J23: =I23*D23 -> 0 | L23: =K23*D23 -> 0 | N23: =M23*D23 -> 0
A24: 12 | B24: F07B | C24: Други кардиоторакални/васкуларни процедури со пумпа за кардиопулмонално премостување (CPB пумпа) без катастрофални КК | D24: 407800 | F24: =E24*D24 -> 0 | H24: =G24*D24 -> 0 | I24: =E24+G24 -> 0 | J24: =I24*D24 -> 0 | L24: =K24*D24 -> 0 | N24: =M24*D24 -> 0
... A91: 79 | B91: БЛК6 | C91: Кардијално електрофизиолошко испитување со радиофрекфентна аблација (3-Д мапирање) | D91: 496000 | F91: =E91*D91 -> 0 | H91: =G91*D91 -> 0 | I91: =E91+G91 -> 0 | J91: =I91*D91 -> 0 | L91: =K91*D91 -> 0 | N91: =M91*D91 -> 0
B92: БЛК7 | C92: Хибридни процедури на срце и големи крвни садови (frozen elephant trunk - FET) | D92: 1640000 | F92: =E92*D92 -> 0 | H92: =G92*D92 -> 0 | I92: =E92+G92 -> 0 | J92: =I92*D92 -> 0 | L92: =K92*D92 -> 0 | N92: =M92*D92 -> 0
B93: БЛК8 | C93: Вградување на помошен уред за поддршка на срцевата работа (VAD ventricular assist device) | D93: 8181000 | F93: =E93*D93 -> 0 | H93: =G93*D93 -> 0 | I93: =E93+G93 -> 0 | J93: =I93*D93 -> 0 | L93: =K93*D93 -> 0 | N93: =M93*D93 -> 0
A94: 80 | B94: БЛК9 | C94: Вградување на помошен уред за поддршка на срцевата работа (двострана) (BiVAD biventricular assist device) | D94: 14488500 | F94: =E94*D94 -> 0 | H94: =G94*D94 -> 0 | I94: =E94+G94 -> 0 | J94: =I94*D94 -> 0 | L94: =K94*D94 -> 0 | N94: =M94*D94 -> 0
B95: БЛК10 | C95: Минимално инвазивна процедура за замена на аортна валвула- MIAVR | D95: 781570 | F95: =E95*D95 -> 0 | H95: =G95*D95 -> 0 | I95: =E95+G95 -> 0 | J95: =I95*D95 -> 0 | L95: =K95*D95 -> 0 | N95: =M95*D95 -> 0
A96: 81 | B96: БЛК11 | C96: Криоаблација на пулмонални вени при атријална фибрилација | D96: 491000 | F96: =E96*D96 -> 0 | H96: =G96*D96 -> 0 | I96: =E96+G96 -> 0 | J96: =I96*D96 -> 0 | L96: =K96*D96 -> 0 | N96: =M96*D96 -> 0
A97: 82
C98: ВКУПНО | E98: =SUM(E13:E97) -> 0 | F98: =SUM(F13:F97) -> 0 | G98: =SUM(G13:G97) -> 0 | H98: =SUM(H13:H97) -> 0 | I98: =SUM(I13:I97) -> 0 | J98: =SUM(J13:J97) -> 0 | K98: =SUM(K13:K97) -> 0 | L98: =SUM(L13:L97) -> 0 | ... N98: =SUM(N13:N97) -> 0
B100: ДСГ здравствени услуги по тип на нега
B101: Шифра на ДСГ група | C101: тип на нега | E101: План за 2026 | N101: 2025 (Реализација јануари- септември и проекција до декември) | Q101: 2024
E102: I полугодие | H102: II полугодие | K102: Вкупно
E103: бр. на случаи | F103: Износ | G103: % од бр. на случаи | H103: бр. на случаи | I103: Износ | J103: % од бр. на случаи | K103: бр. на случаи | L103: Износ | M103: % од бр. на случаи | N103: бр. на случаи | O103: Износ | P103: % од бр. на случаи | Q103: бр. на случаи | R103: Износ | S103: % од бр. на случаи
B104: F01-F23, РТС1-РТС2, БК1-БЛК11 | C104: Хируршки ДСГ групи | E104: =SUM(E13:E46)+E84+E85+E86+E87+E88+E89+E90+E91+E92+E93+E94+E95+E96 -> 0 | F104: =SUM(F13:F46)+F84+F85+F86+F87+F88+F89+F90+F91+F92+F93+F94+F95+F96 -> 0 | G104: =E104/$E$98 -> #DIV/0! | H104: =SUM(G13:G46)+G84+G85+G86+G87+G88+G89+G90+G91+G92+G93+G94+G95+G96 -> 0 | I104: =SUM(H13:H46)+H84+H85+H86+H87+H88+H89+H90+H91+H92+H93+H94+H95+H96 -> 0 | J104: =H104/$G$98 -> #DIV/0! | K104: =SUM(I13:I46)+I84+I85+I86+I87+I88+I89+I90+I91+I92+I93+I94+I95+I96 -> 0 | L104: =SUM(J13:J46)+J84+J85+J86+J87+J88+J89+J90+J91+J92+J93+J94+J95+J96 -> 0 | M104: =K104/$I$98 -> #DIV/0! | N104: =SUM(K13:K46)+K84+K85+K86+K87+K88+K89+K90+K91+K92+K93+K94+K95+K96 -> 0 | O104: =SUM(L13:L46)+L84+L85+L86+L87+L88+L89+L90+L91+L92+L93+L94+L95+L96 -> 0 | P104: =N104/$K$98 -> #DIV/0! | Q104: =SUM(M13:M46)+M84+M85+M86+M87+M88+M89+M90+M91+M92+M93+M94+M95+M96 -> 0 | R104: =SUM(N13:N46)+N84+N85+N86+N87+N88+N89+N90+N91+N92+N93+N94+N95+N96 -> 0 | S104: =Q104/$M$98 -> #DIV/0!
B105: F60-F75 | C105: Медицински (интернистички) ДСГ групи | E105: =SUM(E54:E83) -> 0 | F105: =SUM(F54:F83) -> 0 | G105: =E105/$E$98 -> #DIV/0! | H105: =SUM(G54:G83) -> 0 | I105: =SUM(H54:H83) -> 0 | J105: =H105/$G$98 -> #DIV/0! | K105: =SUM(I54:I83) -> 0 | L105: =SUM(J54:J83) -> 0 | M105: =K105/$I$98 -> #DIV/0! | N105: =SUM(K54:K83) -> 0 | O105: =SUM(L54:L83) -> 0 | P105: =N105/$K$98 -> #DIV/0! | Q105: =SUM(M54:M83) -> 0 | R105: =SUM(N54:N83) -> 0 | S105: =Q105/$M$98 -> #DIV/0!
B106: F40-F43 | C106: Останати ДСГ групи | E106: =SUM(E47:E53) -> 0 | F106: =SUM(F47:F53) -> 0 | G106: =E106/$E$98 -> #DIV/0! | H106: =SUM(G47:G53) -> 0 | I106: =SUM(H47:H53) -> 0 | J106: =H106/$G$98 -> #DIV/0! | K106: =SUM(I47:I53) -> 0 | L106: =SUM(J47:J53) -> 0 | M106: =K106/$I$98 -> #DIV/0! | N106: =SUM(K47:K53) -> 0 | O106: =SUM(L47:L53) -> 0 | P106: =N106/$K$98 -> #DIV/0! | Q106: =SUM(M47:M53) -> 0 | R106: =SUM(N47:N53) -> 0 | S106: =Q106/$M$98 -> #DIV/0!
A108: Во _____________________на _________________ година. | E108: Составил,_______________________
F110: Д и р е к т о р,
F111: ______________

Sheet План-ДСГ-MDC-G
A1: ЈЗУ Универзитетски клиники, клинички болници, општи болници, специјални болници | I1: ПЛ 3 Б - ДСГ MDC-G | O1: Врати се на почетна страна
B3: Здравствена установа | C3: ________________________________________________________________________
A5: П Л А Н
A6: на видот и обемот на ДСГ здравствени услуги и пакети за завршени здравствени услуги во болничка здравствена заштита (акутни болнички случаи кои не се искажуваат според ДСГ методата) на осигурените лица за ___________ година.
A7: Главна дијагностичка категорија (MDC: G01-G70, БЛГ1) БОЛЕСТИ И ПОРЕМЕТУВАЊА НА ДИГЕСТИВЕН СИСТЕМ
A9: Ред.Број | B9: Шифра на ДСГ услуга | C9: Назив на ДСГ услуга | D9: Референтнa ценa | E9: 2026 | K9: 2025 (Реализација јануари- септември и проекција до декември) | M9: 2024
E10: I полугодие | G10: II полугодие | I10: Вкупно
E11: бр. на случаи | F11: износ по ДСГ | G11: бр. на случаи | H11: износ по ДСГ | I11: бр. на услуги | J11: износ по ДСГ | K11: Вкупен бр. на услуги | L11: Вкупен износ по ДСГ | M11: Вкупен бр. на услуги | N11: Вкупен износ по ДСГ
A12: 1 | B12: 2 | C12: 3 | D12: 4 | E12: 5 | F12: 6 | G12: 7 | H12: 8 | I12: 9=(5+6+7+8) | J12: 10(4*9) | K12: 11 | L12: 12 | M12: 13 | N12: 14
A13: 1 | B13: G01A | C13: Ректална ресекција со катастрофални КК | D13: 211773 | F13: =E13*D13 -> 0 | H13: =G13*D13 -> 0 | I13: =E13+G13 -> 0 | J13: =I13*D13 -> 0 | L13: =K13*D13 -> 0 | N13: =M13*D13 -> 0
A14: 2 | B14: G01B | C14: Ректална ресекција без катастрофални КК | D14: 126974 | F14: =E14*D14 -> 0 | H14: =G14*D14 -> 0 | I14: =E14+G14 -> 0 | J14: =I14*D14 -> 0 | L14: =K14*D14 -> 0 | N14: =M14*D14 -> 0
A15: 3 | B15: G02A | C15: Големи процедури на тенкото и дебелото црево со катастрофални КК | D15: 143348 | F15: =E15*D15 -> 0 | H15: =G15*D15 -> 0 | I15: =E15+G15 -> 0 | J15: =I15*D15 -> 0 | L15: =K15*D15 -> 0 | N15: =M15*D15 -> 0
A16: 4 | B16: G02B | C16: Големи процедури на тенкото и дебелото црево без катастрофални КК | D16: 118910 | F16: =E16*D16 -> 0 | H16: =G16*D16 -> 0 | I16: =E16+G16 -> 0 | J16: =I16*D16 -> 0 | L16: =K16*D16 -> 0 | N16: =M16*D16 -> 0
A17: 5 | B17: G03A | C17: Процедури на желудник, езофагус и дванаесетпалачно црево со малигнa болест | D17: 184000 | F17: =E17*D17 -> 0 | H17: =G17*D17 -> 0 | I17: =E17+G17 -> 0 | J17: =I17*D17 -> 0 | L17: =K17*D17 -> 0 | N17: =M17*D17 -> 0
A18: 6 | B18: G03B | C18: Процедури на желудник, езофагус и дванаесетпалачно црево без малигна болест со катастрофални или тешки КК | D18: 103911 | F18: =E18*D18 -> 0 | H18: =G18*D18 -> 0 | I18: =E18+G18 -> 0 | J18: =I18*D18 -> 0 | L18: =K18*D18 -> 0 | N18: =M18*D18 -> 0
A19: 7 | B19: G03C | C19: Процедури на желудник, езофагус и дванаесетпалачно црево без малигна болест без катастрофални или тешки КК | D19: 85911 | F19: =E19*D19 -> 0 | H19: =G19*D19 -> 0 | I19: =E19+G19 -> 0 | J19: =I19*D19 -> 0 | L19: =K19*D19 -> 0 | N19: =M19*D19 -> 0
A20: 8 | B20: G04A | C20: Перитонеална адхезиолиза, возраст >49 со КК | D20: 78191 | F20: =E20*D20 -> 0 | H20: =G20*D20 -> 0 | I20: =E20+G20 -> 0 | J20: =I20*D20 -> 0 | L20: =K20*D20 -> 0 | N20: =M20*D20 -> 0
A21: 9 | B21: G04B | C21: Перитонеална адхезиолиза, возраст >49 или со КК | D21: 72179 | F21: =E21*D21 -> 0 | H21: =G21*D21 -> 0 | I21: =E21+G21 -> 0 | J21: =I21*D21 -> 0 | L21: =K21*D21 -> 0 | N21: =M21*D21 -> 0
A22: 10 | B22: G04C | C22: Перитонеална адхезиолиза, возраст <50 без КК | D22: 47388 | F22: =E22*D22 -> 0 | H22: =G22*D22 -> 0 | I22: =E22+G22 -> 0 | J22: =I22*D22 -> 0 | L22: =K22*D22 -> 0 | N22: =M22*D22 -> 0
A23: 11 | B23: G05A | C23: Mали процедури на тенкото и дебелото црево со КК | D23: 77860 | F23: =E23*D23 -> 0 | H23: =G23*D23 -> 0 | I23: =E23+G23 -> 0 | J23: =I23*D23 -> 0 | L23: =K23*D23 -> 0 | N23: =M23*D23 -> 0
A24: 12 | B24: G05B | C24: Mали процедури на тенкото и дебелото црево без КК | D24: 56848 | F24: =E24*D24 -> 0 | H24: =G24*D24 -> 0 | I24: =E24+G24 -> 0 | J24: =I24*D24 -> 0 | L24: =K24*D24 -> 0 | N24: =M24*D24 -> 0
... A65: 53 | B65: БЛГ 1 | C65: Радиофреквентна биполарна аблација на езофагус | D65: 153870 | F65: =E65*D65 -> 0 | H65: =G65*D65 -> 0 | I65: =E65+G65 -> 0 | J65: =I65*D65 -> 0 | L65: =K65*D65 -> 0 | N65: =M65*D65 -> 0
C67: ВКУПНО | E67: =SUM(E13:E66) -> 0 | F67: =SUM(F13:F66) -> 0 | G67: =SUM(G13:G66) -> 0 | H67: =SUM(H13:H66) -> 0 | I67: =SUM(I13:I66) -> 0 | J67: =SUM(J13:J66) -> 0 | K67: =SUM(K13:K66) -> 0 | L67: =SUM(L13:L66) -> 0 | ... N67: =SUM(N13:N66) -> 0
B69: ДСГ здравствени услуги по тип на нега
B70: Шифра на ДСГ група | C70: тип на нега | E70: План за 2026 | N70: 2025 (Реализација јануари- септември и проекција до декември) | Q70: 2024
E71: I полугодие | H71: II полугодие | K71: Вкупно
E72: бр. на случаи | F72: Износ | G72: % од бр. на случаи | H72: бр. на случаи | I72: Износ | J72: % од бр. на случаи | K72: бр. на случаи | L72: Износ | M72: % од бр. на случаи | N72: бр. на случаи | O72: Износ | P72: % од бр. на случаи | Q72: бр. на случаи | R72: Износ | S72: % од бр. на случаи
B73: G01-G12 | C73: Хируршки ДСГ групи | E73: =SUM(E13:E35) -> 0 | F73: =SUM(F13:F35) -> 0 | G73: =E73/$E$67 -> #DIV/0! | H73: =SUM(G13:G35) -> 0 | I73: =SUM(H13:H35) -> 0 | J73: =H73/$G$67 -> #DIV/0! | K73: =SUM(I13:I35) -> 0 | L73: =SUM(J13:J35) -> 0 | M73: =K73/$I$67 -> #DIV/0! | N73: =SUM(K13:K35) -> 0 | O73: =SUM(L13:L35) -> 0 | P73: =N73/$K$67 -> #DIV/0! | Q73: =SUM(M13:M35) -> 0 | R73: =SUM(N13:N35) -> 0 | S73: =Q73/$M$67 -> #DIV/0!
B74: G60-G70, БЛГ1 | C74: Медицински (интернистички) ДСГ групи | E74: =SUM(E47:E65) -> 0 | F74: =SUM(F47:F65) -> 0 | G74: =E74/$E$67 -> #DIV/0! | H74: =SUM(G47:G65) -> 0 | I74: =SUM(H47:H65) -> 0 | J74: =H74/$G$67 -> #DIV/0! | K74: =SUM(I47:I65) -> 0 | L74: =SUM(J47:J65) -> 0 | M74: =K74/$I$67 -> #DIV/0! | N74: =SUM(K47:K65) -> 0 | O74: =SUM(L47:L65) -> 0 | P74: =N74/$K$67 -> #DIV/0! | Q74: =SUM(M47:M65) -> 0 | R74: =SUM(N47:N65) -> 0 | S74: =Q74/$M$67 -> #DIV/0!
B75: G42-G46 | C75: Останати ДСГ групи | E75: =SUM(E36:E46) -> 0 | F75: =SUM(F36:F46) -> 0 | G75: =E75/$E$67 -> #DIV/0! | H75: =SUM(G36:G46) -> 0 | I75: =SUM(H36:H46) -> 0 | J75: =H75/$G$67 -> #DIV/0! | K75: =SUM(I36:I46) -> 0 | L75: =SUM(J36:J46) -> 0 | M75: =K75/$I$67 -> #DIV/0! | N75: =SUM(K36:K46) -> 0 | O75: =SUM(L36:L46) -> 0 | P75: =N75/$K$67 -> #DIV/0! | Q75: =SUM(M36:M46) -> 0 | R75: =SUM(N36:N46) -> 0 | S75: =Q75/$M$67 -> #DIV/0!
A77: Во _____________________на _________________ година. | E77: Составил,_______________________
F79: Д и р е к т о р,
F80: ______________

Sheet План-ДСГ-MDC-H
A1: ЈЗУ Универзитетски клиники, клинички болници, општи болници, специјални болници | I1: ПЛ 3 Б - ДСГ MDC-H | O1: Врати се на почетна страна
B3: Здравствена установа | C3: ________________________________________________________________________
A5: П Л А Н
A6: на видот и обемот на ДСГ здравствени услуги и пакети за завршени здравствени услуги во болничка здравствена заштита (акутни болнички случаи кои не се искажуваат според ДСГ методата) на осигурените лица за ___________ година.
A7: Главна дијагностичка категорија (MDC: H01-H64) БОЛЕСТИ И ПОРЕМЕТУВАЊЕ НА ХЕПАТОБИЛИЈАРЕН СИСТЕМ И ПАНКРЕАС
A9: Ред.Број | B9: Шифра на ДСГ услуга | C9: Назив на ДСГ услуга | D9: Референтнa ценa | E9: 2026 | K9: 2025 (Реализација јануари- септември и проекција до декември) | M9: 2024
E10: I полугодие | G10: II полугодие | I10: Вкупно
E11: бр. на случаи | F11: износ по ДСГ | G11: бр. на случаи | H11: износ по ДСГ | I11: бр. на услуги | J11: износ по ДСГ | K11: Вкупен бр. на услуги | L11: Вкупен износ по ДСГ | M11: Вкупен бр. на услуги | N11: Вкупен износ по ДСГ
A12: 1 | B12: 2 | C12: 3 | D12: 4 | E12: 5 | F12: 6 | G12: 7 | H12: 8 | I12: 9=(5+6+7+8) | J12: 10(4*9) | K12: 11 | L12: 12 | M12: 13 | N12: 14
A13: 1 | B13: H01A | C13: Процедури на панкреас, црн дроб и шант со катастрофални КК | D13: 185512 | F13: =E13*D13 -> 0 | H13: =G13*D13 -> 0 | I13: =E13+G13 -> 0 | J13: =I13*D13 -> 0 | L13: =K13*D13 -> 0 | N13: =M13*D13 -> 0
A14: 2 | B14: H01B | C14: Процедури на панкреас, црн дроб и шант без катастрофални КК | D14: 169500 | F14: =E14*D14 -> 0 | H14: =G14*D14 -> 0 | I14: =E14+G14 -> 0 | J14: =I14*D14 -> 0 | L14: =K14*D14 -> 0 | N14: =M14*D14 -> 0
A15: 3 | B15: H02A | C15: Големи процедури на билијарниот тракт со малигни болести или катастрофални КК | D15: 120786 | F15: =E15*D15 -> 0 | H15: =G15*D15 -> 0 | I15: =E15+G15 -> 0 | J15: =I15*D15 -> 0 | L15: =K15*D15 -> 0 | N15: =M15*D15 -> 0
A16: 4 | B16: H02B | C16: Големи процедури на билијарниот тракт без малигни болести со тешки или умерени КК | D16: 104617 | F16: =E16*D16 -> 0 | H16: =G16*D16 -> 0 | I16: =E16+G16 -> 0 | J16: =I16*D16 -> 0 | L16: =K16*D16 -> 0 | N16: =M16*D16 -> 0
A17: 5 | B17: H02C | C17: Големи процедури на билијарниот тракт без малигни болести без КК | D17: 73439 | F17: =E17*D17 -> 0 | H17: =G17*D17 -> 0 | I17: =E17+G17 -> 0 | J17: =I17*D17 -> 0 | L17: =K17*D17 -> 0 | N17: =M17*D17 -> 0
A18: 6 | B18: H05A | C18: Хепатобилијарни дијагностички процедури со катастрофални или тешки КК | D18: 82281 | F18: =E18*D18 -> 0 | H18: =G18*D18 -> 0 | I18: =E18+G18 -> 0 | J18: =I18*D18 -> 0 | L18: =K18*D18 -> 0 | N18: =M18*D18 -> 0
A19: 7 | B19: H05B | C19: Хепатобилијарни дијагностички процедури без катастрофални или тешки КК | D19: 53996 | F19: =E19*D19 -> 0 | H19: =G19*D19 -> 0 | I19: =E19+G19 -> 0 | J19: =I19*D19 -> 0 | L19: =K19*D19 -> 0 | N19: =M19*D19 -> 0
A20: 8 | B20: H06Z | C20: Други хепатобилијарни процедури или процедури на панкреас во операциона сала | D20: 84468 | F20: =E20*D20 -> 0 | H20: =G20*D20 -> 0 | I20: =E20+G20 -> 0 | J20: =I20*D20 -> 0 | L20: =K20*D20 -> 0 | N20: =M20*D20 -> 0
A21: 9 | B21: H07A | C21: Отворена холецистектомија со затворенa експлорација на ductus choledocus или со катастрофални КК | D21: 97791 | F21: =E21*D21 -> 0 | H21: =G21*D21 -> 0 | I21: =E21+G21 -> 0 | J21: =I21*D21 -> 0 | L21: =K21*D21 -> 0 | N21: =M21*D21 -> 0
A22: 10 | B22: H07B | C22: Отворена холецистектомија со затворенa експлорација на ductus choledocus без катастрофални КК | D22: 36567 | F22: =E22*D22 -> 0 | H22: =G22*D22 -> 0 | I22: =E22+G22 -> 0 | J22: =I22*D22 -> 0 | L22: =K22*D22 -> 0 | N22: =M22*D22 -> 0
A23: 11 | B23: H08A | C23: Лапароскопска холецистектомија со затворенa експлорација на ductus choledocus или со (катастрофални или тешки КК) | D23: 55904 | F23: =E23*D23 -> 0 | H23: =G23*D23 -> 0 | I23: =E23+G23 -> 0 | J23: =I23*D23 -> 0 | L23: =K23*D23 -> 0 | N23: =M23*D23 -> 0
A24: 12 | B24: H08B | C24: Лапароскопска холецистектомија без затворенa експлорација на ductus choledocus без катастрофални или тешки КК | D24: 44986 | F24: =E24*D24 -> 0 | H24: =G24*D24 -> 0 | I24: =E24+G24 -> 0 | J24: =I24*D24 -> 0 | L24: =K24*D24 -> 0 | N24: =M24*D24 -> 0
... A41: 29 | B41: H64B | C41: Пореметувања на билијарниот тракт без КК | D41: 15917 | F41: =E41*D41 -> 0 | H41: =G41*D41 -> 0 | I41: =E41+G41 -> 0 | J41: =I41*D41 -> 0 | L41: =K41*D41 -> 0 | N41: =M41*D41 -> 0
C43: ВКУПНО | E43: =SUM(E13:E42) -> 0 | F43: =SUM(F13:F42) -> 0 | G43: =SUM(G13:G42) -> 0 | H43: =SUM(H13:H42) -> 0 | I43: =SUM(I13:I42) -> 0 | J43: =SUM(J13:J42) -> 0 | K43: =SUM(K13:K42) -> 0 | L43: =SUM(L13:L42) -> 0 | ... N43: =SUM(N13:N42) -> 0
B45: ДСГ здравствени услуги по тип на нега
B46: Шифра на ДСГ група | C46: тип на нега | E46: План за 2026 | N46: 2025 (Реализација јануари- септември и проекција до декември) | Q46: 2024
E47: I полугодие | H47: II полугодие | K47: Вкупно
E48: бр. на случаи | F48: Износ | G48: % од бр. на случаи | H48: бр. на случаи | I48: Износ | J48: % од бр. на случаи | K48: бр. на случаи | L48: Износ | M48: % од бр. на случаи | N48: бр. на случаи | O48: Износ | P48: % од бр. на случаи | Q48: бр. на случаи | R48: Износ | S48: % од бр. на случаи
B49: B01-B07 | C49: Хируршки ДСГ групи | E49: =SUM(E13:E24) -> 0 | F49: =SUM(F13:F24) -> 0 | G49: =E49/$E$43 -> #DIV/0! | H49: =SUM(G13:G24) -> 0 | I49: =SUM(H13:H24) -> 0 | J49: =H49/$G$43 -> #DIV/0! | K49: =SUM(I13:I24) -> 0 | L49: =SUM(J13:J24) -> 0 | M49: =K49/$I$43 -> #DIV/0! | N49: =SUM(K13:K24) -> 0 | O49: =SUM(L13:L24) -> 0 | P49: =N49/$K$43 -> #DIV/0! | Q49: =SUM(M13:M24) -> 0 | R49: =SUM(N13:N24) -> 0 | S49: =Q49/$M$43 -> #DIV/0!
B50: B60-B81 | C50: Медицински (интернистички) ДСГ групи | E50: =SUM(E31:E42) -> 0 | F50: =SUM(F31:F42) -> 0 | G50: =E50/$E$43 -> #DIV/0! | H50: =SUM(G31:G42) -> 0 | I50: =SUM(H31:H42) -> 0 | J50: =H50/$G$43 -> #DIV/0! | K50: =SUM(I31:I42) -> 0 | L50: =SUM(J31:J42) -> 0 | M50: =K50/$I$43 -> #DIV/0! | N50: =SUM(K31:K42) -> 0 | O50: =SUM(L31:L42) -> 0 | P50: =N50/$K$43 -> #DIV/0! | Q50: =SUM(M31:M42) -> 0 | R50: =SUM(N31:N42) -> 0 | S50: =Q50/$M$43 -> #DIV/0!
B51: B40-B41 | C51: Останати ДСГ групи | E51: =SUM(E25:E30) -> 0 | F51: =SUM(F25:F30) -> 0 | G51: =E51/$E$43 -> #DIV/0! | H51: =SUM(G25:G30) -> 0 | I51: =SUM(H25:H30) -> 0 | J51: =H51/$G$43 -> #DIV/0! | K51: =SUM(I25:I30) -> 0 | L51: =SUM(J25:J30) -> 0 | M51: =K51/$I$43 -> #DIV/0! | N51: =SUM(K25:K30) -> 0 | O51: =SUM(L25:L30) -> 0 | P51: =N51/$K$43 -> #DIV/0! | Q51: =SUM(M25:M30) -> 0 | R51: =SUM(N25:N30) -> 0 | S51: =Q51/$M$43 -> #DIV/0!
A53: Во _____________________на _________________ година. | E53: Составил,_______________________
F55: Д и р е к т о р,
F56: ______________

Sheet План-ДСГ-MDC-I
A1: ЈЗУ Универзитетски клиники, клинички болници, општи болници, специјални болници | I1: ПЛ 3 Б - ДСГ MDC-I | O1: Врати се на почетна страна
B3: Здравствена установа | C3: ________________________________________________________________________
A5: П Л А Н
A6: на видот и обемот на ДСГ здравствени услуги и пакети за завршени здравствени услуги во болничка здравствена заштита (акутни болнички случаи кои не се искажуваат според ДСГ методата) на осигурените лица за ___________ година.
A7: Главна дијагностичка категорија (MDC: I01-I79, БЛО1-БЛО2) БОЛЕСТИ И ПОРЕМЕТУВАЊА НА МУСКУЛНО-КОСКЕН И СВРЗЕН СИСТЕМ
A9: Ред.Број | B9: Шифра на ДСГ услуга | C9: Назив на ДСГ услуга | D9: Референтнa ценa | E9: 2026 | K9: 2025 (Реализација јануари- септември и проекција до декември) | M9: 2024
E10: I полугодие | G10: II полугодие | I10: Вкупно
E11: бр. на случаи | F11: износ по ДСГ | G11: бр. на случаи | H11: износ по ДСГ | I11: бр. на услуги | J11: износ по ДСГ | K11: Вкупен бр. на услуги | L11: Вкупен износ по ДСГ | M11: Вкупен бр. на услуги | N11: Вкупен износ по ДСГ
A12: 1 | B12: 2 | C12: 3 | D12: 4 | E12: 5 | F12: 6 | G12: 7 | H12: 8 | I12: 9=(5+6+7+8) | J12: 10(4*9) | K12: 11 | L12: 12 | M12: 13 | N12: 14
A13: 1 | B13: I01Z | C13: Билатерални или повеќекратни процедури на големите зглобови на долните екстремитети | D13: 175254 | F13: =E13*D13 -> 0 | H13: =G13*D13 -> 0 | I13: =E13+G13 -> 0 | J13: =I13*D13 -> 0 | L13: =K13*D13 -> 0 | N13: =M13*D13 -> 0
A14: 2 | B14: I02A | C14: Микроваскуларен трансфер на ткиво (кожен графт со катастрофални или тешки КК), освен на рака | D14: 110720 | F14: =E14*D14 -> 0 | H14: =G14*D14 -> 0 | I14: =E14+G14 -> 0 | J14: =I14*D14 -> 0 | L14: =K14*D14 -> 0 | N14: =M14*D14 -> 0
A15: 3 | B15: I02B | C15: Кожен графт без катастрофални или тешки КК, освен на рака | D15: 56624 | F15: =E15*D15 -> 0 | H15: =G15*D15 -> 0 | I15: =E15+G15 -> 0 | J15: =I15*D15 -> 0 | L15: =K15*D15 -> 0 | N15: =M15*D15 -> 0
A16: 4 | B16: I03A | C16: Ревизија на колк со катастрофални или тешки КК | D16: 200062 | F16: =E16*D16 -> 0 | H16: =G16*D16 -> 0 | I16: =E16+G16 -> 0 | J16: =I16*D16 -> 0 | L16: =K16*D16 -> 0 | N16: =M16*D16 -> 0
A17: 5 | B17: I03B | C17: Замена на колк со катастрофални или тешки КК или ревизија на колк без катастофални или тешки КК | D17: 155250 | F17: =E17*D17 -> 0 | H17: =G17*D17 -> 0 | I17: =E17+G17 -> 0 | J17: =I17*D17 -> 0 | L17: =K17*D17 -> 0 | N17: =M17*D17 -> 0
A18: 6 | B18: I03C | C18: Замена на колк без катастрофални или тешки КК | D18: 125000 | F18: =E18*D18 -> 0 | H18: =G18*D18 -> 0 | I18: =E18+G18 -> 0 | J18: =I18*D18 -> 0 | L18: =K18*D18 -> 0 | N18: =M18*D18 -> 0
A19: 7 | B19: I04Z | C19: Замена на колено и повторно спојување | D19: 123846 | F19: =E19*D19 -> 0 | H19: =G19*D19 -> 0 | I19: =E19+G19 -> 0 | J19: =I19*D19 -> 0 | L19: =K19*D19 -> 0 | N19: =M19*D19 -> 0
A20: 8 | B20: I05Z | C20: Други репласмани на големите зглобови и процедури за повторно спојување на ектремитети | D20: 98222 | F20: =E20*D20 -> 0 | H20: =G20*D20 -> 0 | I20: =E20+G20 -> 0 | J20: =I20*D20 -> 0 | L20: =K20*D20 -> 0 | N20: =M20*D20 -> 0
A21: 9 | B21: I06Z | C21: ’Рбетна фузија со деформитет | D21: 735000 | F21: =E21*D21 -> 0 | H21: =G21*D21 -> 0 | I21: =E21+G21 -> 0 | J21: =I21*D21 -> 0 | L21: =K21*D21 -> 0 | N21: =M21*D21 -> 0
A22: 10 | B22: I07Z | C22: Ампутација | D22: 106298 | F22: =E22*D22 -> 0 | H22: =G22*D22 -> 0 | I22: =E22+G22 -> 0 | J22: =I22*D22 -> 0 | L22: =K22*D22 -> 0 | N22: =M22*D22 -> 0
A23: 11 | B23: I08A | C23: Други процедури на колк и фемур со катастрофални или тешки КК | D23: 94939 | F23: =E23*D23 -> 0 | H23: =G23*D23 -> 0 | I23: =E23+G23 -> 0 | J23: =I23*D23 -> 0 | L23: =K23*D23 -> 0 | N23: =M23*D23 -> 0
A24: 12 | B24: I08B | C24: Други процедури на колк и фемур без катастрофални или тешки КК | D24: 69041 | F24: =E24*D24 -> 0 | H24: =G24*D24 -> 0 | I24: =E24+G24 -> 0 | J24: =I24*D24 -> 0 | L24: =K24*D24 -> 0 | N24: =M24*D24 -> 0
... A92: 80 | B92: БЛО1 | C92: Замена на тотална протеза на колено | D92: 688000 | F92: =E92*D92 -> 0 | H92: =G92*D92 -> 0 | I92: =E92+G92 -> 0 | J92: =I92*D92 -> 0 | L92: =K92*D92 -> 0 | N92: =M92*D92 -> 0
B93: БЛО2 | C93: Рбетна фузија на три и повеќе нивоа | D93: 210000 | F93: =E93*D93 -> 0 | H93: =G93*D93 -> 0 | I93: =E93+G93 -> 0 | J93: =I93*D93 -> 0 | L93: =K93*D93 -> 0 | N93: =M93*D93 -> 0
A94: 82
C95: ВКУПНО | E95: =SUM(E13:E94) -> 0 | F95: =SUM(F13:F94) -> 0 | G95: =SUM(G13:G94) -> 0 | H95: =SUM(H13:H94) -> 0 | I95: =SUM(I13:I94) -> 0 | J95: =SUM(J13:J94) -> 0 | K95: =SUM(K13:K94) -> 0 | L95: =SUM(L13:L94) -> 0 | ... N95: =SUM(N13:N94) -> 0
B97: ДСГ здравствени услуги по тип на нега
