Workbook

Sheet Почетна страна
B2: П Л А Н
B3: на видот и обемот на ДСГ здравствени услуги и пакети за завршени здравствени услуги во болничка здравствена заштита (акутни болнички случаи кои не се искажуваат според ДС методата) на осигурените лица за 2026 година.
C8: Главна дијагностичка категорија (ДСГ групи: A01-A42) ТРАНСПЛАНТАЦИИ, ЕКСПЛАНТАЦИЈА, МЕХАНИЧКА ВЕНТИЛАЦИЈА И СЛ.
C9: Главна дијагностичка категорија (ДСГ групи: B01-B81) БОЛЕСТИ И ПОРЕМЕТУВАЊА НА НЕРВНИОТ СИСТЕМ
C10: Главна дијагностичка категорија (ДСГ групи: C01-C63, Пакети ХОМ1-ХОМ14) БОЛЕСТИ И ПОРЕМЕТУВАЊА НА ОКОТО
C11: Главна дијагностичка категорија (ДСГ групи: D01-D67) БОЛЕСТИ И ПОРЕМЕТУВАЊА НА УВО НОС И ГРЛО
C12: Главна дијагностичка категорија (ДСГ групи: E01-E75, ТБЦ1-ТБЦ3) БОЛЕСТИ И ПОРЕМЕТУВАЊА НА РЕСПИРАТОРЕН СИСТЕМ
C13: Главна дијагностичка категорија (ДСГ групи: F01-F75, РТС1-РТС2, БЛК1-БЛК11) БОЛЕСТИ И ПОРЕМЕТУВАЊА НА ЦИРКУЛАТОРЕН СИСТЕМ
C14: Главна дијагностичка категорија (ДСГ групи: G01-G70, БЛГ1) БОЛЕСТИ И ПОРЕМЕТУВАЊА НА ДИГЕСТИВЕН СИСТЕМ
C15: Главна дијагностичка категорија (ДСГ групи: H01-H64) БОЛЕСТИ И ПОРЕМЕТУВАЊЕ НА ХЕПАТОБИЛИЈАРЕН СИСТЕМ И ПАНКРЕАС
C16: Главна дијагностичка категорија (ДСГ групи: I01-I79, БЛО1-БЛО2) БОЛЕСТИ И ПОРЕМЕТУВАЊА НА МУСКУЛНО-КОСКЕН И СВРЗЕН СИСТЕМ
C17: Главна дијагностичка категорија (ДСГ групи: J01-J68, ХПД1-ХПД6) БОЛЕСТИ И ПОРЕМЕТУВАЊА НА КОЖАТА ПОТКОЖНОТО ТКИВО И ДОЈКАТА
C18: Главна дијагностичка категорија (ДСГ групи: K01-K64) БОЛЕСТИ И ПОРЕМЕТУВАЊА НА ЖЛЕЗДИ СО ВНАТРЕШНО ЛАЧЕЊЕ, ИСХРАНА И МЕТАБОЛИЗАМ
C19: Главна дијагностичка категорија (ДСГ групи: L02-L67, БЛУ1-БЛУ3) БОЛЕСТИ И ПОРЕМЕТУВАЊА НА БУБРЕГ И УРИНАРЕН СИСТЕМ
... C31: Главна дијагностичка категорија (ДСГ групи: Z01-Z65) ОСТАНАТИ ФАКТОРИ КОИ ВЛИЈААТ НА ЗДРАВЈЕТО

Sheet План-ДСГ-MDC-A
A1: ЈЗУ Универзитетски клиники, клинички болници, општи болници, специјални болници | I1: ПЛ 3 Б - ДСГ MDC-A | O1: Врати се на почетна страна
B3: Здравствена установа | C3: ________________________________________________________________________
A5: П Л А Н
A6: на видот и обемот на ДСГ здравствени услуги и пакети за завршени здравствени услуги во болничка здравствена заштита (акутни болнички случаи кои не се искажуваат според ДСГ методата) на осигурените лица за ___________ година.
A7: Главна дијагностичка категорија (PRE-MDC: A01-A42) ТРАНСПЛАНТАЦИИ, ЕКСПЛАНТАЦИЈА, МЕХАНИЧКА ВЕНТИЛАЦИЈА И СЛ.
A9: Ред.Број | B9: Шифра на ДСГ услуга | C9: Назив на ДСГ услуга | D9: Референтнa ценa | E9: 2026 | K9: 2025 (Реализација јануари- септември и проекција до декември) | M9: 2024
E10: I полугодие | G10: II полугодие | I10: Вкупно
E11: бр. на случаи | F11: износ по ДСГ | G11: бр. на случаи | H11: износ по ДСГ | I11: бр. на услуги | J11: износ по ДСГ | K11: Вкупен бр. на услуги | L11: Вкупен износ по ДСГ | M11: Вкупен бр. на услуги | N11: Вкупен износ по ДСГ
A12: 1 | B12: 2 | C12: 3 | D12: 4 | E12: 5 | F12: 6 | G12: 7 | H12: 8 | I12: 9=(5+6+7+8) | J12: 10(4*9) | K12: 11 | L12: 12 | M12: 13 | N12: 14
A13: 1 | B13: A01Z | C13: Трансплантација на црн дроб | D13: 2721300 | F13: =E13*D13 -> 0 | H13: =G13*D13 -> 0 | I13: =E13+G13 -> 0 | J13: =I13*D13 -> 0 | L13: =K13*D13 -> 0 | N13: =M13*D13 -> 0
A14: 2 | B14: A03Z | C14: Трансплантација на бел дроб или на срце/бел дроб | D14: 594410 | F14: =E14*D14 -> 0 | H14: =G14*D14 -> 0 | I14: =E14+G14 -> 0 | J14: =I14*D14 -> 0 | L14: =K14*D14 -> 0 | N14: =M14*D14 -> 0
A15: 3 | B15: A05Z | C15: Трансплантација на срце | D15: 2349500 | F15: =E15*D15 -> 0 | H15: =G15*D15 -> 0 | I15: =E15+G15 -> 0 | J15: =I15*D15 -> 0 | L15: =K15*D15 -> 0 | N15: =M15*D15 -> 0
A16: 4 | B16: A06A | C16: Трахеостомија и вентилација поголема од 96 часа | D16: 350750 | F16: =E16*D16 -> 0 | H16: =G16*D16 -> 0 | I16: =E16+G16 -> 0 | J16: =I16*D16 -> 0 | L16: =K16*D16 -> 0 | N16: =M16*D16 -> 0
A17: 5 | B17: A06B | C17: Трахеостомија и вентилација помала од 96 часа | D17: 40388 | F17: =E17*D17 -> 0 | H17: =G17*D17 -> 0 | I17: =E17+G17 -> 0 | J17: =I17*D17 -> 0 | L17: =K17*D17 -> 0 | N17: =M17*D17 -> 0
A18: 6 | B18: A07Z | C18: Алогенична трансплантација на коскена срж од сроден донор | D18: 983700 | F18: =E18*D18 -> 0 | H18: =G18*D18 -> 0 | I18: =E18+G18 -> 0 | J18: =I18*D18 -> 0 | L18: =K18*D18 -> 0 | N18: =M18*D18 -> 0
A19: 7 | B19: A08A | C19: Автологна транасплантација на коскена срж со катастрофални КК | D19: 818174 | F19: =E19*D19 -> 0 | H19: =G19*D19 -> 0 | I19: =E19+G19 -> 0 | J19: =I19*D19 -> 0 | L19: =K19*D19 -> 0 | N19: =M19*D19 -> 0
A20: 8 | B20: A08B | C20: Автологна транасплантација на коскена срж без катастрофални КК | D20: 559100 | F20: =E20*D20 -> 0 | H20: =G20*D20 -> 0 | I20: =E20+G20 -> 0 | J20: =I20*D20 -> 0 | L20: =K20*D20 -> 0 | N20: =M20*D20 -> 0
A21: 9 | B21: A09A | C21: Трансплантација на бубрег со трансплантација на панкреас или со катастрофални КК | D21: 1115995 | F21: =E21*D21 -> 0 | H21: =G21*D21 -> 0 | I21: =E21+G21 -> 0 | J21: =I21*D21 -> 0 | L21: =K21*D21 -> 0 | N21: =M21*D21 -> 0
A22: 10 | B22: A09B | C22: Трансплантација на бубрег без трансплантација на панкреас , без катастрофални КК | D22: 747143 | F22: =E22*D22 -> 0 | H22: =G22*D22 -> 0 | I22: =E22+G22 -> 0 | J22: =I22*D22 -> 0 | L22: =K22*D22 -> 0 | N22: =M22*D22 -> 0
A23: 11 | B23: A10Z | C23: Трансплантација на рожница | D23: 201300 | F23: =E23*D23 -> 0 | H23: =G23*D23 -> 0 | I23: =E23+G23 -> 0 | J23: =I23*D23 -> 0 | L23: =K23*D23 -> 0 | N23: =M23*D23 -> 0
A24: 12 | B24: A11Z | C24: Припрема на донор, мултиорганска експлантација и експлантација на ткиво | D24: 315250 | F24: =E24*D24 -> 0 | H24: =G24*D24 -> 0 | I24: =E24+G24 -> 0 | J24: =I24*D24 -> 0 | L24: =K24*D24 -> 0 | N24: =M24*D24 -> 0
... A32: 20 | B32: A42Z | C32: Серолошка обработка на донорот на органи/ткива | D32: 13581 | F32: =E32*D32 -> 0 | H32: =G32*D32 -> 0 | I32: =E32+G32 -> 0 | J32: =I32*D32 -> 0 | L32: =K32*D32 -> 0 | N32: =M32*D32 -> 0
A33: 21
A34: 22
A35: 23
A36: 24
A37: 25
A38: 26
A39: 27
A40: 28
A41: 29
A42: 30
C43: ВКУПНО | E43: =SUM(E13:E42) -> 0 | F43: =SUM(F13:F42) -> 0 | G43: =SUM(G13:G42) -> 0 | H43: =SUM(H13:H42) -> 0 | I43: =SUM(I13:I42) -> 0 | J43: =SUM(J13:J42) -> 0 | K43: =SUM(K13:K42) -> 0 | L43: =SUM(L13:L42) -> 0 | ... N43: =SUM(N13:N42) -> 0
B45: ДСГ здравствени услуги по тип на нега
B46: Шифра на ДСГ група | C46: тип на нега | E46: План за 2026 | N46: 2025 (Реализација јануари- септември и проекција до декември) | Q46: 2024
E47: I полугодие | H47: II полугодие | K47: Вкупно
E48: бр. на случаи | F48: Износ | G48: % од бр. на случаи | H48: бр. на случаи | I48: Износ | J48: % од бр. на случаи | K48: бр. на случаи | L48: Износ | M48: % од бр. на случаи | N48: бр. на случаи | O48: Износ | P48: % од бр. на случаи | Q48: бр. на случаи | R48: Износ | S48: % од бр. на случаи
B49: A01-A15 | C49: Хируршки ДСГ групи | E49: =SUM(E13:E28) -> 0 | F49: =SUM(F13:F28) -> 0 | G49: =E49/$E$43 -> #DIV/0! | H49: =SUM(G13:G28) -> 0 | I49: =SUM(H13:H28) -> 0 | J49: =H49/$G$43 -> #DIV/0! | K49: =SUM(I13:I28) -> 0 | L49: =SUM(J13:J28) -> 0 | M49: =K49/$I$43 -> #DIV/0! | N49: =SUM(K13:K28) -> 0 | O49: =SUM(L13:L28) -> 0 | P49: =N49/$K$43 -> #DIV/0! | Q49: =SUM(M13:M28) -> 0 | R49: =SUM(N13:N28) -> 0 | S49: =Q49/$M$43 -> #DIV/0!
B50: нема | C50: Медицински (интернистички) ДСГ групи | E50: 0 | F50: 0 | G50: =E50/$E$43 -> #DIV/0! | H50: 0 | I50: 0 | J50: =H50/$G$43 -> #DIV/0! | K50: 0 | L50: 0 | M50: =K50/$I$43 -> #DIV/0! | N50: 0 | O50: 0 | P50: =N50/$K$43 -> #DIV/0! | Q50: 0 | R50: 0 | S50: =Q50/$M$43 -> #DIV/0!
B51: A40-A42 | C51: Останати ДСГ групи | E51: =SUM(E29:E32) -> 0 | F51: =SUM(F29:F32) -> 0 | G51: =E51/$E$43 -> #DIV/0! | H51: =SUM(G29:G32) -> 0 | I51: =SUM(H29:H32) -> 0 | J51: =H51/$G$43 -> #DIV/0! | K51: =SUM(I29:I32) -> 0 | L51: =SUM(J29:J32) -> 0 | M51: =K51/$I$43 -> #DIV/0! | N51: =SUM(K29:K32) -> 0 | O51: =SUM(L29:L32) -> 0 | P51: =N51/$K$43 -> #DIV/0! | Q51: =SUM(M29:M32) -> 0 | R51: =SUM(N29:N32) -> 0 | S51: =Q51/$M$43 -> #DIV/0!
A53: Во _____________________на _________________ година. | E53: Составил,_______________________
F55: Д и р е к т о р,
F56: ______________

Sheet План-ДСГ-MDC-B
A1: ЈЗУ Универзитетски клиники, клинички болници, општи болници, специјални болници | I1: ПЛ 3 Б - ДСГ MDC-B | O1: Врати се на почетна страна
B3: Здравствена установа | C3: ________________________________________________________________________
A5: П Л А Н
A6: на видот и обемот на ДСГ здравствени услуги и пакети за завршени здравствени услуги во болничка здравствена заштита (акутни болнички случаи кои не се искажуваат според ДСГ методата) на осигурените лица за ___________ година.
A7: Главна дијагностичка категорија (MDC: B01-B81) БОЛЕСТИ И ПОРЕМЕТУВАЊА НА НЕРВНИОТ СИСТЕМ
A9: Ред.Број | B9: Шифра на ДСГ услуга | C9: Назив на ДСГ услуга | D9: Референтнa ценa | E9: 2026 | K9: 2025 (Реализација јануари- септември и проекција до декември) | M9: 2024
E10: I полугодие | G10: II полугодие | I10: Вкупно
E11: бр. на случаи | F11: износ по ДСГ | G11: бр. на случаи | H11: износ по ДСГ | I11: бр. на услуги | J11: износ по ДСГ | K11: Вкупен бр. на услуги | L11: Вкупен износ по ДСГ | M11: Вкупен бр. на услуги | N11: Вкупен износ по ДСГ
A12: 1 | B12: 2 | C12: 3 | D12: 4 | E12: 5 | F12: 6 | G12: 7 | H12: 8 | I12: 9=(5+6+7+8) | J12: 10(4*9) | K12: 11 | L12: 12 | M12: 13 | N12: 14
A13: 1 | B13: B01Z | C13: Ревизија на вентрикуларен шант | D13: 60008 | F13: =E13*D13 -> 0 | H13: =G13*D13 -> 0 | I13: =E13+G13 -> 0 | J13: =I13*D13 -> 0 | L13: =K13*D13 -> 0 | N13: =M13*D13 -> 0
A14: 2 | B14: B02A | C14: Краниотомија со катастрофални КК | D14: 132210 | F14: =E14*D14 -> 0 | H14: =G14*D14 -> 0 | I14: =E14+G14 -> 0 | J14: =I14*D14 -> 0 | L14: =K14*D14 -> 0 | N14: =M14*D14 -> 0
A15: 3 | B15: B02B | C15: Краниотомија со тешки или умерени КК | D15: 105967 | F15: =E15*D15 -> 0 | H15: =G15*D15 -> 0 | I15: =E15+G15 -> 0 | J15: =I15*D15 -> 0 | L15: =K15*D15 -> 0 | N15: =M15*D15 -> 0
A16: 4 | B16: B02C | C16: Краниотомија без КК | D16: 102121 | F16: =E16*D16 -> 0 | H16: =G16*D16 -> 0 | I16: =E16+G16 -> 0 | J16: =I16*D16 -> 0 | L16: =K16*D16 -> 0 | N16: =M16*D16 -> 0
A17: 5 | B17: B03A | C17: Спинални процедури со катастрофални или тешки КК | D17: 106722 | F17: =E17*D17 -> 0 | H17: =G17*D17 -> 0 | I17: =E17+G17 -> 0 | J17: =I17*D17 -> 0 | L17: =K17*D17 -> 0 | N17: =M17*D17 -> 0
A18: 6 | B18: B03B | C18: Спинални процедури без катастрофални или тешки КК | D18: 54172 | F18: =E18*D18 -> 0 | H18: =G18*D18 -> 0 | I18: =E18+G18 -> 0 | J18: =I18*D18 -> 0 | L18: =K18*D18 -> 0 | N18: =M18*D18 -> 0
A19: 7 | B19: B04A | C19: Екстракранијални васкуларни процедури со катастрофални или тешки КК | D19: 143119 | F19: =E19*D19 -> 0 | H19: =G19*D19 -> 0 | I19: =E19+G19 -> 0 | J19: =I19*D19 -> 0 | L19: =K19*D19 -> 0 | N19: =M19*D19 -> 0
A20: 8 | B20: B04B | C20: Екстракранијални васкуларни процедури без катастрофални или тешки КК | D20: 136464 | F20: =E20*D20 -> 0 | H20: =G20*D20 -> 0 | I20: =E20+G20 -> 0 | J20: =I20*D20 -> 0 | L20: =K20*D20 -> 0 | N20: =M20*D20 -> 0
A21: 9 | B21: B05Z | C21: Ослободување од Карпал Тунел синдром | D21: 9179 | F21: =E21*D21 -> 0 | H21: =G21*D21 -> 0 | I21: =E21+G21 -> 0 | J21: =I21*D21 -> 0 | L21: =K21*D21 -> 0 | N21: =M21*D21 -> 0
A22: 10 | B22: B06A | C22: Процедури за церебрална одземеност, мускулна дистрофија, невропатија со катастрофални или тешки КК | D22: 83947 | F22: =E22*D22 -> 0 | H22: =G22*D22 -> 0 | I22: =E22+G22 -> 0 | J22: =I22*D22 -> 0 | L22: =K22*D22 -> 0 | N22: =M22*D22 -> 0
A23: 11 | B23: B06B | C23: Процедури за церебрална одземеност, мускулна дистрофија, невропатија без катастрофални или тешки КК | D23: 34500 | F23: =E23*D23 -> 0 | H23: =G23*D23 -> 0 | I23: =E23+G23 -> 0 | J23: =I23*D23 -> 0 | L23: =K23*D23 -> 0 | N23: =M23*D23 -> 0
A24: 12 | B24: B07A | C24: Процедури на периферни и кранијални нерви и други процедури на нервен систем со КК | D24: 55162 | F24: =E24*D24 -> 0 | H24: =G24*D24 -> 0 | I24: =E24+G24 -> 0 | J24: =I24*D24 -> 0 | L24: =K24*D24 -> 0 | N24: =M24*D24 -> 0
... A65: 53 | B65: B81B | C65: Други пореметувања на нервниот систем без катастрофални или тешки КК | D65: 19191 | F65: =E65*D65 -> 0 | H65: =G65*D65 -> 0 | I65: =E65+G65 -> 0 | J65: =I65*D65 -> 0 | L65: =K65*D65 -> 0 | N65: =M65*D65 -> 0
C67: ВКУПНО | E67: =SUM(E13:E66) -> 0 | F67: =SUM(F13:F66) -> 0 | G67: =SUM(G13:G66) -> 0 | H67: =SUM(H13:H66) -> 0 | I67: =SUM(I13:I66) -> 0 | J67: =SUM(J13:J66) -> 0 | K67: =SUM(K13:K66) -> 0 | L67: =SUM(L13:L66) -> 0 | ... N67: =SUM(N13:N66) -> 0
B69: ДСГ здравствени услуги по тип на нега
B70: Шифра на ДСГ група | C70: тип на нега | E70: План за 2026 | N70: 2025 (Реализација јануари- септември и проекција до декември) | Q70: 2024
E71: I полугодие | H71: II полугодие | K71: Вкупно
E72: бр. на случаи | F72: Износ | G72: % од бр. на случаи | H72: бр. на случаи | I72: Износ | J72: % од бр. на случаи | K72: бр. на случаи | L72: Износ | M72: % од бр. на случаи | N72: бр. на случаи | O72: Износ | P72: % од бр. на случаи | Q72: бр. на случаи | R72: Износ | S72: % од бр. на случаи
B73: B01-B07 | C73: Хируршки ДСГ групи | E73: =SUM(E13:E25) -> 0 | F73: =SUM(F13:F25) -> 0 | G73: =E73/$E$67 -> #DIV/0! | H73: =SUM(G13:G25) -> 0 | I73: =SUM(H13:H25) -> 0 | J73: =H73/$G$67 -> #DIV/0! | K73: =SUM(I13:I25) -> 0 | L73: =SUM(J13:J25) -> 0 | M73: =K73/$I$67 -> #DIV/0! | N73: =SUM(K13:K25) -> 0 | O73: =SUM(L13:L25) -> 0 | P73: =N73/$K$67 -> #DIV/0! | Q73: =SUM(M13:M25) -> 0 | R73: =SUM(N13:N25) -> 0 | S73: =Q73/$M$67 -> #DIV/0!
B74: B60-B81 | C74: Медицински (интернистички) ДСГ групи | E74: =SUM(E28:E66) -> 0 | F74: =SUM(F28:F66) -> 0 | G74: =E74/$E$67 -> #DIV/0! | H74: =SUM(G28:G66) -> 0 | I74: =SUM(H28:H66) -> 0 | J74: =H74/$G$67 -> #DIV/0! | K74: =SUM(I28:I66) -> 0 | L74: =SUM(J28:J66) -> 0 | M74: =K74/$I$67 -> #DIV/0! | N74: =SUM(K28:K66) -> 0 | O74: =SUM(L28:L66) -> 0 | P74: =N74/$K$67 -> #DIV/0! | Q74: =SUM(M28:M66) -> 0 | R74: =SUM(N28:N66) -> 0 | S74: =Q74/$M$67 -> #DIV/0!
B75: B40-B41 | C75: Останати ДСГ групи | E75: =SUM(E26:E27) -> 0 | F75: =SUM(F26:F27) -> 0 | G75: =E75/$E$67 -> #DIV/0! | H75: =SUM(G26:G27) -> 0 | I75: =SUM(H26:H27) -> 0 | J75: =H75/$G$67 -> #DIV/0! | K75: =SUM(I26:I27) -> 0 | L75: =SUM(J26:J27) -> 0 | M75: =K75/$I$67 -> #DIV/0! | N75: =SUM(K26:K27) -> 0 | O75: =SUM(L26:L27) -> 0 | P75: =N75/$K$67 -> #DIV/0! | Q75: =SUM(M26:M27) -> 0 | R75: =SUM(N26:N27) -> 0 | S75: =Q75/$M$67 -> #DIV/0!
A77: Во _____________________на _________________ година. | E77: Составил,_______________________
F79: Д и р е к т о р,
F80: ______________

Sheet План-ДСГ-MDC-C
A1: ЈЗУ Универзитетски клиники, клинички болници, општи болници, специјални болници | I1: ПЛ 3 Б - ДСГ MDC-C | O1: Врати се на почетна страна
B3: Здравствена установа | C3: ________________________________________________________________________
A5: П Л А Н
A6: на видот и обемот на ДСГ здравствени услуги и пакети за завршени здравствени услуги во болничка здравствена заштита (акутни болнички случаи кои не се искажуваат според ДСГ методата) на осигурените лица за ___________ година.
A7: Главна дијагностичка категорија (MDC: C01-C63, ХОМ1-ХОМ14) БОЛЕСТИ И ПОРЕМЕТУВАЊА НА ОКОТО
A9: Ред.Број | B9: Шифра на ДСГ услуга | C9: Назив на ДСГ услуга | D9: Референтнa ценa | E9: 2026 | K9: 2025 (Реализација јануари- септември и проекција до декември) | M9: 2024
E10: I полугодие | G10: II полугодие | I10: Вкупно
E11: бр. на случаи | F11: износ по ДСГ | G11: бр. на случаи | H11: износ по ДСГ | I11: бр. на услуги | J11: износ по ДСГ | K11: Вкупен бр. на услуги | L11: Вкупен износ по ДСГ | M11: Вкупен бр. на услуги | N11: Вкупен износ по ДСГ
A12: 1 | B12: 2 | C12: 3 | D12: 4 | E12: 5 | F12: 6 | G12: 7 | H12: 8 | I12: 9=(5+6+7+8) | J12: 10(4*9) | K12: 11 | L12: 12 | M12: 13 | N12: 14
A13: 1 | B13: C01Z | C13: Процедури за пенетрирачки повреди на око | D13: 31593 | F13: =E13*D13 -> 0 | H13: =G13*D13 -> 0 | I13: =E13+G13 -> 0 | J13: =I13*D13 -> 0 | L13: =K13*D13 -> 0 | N13: =M13*D13 -> 0
A14: 2 | B14: C02Z | C14: Процедури за отстранување на очно јаболко и процедури на орбитата | D14: 25278 | F14: =E14*D14 -> 0 | H14: =G14*D14 -> 0 | I14: =E14+G14 -> 0 | J14: =I14*D14 -> 0 | L14: =K14*D14 -> 0 | N14: =M14*D14 -> 0
A15: 3 | B15: C03Z | C15: Процедури на мрежницата | D15: 27727 | F15: =E15*D15 -> 0 | H15: =G15*D15 -> 0 | I15: =E15+G15 -> 0 | J15: =I15*D15 -> 0 | L15: =K15*D15 -> 0 | N15: =M15*D15 -> 0
A16: 4 | B16: C04Z | C16: Големи процедури на рожницата , белката и конјуктивата | D16: 24808 | F16: =E16*D16 -> 0 | H16: =G16*D16 -> 0 | I16: =E16+G16 -> 0 | J16: =I16*D16 -> 0 | L16: =K16*D16 -> 0 | N16: =M16*D16 -> 0
A17: 5 | B17: C05Z | C17: Дакриоцисториностомија | D17: 23376 | F17: =E17*D17 -> 0 | H17: =G17*D17 -> 0 | I17: =E17+G17 -> 0 | J17: =I17*D17 -> 0 | L17: =K17*D17 -> 0 | N17: =M17*D17 -> 0
A18: 6 | B18: C10Z | C18: Процедури за страбизам | D18: 19690 | F18: =E18*D18 -> 0 | H18: =G18*D18 -> 0 | I18: =E18+G18 -> 0 | J18: =I18*D18 -> 0 | L18: =K18*D18 -> 0 | N18: =M18*D18 -> 0
A19: 7 | B19: C11Z | C19: Процедури на очниот капак | D19: 13326 | F19: =E19*D19 -> 0 | H19: =G19*D19 -> 0 | I19: =E19+G19 -> 0 | J19: =I19*D19 -> 0 | L19: =K19*D19 -> 0 | N19: =M19*D19 -> 0
A20: 8 | B20: C12Z | C20: Други процедури на рожницата , белката и конјуктивата | D20: 9957 | F20: =E20*D20 -> 0 | H20: =G20*D20 -> 0 | I20: =E20+G20 -> 0 | J20: =I20*D20 -> 0 | L20: =K20*D20 -> 0 | N20: =M20*D20 -> 0
A21: 9 | B21: C13Z | C21: Процедури на солзните жлезди и канали | D21: 7634 | F21: =E21*D21 -> 0 | H21: =G21*D21 -> 0 | I21: =E21+G21 -> 0 | J21: =I21*D21 -> 0 | L21: =K21*D21 -> 0 | N21: =M21*D21 -> 0
A22: 10 | B22: C14Z | C22: Други процедури на окото | D22: 6901 | F22: =E22*D22 -> 0 | H22: =G22*D22 -> 0 | I22: =E22+G22 -> 0 | J22: =I22*D22 -> 0 | L22: =K22*D22 -> 0 | N22: =M22*D22 -> 0
A23: 11 | B23: C15A | C23: Сложени процедури на глауком и катаракта | D23: 17279 | F23: =E23*D23 -> 0 | H23: =G23*D23 -> 0 | I23: =E23+G23 -> 0 | J23: =I23*D23 -> 0 | L23: =K23*D23 -> 0 | N23: =M23*D23 -> 0
A24: 12 | B24: C15B | C24: Сложени процедури на глауком и катаракта ,истиот ден | D24: 10773 | F24: =E24*D24 -> 0 | H24: =G24*D24 -> 0 | I24: =E24+G24 -> 0 | J24: =I24*D24 -> 0 | L24: =K24*D24 -> 0 | N24: =M24*D24 -> 0
... A46: 45 | B46: ХОМ14 | C46: Радиална и лимбална кератoтомија на две очи | D46: 25000 | F46: =E46*D46 -> 0 | H46: =G46*D46 -> 0 | I46: =E46+G46 -> 0 | J46: =I46*D46 -> 0 | L46: =K46*D46 -> 0 | N46: =M46*D46 -> 0
C48: ВКУПНО | E48: =SUM(E13:E47) -> 0 | F48: =SUM(F13:F47) -> 0 | G48: =SUM(G13:G47) -> 0 | H48: =SUM(H13:H47) -> 0 | I48: =SUM(I13:I47) -> 0 | J48: =SUM(J13:J47) -> 0 | K48: =SUM(K13:K47) -> 0 | L48: =SUM(L13:L47) -> 0 | ... N48: =SUM(N13:N47) -> 0
B50: ДСГ здравствени услуги по тип на нега
B51: Шифра на ДСГ група | C51: тип на нега | E51: План за 2026 | N51: 2025 (Реализација јануари- септември и проекција до декември) | Q51: 2024
E52: I полугодие | H52: II полугодие | K52: Вкупно
E53: бр. на случаи | F53: Износ | G53: % од бр. на случаи | H53: бр. на случаи | I53: Износ | J53: % од бр. на случаи | K53: бр. на случаи | L53: Износ | M53: % од бр. на случаи | N53: бр. на случаи | O53: Износ | P53: % од бр. на случаи | Q53: бр. на случаи | R53: Износ | S53: % од бр. на случаи
B54: C01-C17, ХОМ01-ХОМ07, ХОМ09-ХОМ14 | C54: Хируршки ДСГ групи | E54: =SUM(E13:E28)+E35+E36+E37+E38+E39+E41+E42+E43+E44+E45+E46 -> 0 | F54: =SUM(F13:F28)+F35+F36+F37+F38+F39+F41+F42+F43+F44+F45+F46 -> 0 | G54: =E54/$E$48 -> #DIV/0! | H54: =SUM(G13:G28)+G35+G36+G37+G38+G39+G41+G42+G43+G44+G45+G46 -> 0 | I54: =SUM(H13:H28)+H35+H36+H37+H38+H39+H41+H42+H43+H44+H45+H46 -> 0 | J54: =H54/$G$48 -> #DIV/0! | K54: =SUM(I13:I28)+I35+I36+I37+I38+I39+I41+I42+I43+I44+I45+I46 -> 0 | L54: =SUM(J13:J28)+J35+J36+J37+J38+J39+J41+J42+J43+J44+J45+J46 -> 0 | M54: =K54/$I$48 -> #DIV/0! | N54: =SUM(K13:K28)+K35+K36+K37+K38+K39+K41+K42+K43+K44+K45+K46 -> 0 | O54: =SUM(L13:L28)+L35+L36+L37+L38+L39+L41+L42+L43+L44+L45+L46 -> 0 | P54: =N54/$K$48 -> #DIV/0! | Q54: =SUM(M13:M28)+M35+M36+M37+M38+M39+M41+M42+M43+M44+M45+M46 -> 0 | R54: =SUM(N13:N28)+N35+N36+N37+N38+N39+N41+N42+N43+N44+N45+N46 -> 0 | S54: =Q54/$M$48 -> #DIV/0!
B55: C60-C63, ХОМ08 | C55: Медицински (интернистички) ДСГ групи | E55: =SUM(E29:E34)+E40 -> 0 | F55: =SUM(F29:F34)+F40 -> 0 | G55: =E55/$E$48 -> #DIV/0! | H55: =SUM(G29:G34)+G40 -> 0 | I55: =SUM(H29:H34)+H40 -> 0 | J55: =H55/$G$48 -> #DIV/0! | K55: =SUM(I29:I34)+I40 -> 0 | L55: =SUM(J29:J34)+J40 -> 0 | M55: =K55/$I$48 -> #DIV/0! | N55: =SUM(K29:K34)+K40 -> 0 | O55: =SUM(L29:L34)+L40 -> 0 | P55: =N55/$K$48 -> #DIV/0! | Q55: =SUM(M29:M34)+M40 -> 0 | R55: =SUM(N29:N34)+N40 -> 0 | S55: =Q55/$M$48 -> #DIV/0!
B56: нема | C56: Останати ДСГ групи | E56: 0 | F56: 0 | G56: =E56/$E$48 -> #DIV/0! | H56: 0 | I56: 0 | J56: =H56/$G$48 -> #DIV/0! | K56: 0 | L56: 0 | M56: =K56/$I$48 -> #DIV/0! | N56: 0 | O56: 0 | P56: =N56/$K$48 -> #DIV/0! | Q56: 0 | R56: 0 | S56: =Q56/$M$48 -> #DIV/0!
A58: Во _____________________на _________________ година. | E58: Составил,_______________________
F60: Д и р е к т о р,
F61: ______________

Sheet План-ДСГ-MDC-D
A1: ЈЗУ Универзитетски клиники, клинички болници, општи болници, специјални болници | I1: ПЛ 3 Б - ДСГ MDC-D | O1: Врати се на почетна страна
B3: Здравствена установа | C3: ________________________________________________________________________
A5: П Л А Н
A6: на видот и обемот на ДСГ здравствени услуги и пакети за завршени здравствени услуги во болничка здравствена заштита (акутни болнички случаи кои не се искажуваат според ДСГ методата) на осигурените лица за ___________ година.
A7: Главна дијагностичка категорија (MDC: D01-D67) БОЛЕСТИ И ПОРЕМЕТУВАЊА НА УВО НОС И ГРЛО
A9: Ред.Број | B9: Шифра на ДСГ услуга | C9: Назив на ДСГ услуга | D9: Референтнa ценa | E9: 2026 | K9: 2025 (Реализација јануари- септември и проекција до декември) | M9: 2024
E10: I полугодие | G10: II полугодие | I10: Вкупно
E11: бр. на случаи | F11: износ по ДСГ | G11: бр. на случаи | H11: износ по ДСГ | I11: бр. на услуги | J11: износ по ДСГ | K11: Вкупен бр. на услуги | L11: Вкупен износ по ДСГ | M11: Вкупен бр. на услуги | N11: Вкупен износ по ДСГ
A12: 1 | B12: 2 | C12: 3 | D12: 4 | E12: 5 | F12: 6 | G12: 7 | H12: 8 | I12: 9=(5+6+7+8) | J12: 10(4*9) | K12: 11 | L12: 12 | M12: 13 | N12: 14
A13: 1 | B13: D01Z | C13: Вградување на кохлеарен имплант | D13: 636400 | F13: =E13*D13 -> 0 | H13: =G13*D13 -> 0 | I13: =E13+G13 -> 0 | J13: =I13*D13 -> 0 | L13: =K13*D13 -> 0 | N13: =M13*D13 -> 0
A14: 2 | B14: D02A | C14: Процедури на глава и врат со катастрофални и тешки КК | D14: 87139 | F14: =E14*D14 -> 0 | H14: =G14*D14 -> 0 | I14: =E14+G14 -> 0 | J14: =I14*D14 -> 0 | L14: =K14*D14 -> 0 | N14: =M14*D14 -> 0
A15: 3 | B15: D02B | C15: Процедури на глава и врат со малигна болест или умерени КК | D15: 48223 | F15: =E15*D15 -> 0 | H15: =G15*D15 -> 0 | I15: =E15+G15 -> 0 | J15: =I15*D15 -> 0 | L15: =K15*D15 -> 0 | N15: =M15*D15 -> 0
A16: 4 | B16: D02C | C16: Процедури на глава и врат без малигна болест и без КК | D16: 28080 | F16: =E16*D16 -> 0 | H16: =G16*D16 -> 0 | I16: =E16+G16 -> 0 | J16: =I16*D16 -> 0 | L16: =K16*D16 -> 0 | N16: =M16*D16 -> 0
A17: 5 | B17: D03Z | C17: Хируршка репарација на расцепена уста или непце | D17: 37168 | F17: =E17*D17 -> 0 | H17: =G17*D17 -> 0 | I17: =E17+G17 -> 0 | J17: =I17*D17 -> 0 | L17: =K17*D17 -> 0 | N17: =M17*D17 -> 0
A18: 6 | B18: D04A | C18: Максиларна хирургија со КК | D18: 55445 | F18: =E18*D18 -> 0 | H18: =G18*D18 -> 0 | I18: =E18+G18 -> 0 | J18: =I18*D18 -> 0 | L18: =K18*D18 -> 0 | N18: =M18*D18 -> 0
A19: 7 | B19: D04B | C19: Максиларна хирургија без КК | D19: 45215 | F19: =E19*D19 -> 0 | H19: =G19*D19 -> 0 | I19: =E19+G19 -> 0 | J19: =I19*D19 -> 0 | L19: =K19*D19 -> 0 | N19: =M19*D19 -> 0
A20: 8 | B20: D05Z | C20: Процедури на паротидна жлезда | D20: 45675 | F20: =E20*D20 -> 0 | H20: =G20*D20 -> 0 | I20: =E20+G20 -> 0 | J20: =I20*D20 -> 0 | L20: =K20*D20 -> 0 | N20: =M20*D20 -> 0
A21: 9 | B21: D06Z | C21: Процедури на синусусите, мастоидот и сложени процедури на средното уво | D21: 27039 | F21: =E21*D21 -> 0 | H21: =G21*D21 -> 0 | I21: =E21+G21 -> 0 | J21: =I21*D21 -> 0 | L21: =K21*D21 -> 0 | N21: =M21*D21 -> 0
A22: 10 | B22: D09Z | C22: Разни процедури на уво, нос, уста и грло | D22: 17494 | F22: =E22*D22 -> 0 | H22: =G22*D22 -> 0 | I22: =E22+G22 -> 0 | J22: =I22*D22 -> 0 | L22: =K22*D22 -> 0 | N22: =M22*D22 -> 0
A23: 11 | B23: D10Z | C23: Процедури на носот | D23: 22280 | F23: =E23*D23 -> 0 | H23: =G23*D23 -> 0 | I23: =E23+G23 -> 0 | J23: =I23*D23 -> 0 | L23: =K23*D23 -> 0 | N23: =M23*D23 -> 0
A24: 12 | B24: D11Z | C24: Тонзилектомија и/или аденоидектомија | D24: 14208 | F24: =E24*D24 -> 0 | H24: =G24*D24 -> 0 | I24: =E24+G24 -> 0 | J24: =I24*D24 -> 0 | L24: =K24*D24 -> 0 | N24: =M24*D24 -> 0
... A40: 28 | B40: D67B | C40: Орални и дентални пореметувања освен ектракции и поправки, истиот ден | D40: 3304 | F40: =E40*D40 -> 0 | H40: =G40*D40 -> 0 | I40: =E40+G40 -> 0 | J40: =I40*D40 -> 0 | L40: =K40*D40 -> 0 | N40: =M40*D40 -> 0
C42: ВКУПНО | E42: =SUM(E13:E41) -> 0 | F42: =SUM(F13:F41) -> 0 | G42: =SUM(G13:G41) -> 0 | H42: =SUM(H13:H41) -> 0 | I42: =SUM(I13:I41) -> 0 | J42: =SUM(J13:J41) -> 0 | K42: =SUM(K13:K41) -> 0 | L42: =SUM(L13:L41) -> 0 | ... N42: =SUM(N13:N41) -> 0
B44: ДСГ здравствени услуги по тип на нега
B45: Шифра на ДСГ група | C45: тип на нега | E45: План за 2026 | N45: 2025 (Реализација јануари- септември и проекција до декември) | Q45: 2024
E46: I полугодие | H46: II полугодие | K46: Вкупно
E47: бр. на случаи | F47: Износ | G47: % од бр. на случаи | H47: бр. на случаи | I47: Износ | J47: % од бр. на случаи | K47: бр. на случаи | L47: Износ | M47: % од бр. на случаи | N47: бр. на случаи | O47: Износ | P47: % од бр. на случаи | Q47: бр. на случаи | R47: Износ | S47: % од бр. на случаи
B48: D01-D14 | C48: Хируршки ДСГ групи | E48: =SUM(E13:E27) -> 0 | F48: =SUM(F13:F27) -> 0 | G48: =E48/$E$42 -> #DIV/0! | H48: =SUM(G13:G27) -> 0 | I48: =SUM(H13:H27) -> 0 | J48: =H48/$G$42 -> #DIV/0! | K48: =SUM(I13:I27) -> 0 | L48: =SUM(J13:J27) -> 0 | M48: =K48/$I$42 -> #DIV/0! | N48: =SUM(K13:K27) -> 0 | O48: =SUM(L13:L27) -> 0 | P48: =N48/$K$42 -> #DIV/0! | Q48: =SUM(M13:M27) -> 0 | R48: =SUM(N13:N27) -> 0 | S48: =Q48/$M$42 -> #DIV/0!
B49: B60-B67 | C49: Медицински (интернистички) ДСГ групи | E49: =SUM(E29:E40) -> 0 | F49: =SUM(F29:F40) -> 0 | G49: =E49/$E$42 -> #DIV/0! | H49: =SUM(G29:G40) -> 0 | I49: =SUM(H29:H40) -> 0 | J49: =H49/$G$42 -> #DIV/0! | K49: =SUM(I29:I40) -> 0 | L49: =SUM(J29:J40) -> 0 | M49: =K49/$I$42 -> #DIV/0! | N49: =SUM(K29:K40) -> 0 | O49: =SUM(L29:L40) -> 0 | P49: =N49/$K$42 -> #DIV/0! | Q49: =SUM(M29:M40) -> 0 | R49: =SUM(N29:N40) -> 0 | S49: =Q49/$M$42 -> #DIV/0!
B50: D40 | C50: Останати ДСГ групи | E50: =SUM(E28) -> 0 | F50: =SUM(F28) -> 0 | G50: =E50/$E$42 -> #DIV/0! | H50: =SUM(G28) -> 0 | I50: =SUM(H28) -> 0 | J50: =H50/$G$42 -> #DIV/0! | K50: =SUM(I28) -> 0 | L50: =SUM(J28) -> 0 | M50: =K50/$I$42 -> #DIV/0! | N50: =SUM(K28) -> 0 | O50: =SUM(L28) -> 0 | P50: =N50/$K$42 -> #DIV/0! | Q50: =SUM(M28) -> 0 | R50: =SUM(N28) -> 0 | S50: =Q50/$M$42 -> #DIV/0!
A52: Во _____________________на _________________ година. | E52: Составил,_______________________
F54: Д и р е к т о р,
F55: ______________

Sheet План-ДСГ-MDC-E
A1: ЈЗУ Универзитетски клиники, клинички болници, општи болници, специјални болници | I1: ПЛ 3 Б - ДСГ MDC-E | O1: Врати се на почетна страна
B3: Здравствена установа | C3: ________________________________________________________________________
A5: П Л А Н
A6: на видот и обемот на ДСГ здравствени услуги и пакети за завршени здравствени услуги во болничка здравствена заштита (акутни болнички случаи кои не се искажуваат според ДСГ методата) на осигурените лица за ___________ година.
A7: Главна дијагностичка категорија (MDC: E01-E75, ТБЦ1-ТБЦ3) БОЛЕСТИ И ПОРЕМЕТУВАЊА НА РЕСПИРАТОРЕН СИСТЕМ
A9: Ред.Број | B9: Шифра на ДСГ услуга | C9: Назив на ДСГ услуга | D9: Референтнa ценa | E9: 2026 | K9: 2025 (Реализација јануари- септември и проекција до декември) | M9: 2024
E10: I полугодие | G10: II полугодие | I10: Вкупно
E11: бр. на случаи | F11: износ по ДСГ | G11: бр. на случаи | H11: износ по ДСГ | I11: бр. на услуги | J11: износ по ДСГ | K11: Вкупен бр. на услуги | L11: Вкупен износ по ДСГ | M11: Вкупен бр. на услуги | N11: Вкупен износ по ДСГ
A12: 1 | B12: 2 | C12: 3 | D12: 4 | E12: 5 | F12: 6 | G12: 7 | H12: 8 | I12: 9=(5+6+7+8) | J12: 10(4*9) | K12: 11 | L12: 12 | M12: 13 | N12: 14
A13: 1 | B13: E01A | C13: Големи процедури на градниот кош со катастрофални КК | D13: 164531 | F13: =E13*D13 -> 0 | H13: =G13*D13 -> 0 | I13: =E13+G13 -> 0 | J13: =I13*D13 -> 0 | L13: =K13*D13 -> 0 | N13: =M13*D13 -> 0
A14: 2 | B14: E01B | C14: Големи процедури на градниот кош без катастрофални КК | D14: 95728 | F14: =E14*D14 -> 0 | H14: =G14*D14 -> 0 | I14: =E14+G14 -> 0 | J14: =I14*D14 -> 0 | L14: =K14*D14 -> 0 | N14: =M14*D14 -> 0
A15: 3 | B15: E02A | C15: Други процедури на респираторниот систем во операциона сала со катастрофални КК | D15: 82893 | F15: =E15*D15 -> 0 | H15: =G15*D15 -> 0 | I15: =E15+G15 -> 0 | J15: =I15*D15 -> 0 | L15: =K15*D15 -> 0 | N15: =M15*D15 -> 0
A16: 4 | B16: E02B | C16: Други процедури на респираторниот систем во операциона сала со тешки КК | D16: 51583 | F16: =E16*D16 -> 0 | H16: =G16*D16 -> 0 | I16: =E16+G16 -> 0 | J16: =I16*D16 -> 0 | L16: =K16*D16 -> 0 | N16: =M16*D16 -> 0
A17: 5 | B17: E02C | C17: Други процедури на респираторниот систем во операциона сала без катастрофални или тешки КК | D17: 34150 | F17: =E17*D17 -> 0 | H17: =G17*D17 -> 0 | I17: =E17+G17 -> 0 | J17: =I17*D17 -> 0 | L17: =K17*D17 -> 0 | N17: =M17*D17 -> 0
A18: 6 | B18: E40Z | C18: Дијагноза на респираторниот систем со помош на респираторна подршка | D18: 129627 | F18: =E18*D18 -> 0 | H18: =G18*D18 -> 0 | I18: =E18+G18 -> 0 | J18: =I18*D18 -> 0 | L18: =K18*D18 -> 0 | N18: =M18*D18 -> 0
A19: 7 | B19: E41Z | C19: Дијагноза на респираторниот систем со неинвазивна вентилација | D19: 50763 | F19: =E19*D19 -> 0 | H19: =G19*D19 -> 0 | I19: =E19+G19 -> 0 | J19: =I19*D19 -> 0 | L19: =K19*D19 -> 0 | N19: =M19*D19 -> 0
A20: 8 | B20: E60A | C20: Цистична фиброза со катастрофални или тешки КК | D20: 94547 | F20: =E20*D20 -> 0 | H20: =G20*D20 -> 0 | I20: =E20+G20 -> 0 | J20: =I20*D20 -> 0 | L20: =K20*D20 -> 0 | N20: =M20*D20 -> 0
A21: 9 | B21: E60B | C21: Цистична фиброза без катастрофални или тешки КК | D21: 58068 | F21: =E21*D21 -> 0 | H21: =G21*D21 -> 0 | I21: =E21+G21 -> 0 | J21: =I21*D21 -> 0 | L21: =K21*D21 -> 0 | N21: =M21*D21 -> 0
A22: 10 | B22: E61A | C22: Белодробна емболија со катастрофални или тешки КК | D22: 47340 | F22: =E22*D22 -> 0 | H22: =G22*D22 -> 0 | I22: =E22+G22 -> 0 | J22: =I22*D22 -> 0 | L22: =K22*D22 -> 0 | N22: =M22*D22 -> 0
A23: 11 | B23: E61B | C23: Белодробна емболија без катастрофални или тешки КК | D23: 33722 | F23: =E23*D23 -> 0 | H23: =G23*D23 -> 0 | I23: =E23+G23 -> 0 | J23: =I23*D23 -> 0 | L23: =K23*D23 -> 0 | N23: =M23*D23 -> 0
A24: 12 | B24: E62A | C24: Респираторни инфекции/воспаленија со катастрофални КК | D24: 47058 | F24: =E24*D24 -> 0 | H24: =G24*D24 -> 0 | I24: =E24+G24 -> 0 | J24: =I24*D24 -> 0 | L24: =K24*D24 -> 0 | N24: =M24*D24 -> 0
... A57: 45 | B57: ТБЦ3 | C57: Акутна туберкулоза со завршено лекување за повеќе од 62 дена | D57: 83922 | F57: =E57*D57 -> 0 | H57: =G57*D57 -> 0 | I57: =E57+G57 -> 0 | J57: =I57*D57 -> 0 | L57: =K57*D57 -> 0 | N57: =M57*D57 -> 0
C59: ВКУПНО | E59: =SUM(E13:E58) -> 0 | F59: =SUM(F13:F58) -> 0 | G59: =SUM(G13:G58) -> 0 | H59: =SUM(H13:H58) -> 0 | I59: =SUM(I13:I58) -> 0 | J59: =SUM(J13:J58) -> 0 | K59: =SUM(K13:K58) -> 0 | L59: =SUM(L13:L58) -> 0 | ... N59: =SUM(N13:N58) -> 0
B61: ДСГ здравствени услуги по тип на нега
B62: Шифра на ДСГ група | C62: тип на нега | E62: План за 2026 | N62: 2025 (Реализација јануари- септември и проекција до декември) | Q62: 2024
E63: I полугодие | H63: II полугодие | K63: Вкупно
E64: бр. на случаи | F64: Износ | G64: % од бр. на случаи | H64: бр. на случаи | I64: Износ | J64: % од бр. на случаи | K64: бр. на случаи | L64: Износ | M64: % од бр. на случаи | N64: бр. на случаи | O64: Износ | P64: % од бр. на случаи | Q64: бр. на случаи | R64: Износ | S64: % од бр. на случаи
B65: E01-E02 | C65: Хируршки ДСГ групи | E65: =SUM(E13:E17) -> 0 | F65: =SUM(F13:F17) -> 0 | G65: =E65/$E$59 -> #DIV/0! | H65: =SUM(G13:G17) -> 0 | I65: =SUM(H13:H17) -> 0 | J65: =H65/$G$59 -> #DIV/0! | K65: =SUM(I13:I17) -> 0 | L65: =SUM(J13:J17) -> 0 | M65: =K65/$I$59 -> #DIV/0! | N65: =SUM(K13:K17) -> 0 | O65: =SUM(L13:L17) -> 0 | P65: =N65/$K$59 -> #DIV/0! | Q65: =SUM(M13:M17) -> 0 | R65: =SUM(N13:N17) -> 0 | S65: =Q65/$M$59 -> #DIV/0!
B66: E60-E75, ТБЦ1-ТБЦ3 | C66: Медицински (интернистички) ДСГ групи | E66: =SUM(E20:E58) -> 0 | F66: =SUM(F20:F58) -> 0 | G66: =E66/$E$59 -> #DIV/0! | H66: =SUM(G20:G58) -> 0 | I66: =SUM(H20:H58) -> 0 | J66: =H66/$G$59 -> #DIV/0! | K66: =SUM(I20:I58) -> 0 | L66: =SUM(J20:J58) -> 0 | M66: =K66/$I$59 -> #DIV/0! | N66: =SUM(K20:K58) -> 0 | O66: =SUM(L20:L58) -> 0 | P66: =N66/$K$59 -> #DIV/0! | Q66: =SUM(M20:M58) -> 0 | R66: =SUM(N20:N58) -> 0 | S66: =Q66/$M$59 -> #DIV/0!
B67: Е40-Е41 | C67: Останати ДСГ групи | E67: =SUM(E18:E19) -> 0 | F67: =SUM(F18:F19) -> 0 | G67: =E67/$E$59 -> #DIV/0! | H67: =SUM(G18:G19) -> 0 | I67: =SUM(H18:H19) -> 0 | J67: =H67/$G$59 -> #DIV/0! | K67: =SUM(I18:I19) -> 0 | L67: =SUM(J18:J19) -> 0 | M67: =K67/$I$59 -> #DIV/0! | N67: =SUM(K18:K19) -> 0 | O67: =SUM(L18:L19) -> 0 | P67: =N67/$K$59 -> #DIV/0! | Q67: =SUM(M18:M19) -> 0 | R67: =SUM(N18:N19) -> 0 | S67: =Q67/$M$59 -> #DIV/0!
A69: Во _____________________на _________________ година. | E69: Составил,_______________________
F71: Д и р е к т о р,
F72: ______________

Sheet План-ДСГ-MDC-F
A1: ЈЗУ Универзитетски клиники, клинички болници, општи болници, специјални болници | I1: ПЛ 3 Б - ДСГ MDC-F | O1: Врати се на почетна страна
B3: Здравствена установа | C3: ________________________________________________________________________
A5: П Л А Н
A6: на видот и обемот на ДСГ здравствени услуги и пакети за завршени здравствени услуги во болничка здравствена заштита (акутни болнички случаи кои не се искажуваат според ДСГ методата) на осигурените лица за ___________ година.
A7: Главна дијагностичка категорија (MDC: F01-F75, РТС1-РТС2, БЛК1-БЛК11) БОЛЕСТИ И ПОРЕМЕТУВАЊА НА ЦИРКУЛАТОРЕН СИСТЕМ
A9: Ред.Број | B9: Шифра на ДСГ услуга | C9: Назив на ДСГ услуга | D9: Референтнa ценa | E9: 2026 | K9: 2025 (Реализација јануари- септември и проекција до декември) | M9: 2024
E10: I полугодие | G10: II полугодие | I10: Вкупно
E11: бр. на случаи | F11: износ по ДСГ | G11: бр. на случаи | H11: износ по ДСГ | I11: бр. на услуги | J11: износ по ДСГ | K11: Вкупен бр. на услуги | L11: Вкупен износ по ДСГ | M11: Вкупен бр. на услуги | N11: Вкупен износ по ДСГ
A12: 1 | B12: 2 | C12: 3 | D12: 4 | E12: 5 | F12: 6 | G12: 7 | H12: 8 | I12: 9=(5+6+7+8) | J12: 10(4*9) | K12: 11 | L12: 12 | M12: 13 | N12: 14
A13: 1 | B13: F01A | C13: Имплантација или замена на AICD ( автоматски имплантабилен кардијален дефибрилатор ), вкупен систем со катастрофални или тешки КК | D13: 397990 | F13: =E13*D13 -> 0 | H13: =G13*D13 -> 0 | I13: =E13+G13 -> 0 | J13: =I13*D13 -> 0 | L13: =K13*D13 -> 0 | N13: =M13*D13 -> 0
A14: 2 | B14: F01B | C14: Имплантација или замена на AICD ( автоматски имплантабилен кардијален дефибрилатор ), вкупен систем без катастрофални или тешки КК | D14: 277216 | F14: =E14*D14 -> 0 | H14: =G14*D14 -> 0 | I14: =E14+G14 -> 0 | J14: =I14*D14 -> 0 | L14: =K14*D14 -> 0 | N14: =M14*D14 -> 0
A15: 3 | B15: F02Z | C15: Имплантација или замена на дел од AICD ( автоматски имплантабилен кардијален дефибрилатор ). | D15: 99878 | F15: =E15*D15 -> 0 | H15: =G15*D15 -> 0 | I15: =E15+G15 -> 0 | J15: =I15*D15 -> 0 | L15: =K15*D15 -> 0 | N15: =M15*D15 -> 0
A16: 4 | B16: F03Z | C16: Процедура на срцева валвула со пумпа за кардиопулмонално премостување ,со инвазивно испитување на срцето | D16: 538925 | F16: =E16*D16 -> 0 | H16: =G16*D16 -> 0 | I16: =E16+G16 -> 0 | J16: =I16*D16 -> 0 | L16: =K16*D16 -> 0 | N16: =M16*D16 -> 0
A17: 5 | B17: F04A | C17: Процедура на срцева валвула со пумпа за кардиопулмонално премостување без инвазивно испитување на срцето , со катастрофални КК | D17: 494015 | F17: =E17*D17 -> 0 | H17: =G17*D17 -> 0 | I17: =E17+G17 -> 0 | J17: =I17*D17 -> 0 | L17: =K17*D17 -> 0 | N17: =M17*D17 -> 0
A18: 6 | B18: F04B | C18: Процедура на срцева валвула со пумпа за кардиопулмонално премостување без инвазивно испитување на срцето , без катастрофални КК | D18: 424350 | F18: =E18*D18 -> 0 | H18: =G18*D18 -> 0 | I18: =E18+G18 -> 0 | J18: =I18*D18 -> 0 | L18: =K18*D18 -> 0 | N18: =M18*D18 -> 0
A19: 7 | B19: F05A | C19: Коронарен бајпас со инвазивно испитување на срцето со катастрофални КК | D19: 403840 | F19: =E19*D19 -> 0 | H19: =G19*D19 -> 0 | I19: =E19+G19 -> 0 | J19: =I19*D19 -> 0 | L19: =K19*D19 -> 0 | N19: =M19*D19 -> 0
A20: 8 | B20: F05B | C20: Коронарен бајпас со инвазивно испитување на срцето ,без катастрофални КК | D20: 353625 | F20: =E20*D20 -> 0 | H20: =G20*D20 -> 0 | I20: =E20+G20 -> 0 | J20: =I20*D20 -> 0 | L20: =K20*D20 -> 0 | N20: =M20*D20 -> 0
A21: 9 | B21: F06A | C21: Коронарен бајпас без инвазивно испитување на срцето со катастрофални или тешки КК | D21: 352728 | F21: =E21*D21 -> 0 | H21: =G21*D21 -> 0 | I21: =E21+G21 -> 0 | J21: =I21*D21 -> 0 | L21: =K21*D21 -> 0 | N21: =M21*D21 -> 0
A22: 10 | B22: F06B | C22: Коронарен бајпас без инвазивно испитување на срцето без катастрофални или тешки КК | D22: 332408 | F22: =E22*D22 -> 0 | H22: =G22*D22 -> 0 | I22: =E22+G22 -> 0 | J22: =I22*D22 -> 0 | L22: =K22*D22 -> 0 | N22: =M22*D22 -> 0
A23: 11 | B23: F07A | C23: Други кардиоторакални/васкуларни процедури со пумпа за кардиопулмонално премостување (CPB пумпа) со катастрофални КК | D23: 407800 | F23: =E23*D23 -> 0 | H23: =G23*D23 -> 0 | I23: =E23+G23 -> 0 | J23: =I23*D23 -> 0 | L23: =K23*D23 -> 0 | N23: =M23*D23 -> 0
A24: 12 | B24: F07B | C24: Други кардиоторакални/васкуларни процедури со пумпа за кардиопулмонално премостување (CPB пумпа) без катастрофални КК | D24: 407800 | F24: =E24*D24 -> 0 | H24: =G24*D24 -> 0 | I24: =E24+G24 -> 0 | J24: =I24*D24 -> 0 | L24: =K24*D24 -> 0 | N24: =M24*D24 -> 0
... A91: 79 | B91: БЛК6 | C91: Кардијално електрофизиолошко испитување со радиофрекфентна аблација (3-Д мапирање) | D91: 496000 | F91: =E91*D91 -> 0 | H91: =G91*D91 -> 0 | I91: =E91+G91 -> 0 | J91: =I91*D91 -> 0 | L91: =K91*D91 -> 0 | N91: =M91*D91 -> 0
B92: БЛК7 | C92: Хибридни процедури на срце и големи крвни садови (frozen elephant trunk - FET) | D92: 1640000 | F92: =E92*D92 -> 0 | H92: =G92*D92 -> 0 | I92: =E92+G92 -> 0 | J92: =I92*D92 -> 0 | L92: =K92*D92 -> 0 | N92: =M92*D92 -> 0
B93: БЛК8 | C93: Вградување на помошен уред за поддршка на срцевата работа (VAD ventricular assist device) | D93: 8181000 | F93: =E93*D93 -> 0 | H93: =G93*D93 -> 0 | I93: =E93+G93 -> 0 | J93: =I93*D93 -> 0 | L93: =K93*D93 -> 0 | N93: =M93*D93 -> 0
A94: 80 | B94: БЛК9 | C94: Вградување на помошен уред за поддршка на срцевата работа (двострана) (BiVAD biventricular assist device) | D94: 14488500 | F94: =E94*D94 -> 0 | H94: =G94*D94 -> 0 | I94: =E94+G94 -> 0 | J94: =I94*D94 -> 0 | L94: =K94*D94 -> 0 | N94: =M94*D94 -> 0
B95: БЛК10 | C95: Минимално инвазивна процедура за замена на аортна валвула- MIAVR | D95: 781570 | F95: =E95*D95 -> 0 | H95: =G95*D95 -> 0 | I95: =E95+G95 -> 0 | J95: =I95*D95 -> 0 | L95: =K95*D95 -> 0 | N95: =M95*D95 -> 0
A96: 81 | B96: БЛК11 | C96: Криоаблација на пулмонални вени при атријална фибрилација | D96: 491000 | F96: =E96*D96 -> 0 | H96: =G96*D96 -> 0 | I96: =E96+G96 -> 0 | J96: =I96*D96 -> 0 | L96: =K96*D96 -> 0 | N96: =M96*D96 -> 0
A97: 82
C98: ВКУПНО | E98: =SUM(E13:E97) -> 0 | F98: =SUM(F13:F97) -> 0 | G98: =SUM(G13:G97) -> 0 | H98: =SUM(H13:H97) -> 0 | I98: =SUM(I13:I97) -> 0 | J98: =SUM(J13:J97) -> 0 | K98: =SUM(K13:K97) -> 0 | L98: =SUM(L13:L97) -> 0 | ... N98: =SUM(N13:N97) -> 0
B100: ДСГ здравствени услуги по тип на нега
B101: Шифра на ДСГ група | C101: тип на нега | E101: План за 2026 | N101: 2025 (Реализација јануари- септември и проекција до декември) | Q101: 2024
E102: I полугодие | H102: II полугодие | K102: Вкупно
E103: бр. на случаи | F103: Износ | G103: % од бр. на случаи | H103: бр. на случаи | I103: Износ | J103: % од бр. на случаи | K103: бр. на случаи | L103: Износ | M103: % од бр. на случаи | N103: бр. на случаи | O103: Износ | P103: % од бр. на случаи | Q103: бр. на случаи | R103: Износ | S103: % од бр. на случаи
B104: F01-F23, РТС1-РТС2, БК1-БЛК11 | C104: Хируршки ДСГ групи | E104: =SUM(E13:E46)+E84+E85+E86+E87+E88+E89+E90+E91+E92+E93+E94+E95+E96 -> 0 | F104: =SUM(F13:F46)+F84+F85+F86+F87+F88+F89+F90+F91+F92+F93+F94+F95+F96 -> 0 | G104: =E104/$E$98 -> #DIV/0! | H104: =SUM(G13:G46)+G84+G85+G86+G87+G88+G89+G90+G91+G92+G93+G94+G95+G96 -> 0 | I104: =SUM(H13:H46)+H84+H85+H86+H87+H88+H89+H90+H91+H92+H93+H94+H95+H96 -> 0 | J104: =H104/$G$98 -> #DIV/0! | K104: =SUM(I13:I46)+I84+I85+I86+I87+I88+I89+I90+I91+I92+I93+I94+I95+I96 -> 0 | L104: =SUM(J13:J46)+J84+J85+J86+J87+J88+J89+J90+J91+J92+J93+J94+J95+J96 -> 0 | M104: =K104/$I$98 -> #DIV/0! | N104: =SUM(K13:K46)+K84+K85+K86+K87+K88+K89+K90+K91+K92+K93+K94+K95+K96 -> 0 | O104: =SUM(L13:L46)+L84+L85+L86+L87+L88+L89+L90+L91+L92+L93+L94+L95+L96 -> 0 | P104: =N104/$K$98 -> #DIV/0! | Q104: =SUM(M13:M46)+M84+M85+M86+M87+M88+M89+M90+M91+M92+M93+M94+M95+M96 -> 0 | R104: =SUM(N13:N46)+N84+N85+N86+N87+N88+N89+N90+N91+N92+N93+N94+N95+N96 -> 0 | S104: =Q104/$M$98 -> #DIV/0!
B105: F60-F75 | C105: Медицински (интернистички) ДСГ групи | E105: =SUM(E54:E83) -> 0 | F105: =SUM(F54:F83) -> 0 | G105: =E105/$E$98 -> #DIV/0! | H105: =SUM(G54:G83) -> 0 | I105: =SUM(H54:H83) -> 0 | J105: =H105/$G$98 -> #DIV/0! | K105: =SUM(I54:I83) -> 0 | L105: =SUM(J54:J83) -> 0 | M105: =K105/$I$98 -> #DIV/0! | N105: =SUM(K54:K83) -> 0 | O105: =SUM(L54:L83) -> 0 | P105: =N105/$K$98 -> #DIV/0! | Q105: =SUM(M54:M83) -> 0 | R105: =SUM(N54:N83) -> 0 | S105: =Q105/$M$98 -> #DIV/0!
B106: F40-F43 | C106: Останати ДСГ групи | E106: =SUM(E47:E53) -> 0 | F106: =SUM(F47:F53) -> 0 | G106: =E106/$E$98 -> #DIV/0! | H106: =SUM(G47:G53) -> 0 | I106: =SUM(H47:H53) -> 0 | J106: =H106/$G$98 -> #DIV/0! | K106: =SUM(I47:I53) -> 0 | L106: =SUM(J47:J53) -> 0 | M106: =K106/$I$98 -> #DIV/0! | N106: =SUM(K47:K53) -> 0 | O106: =SUM(L47:L53) -> 0 | P106: =N106/$K$98 -> #DIV/0! | Q106: =SUM(M47:M53) -> 0 | R106: =SUM(N47:N53) -> 0 | S106: =Q106/$M$98 -> #DIV/0!
A108: Во _____________________на _________________ година. | E108: Составил,_______________________
F110: Д и р е к т о р,
F111: ______________

Sheet План-ДСГ-MDC-G
A1: ЈЗУ Универзитетски клиники, клинички болници, општи болници, специјални болници | I1: ПЛ 3 Б - ДСГ MDC-G | O1: Врати се на почетна страна
B3: Здравствена установа | C3: ________________________________________________________________________
A5: П Л А Н
A6: на видот и обемот на ДСГ здравствени услуги и пакети за завршени здравствени услуги во болничка здравствена заштита (акутни болнички случаи кои не се искажуваат според ДСГ методата) на осигурените лица за ___________ година.
A7: Главна дијагностичка категорија (MDC: G01-G70, БЛГ1) БОЛЕСТИ И ПОРЕМЕТУВАЊА НА ДИГЕСТИВЕН СИСТЕМ
A9: Ред.Број | B9: Шифра на ДСГ услуга | C9: Назив на ДСГ услуга | D9: Референтнa ценa | E9: 2026 | K9: 2025 (Реализација јануари- септември и проекција до декември) | M9: 2024
E10: I полугодие | G10: II полугодие | I10: Вкупно
E11: бр. на случаи | F11: износ по ДСГ | G11: бр. на случаи | H11: износ по ДСГ | I11: бр. на услуги | J11: износ по ДСГ | K11: Вкупен бр. на услуги | L11: Вкупен износ по ДСГ | M11: Вкупен бр. на услуги | N11: Вкупен износ по ДСГ
A12: 1 | B12: 2 | C12: 3 | D12: 4 | E12: 5 | F12: 6 | G12: 7 | H12: 8 | I12: 9=(5+6+7+8) | J12: 10(4*9) | K12: 11 | L12: 12 | M12: 13 | N12: 14
A13: 1 | B13: G01A | C13: Ректална ресекција со катастрофални КК | D13: 211773 | F13: =E13*D13 -> 0 | H13: =G13*D13 -> 0 | I13: =E13+G13 -> 0 | J13: =I13*D13 -> 0 | L13: =K13*D13 -> 0 | N13: =M13*D13 -> 0
A14: 2 | B14: G01B | C14: Ректална ресекција без катастрофални КК | D14: 126974 | F14: =E14*D14 -> 0 | H14: =G14*D14 -> 0 | I14: =E14+G14 -> 0 | J14: =I14*D14 -> 0 | L14: =K14*D14 -> 0 | N14: =M14*D14 -> 0
A15: 3 | B15: G02A | C15: Големи процедури на тенкото и дебелото црево со катастрофални КК | D15: 143348 | F15: =E15*D15 -> 0 | H15: =G15*D15 -> 0 | I15: =E15+G15 -> 0 | J15: =I15*D15 -> 0 | L15: =K15*D15 -> 0 | N15: =M15*D15 -> 0
A16: 4 | B16: G02B | C16: Големи процедури на тенкото и дебелото црево без катастрофални КК | D16: 118910 | F16: =E16*D16 -> 0 | H16: =G16*D16 -> 0 | I16: =E16+G16 -> 0 | J16: =I16*D16 -> 0 | L16: =K16*D16 -> 0 | N16: =M16*D16 -> 0
A17: 5 | B17: G03A | C17: Процедури на желудник, езофагус и дванаесетпалачно црево со малигнa болест | D17: 184000 | F17: =E17*D17 -> 0 | H17: =G17*D17 -> 0 | I17: =E17+G17 -> 0 | J17: =I17*D17 -> 0 | L17: =K17*D17 -> 0 | N17: =M17*D17 -> 0
A18: 6 | B18: G03B | C18: Процедури на желудник, езофагус и дванаесетпалачно црево без малигна болест со катастрофални или тешки КК | D18: 103911 | F18: =E18*D18 -> 0 | H18: =G18*D18 -> 0 | I18: =E18+G18 -> 0 | J18: =I18*D18 -> 0 | L18: =K18*D18 -> 0 | N18: =M18*D18 -> 0
A19: 7 | B19: G03C | C19: Процедури на желудник, езофагус и дванаесетпалачно црево без малигна болест без катастрофални или тешки КК | D19: 85911 | F19: =E19*D19 -> 0 | H19: =G19*D19 -> 0 | I19: =E19+G19 -> 0 | J19: =I19*D19 -> 0 | L19: =K19*D19 -> 0 | N19: =M19*D19 -> 0
A20: 8 | B20: G04A | C20: Перитонеална адхезиолиза, возраст >49 со КК | D20: 78191 | F20: =E20*D20 -> 0 | H20: =G20*D20 -> 0 | I20: =E20+G20 -> 0 | J20: =I20*D20 -> 0 | L20: =K20*D20 -> 0 | N20: =M20*D20 -> 0
A21: 9 | B21: G04B | C21: Перитонеална адхезиолиза, возраст >49 или со КК | D21: 72179 | F21: =E21*D21 -> 0 | H21: =G21*D21 -> 0 | I21: =E21+G21 -> 0 | J21: =I21*D21 -> 0 | L21: =K21*D21 -> 0 | N21: =M21*D21 -> 0
A22: 10 | B22: G04C | C22: Перитонеална адхезиолиза, возраст <50 без КК | D22: 47388 | F22: =E22*D22 -> 0 | H22: =G22*D22 -> 0 | I22: =E22+G22 -> 0 | J22: =I22*D22 -> 0 | L22: =K22*D22 -> 0 | N22: =M22*D22 -> 0
A23: 11 | B23: G05A | C23: Mали процедури на тенкото и дебелото црево со КК | D23: 77860 | F23: =E23*D23 -> 0 | H23: =G23*D23 -> 0 | I23: =E23+G23 -> 0 | J23: =I23*D23 -> 0 | L23: =K23*D23 -> 0 | N23: =M23*D23 -> 0
A24: 12 | B24: G05B | C24: Mали процедури на тенкото и дебелото црево без КК | D24: 56848 | F24: =E24*D24 -> 0 | H24: =G24*D24 -> 0 | I24: =E24+G24 -> 0 | J24: =I24*D24 -> 0 | L24: =K24*D24 -> 0 | N24: =M24*D24 -> 0
... A65: 53 | B65: БЛГ 1 | C65: Радиофреквентна биполарна аблација на езофагус | D65: 153870 | F65: =E65*D65 -> 0 | H65: =G65*D65 -> 0 | I65: =E65+G65 -> 0 | J65: =I65*D65 -> 0 | L65: =K65*D65 -> 0 | N65: =M65*D65 -> 0
C67: ВКУПНО | E67: =SUM(E13:E66) -> 0 | F67: =SUM(F13:F66) -> 0 | G67: =SUM(G13:G66) -> 0 | H67: =SUM(H13:H66) -> 0 | I67: =SUM(I13:I66) -> 0 | J67: =SUM(J13:J66) -> 0 | K67: =SUM(K13:K66) -> 0 | L67: =SUM(L13:L66) -> 0 | ... N67: =SUM(N13:N66) -> 0
B69: ДСГ здравствени услуги по тип на нега
B70: Шифра на ДСГ група | C70: тип на нега | E70: План за 2026 | N70: 2025 (Реализација јануари- септември и проекција до декември) | Q70: 2024
E71: I полугодие | H71: II полугодие | K71: Вкупно
E72: бр. на случаи | F72: Износ | G72: % од бр. на случаи | H72: бр. на случаи | I72: Износ | J72: % од бр. на случаи | K72: бр. на случаи | L72: Износ | M72: % од бр. на случаи | N72: бр. на случаи | O72: Износ | P72: % од бр. на случаи | Q72: бр. на случаи | R72: Износ | S72: % од бр. на случаи
B73: G01-G12 | C73: Хируршки ДСГ групи | E73: =SUM(E13:E35) -> 0 | F73: =SUM(F13:F35) -> 0 | G73: =E73/$E$67 -> #DIV/0! | H73: =SUM(G13:G35) -> 0 | I73: =SUM(H13:H35) -> 0 | J73: =H73/$G$67 -> #DIV/0! | K73: =SUM(I13:I35) -> 0 | L73: =SUM(J13:J35) -> 0 | M73: =K73/$I$67 -> #DIV/0! | N73: =SUM(K13:K35) -> 0 | O73: =SUM(L13:L35) -> 0 | P73: =N73/$K$67 -> #DIV/0! | Q73: =SUM(M13:M35) -> 0 | R73: =SUM(N13:N35) -> 0 | S73: =Q73/$M$67 -> #DIV/0!
B74: G60-G70, БЛГ1 | C74: Медицински (интернистички) ДСГ групи | E74: =SUM(E47:E65) -> 0 | F74: =SUM(F47:F65) -> 0 | G74: =E74/$E$67 -> #DIV/0! | H74: =SUM(G47:G65) -> 0 | I74: =SUM(H47:H65) -> 0 | J74: =H74/$G$67 -> #DIV/0! | K74: =SUM(I47:I65) -> 0 | L74: =SUM(J47:J65) -> 0 | M74: =K74/$I$67 -> #DIV/0! | N74: =SUM(K47:K65) -> 0 | O74: =SUM(L47:L65) -> 0 | P74: =N74/$K$67 -> #DIV/0! | Q74: =SUM(M47:M65) -> 0 | R74: =SUM(N47:N65) -> 0 | S74: =Q74/$M$67 -> #DIV/0!
B75: G42-G46 | C75: Останати ДСГ групи | E75: =SUM(E36:E46) -> 0 | F75: =SUM(F36:F46) -> 0 | G75: =E75/$E$67 -> #DIV/0! | H75: =SUM(G36:G46) -> 0 | I75: =SUM(H36:H46) -> 0 | J75: =H75/$G$67 -> #DIV/0! | K75: =SUM(I36:I46) -> 0 | L75: =SUM(J36:J46) -> 0 | M75: =K75/$I$67 -> #DIV/0! | N75: =SUM(K36:K46) -> 0 | O75: =SUM(L36:L46) -> 0 | P75: =N75/$K$67 -> #DIV/0! | Q75: =SUM(M36:M46) -> 0 | R75: =SUM(N36:N46) -> 0 | S75: =Q75/$M$67 -> #DIV/0!
A77: Во _____________________на _________________ година. | E77: Составил,_______________________
F79: Д и р е к т о р,
F80: ______________

Sheet План-ДСГ-MDC-H
A1: ЈЗУ Универзитетски клиники, клинички болници, општи болници, специјални болници | I1: ПЛ 3 Б - ДСГ MDC-H | O1: Врати се на почетна страна
B3: Здравствена установа | C3: ________________________________________________________________________
A5: П Л А Н
A6: на видот и обемот на ДСГ здравствени услуги и пакети за завршени здравствени услуги во болничка здравствена заштита (акутни болнички случаи кои не се искажуваат според ДСГ методата) на осигурените лица за ___________ година.
A7: Главна дијагностичка категорија (MDC: H01-H64) БОЛЕСТИ И ПОРЕМЕТУВАЊЕ НА ХЕПАТОБИЛИЈАРЕН СИСТЕМ И ПАНКРЕАС
A9: Ред.Број | B9: Шифра на ДСГ услуга | C9: Назив на ДСГ услуга | D9: Референтнa ценa | E9: 2026 | K9: 2025 (Реализација јануари- септември и проекција до декември) | M9: 2024
E10: I полугодие | G10: II полугодие | I10: Вкупно
E11: бр. на случаи | F11: износ по ДСГ | G11: бр. на случаи | H11: износ по ДСГ | I11: бр. на услуги | J11: износ по ДСГ | K11: Вкупен бр. на услуги | L11: Вкупен износ по ДСГ | M11: Вкупен бр. на услуги | N11: Вкупен износ по ДСГ
A12: 1 | B12: 2 | C12: 3 | D12: 4 | E12: 5 | F12: 6 | G12: 7 | H12: 8 | I12: 9=(5+6+7+8) | J12: 10(4*9) | K12: 11 | L12: 12 | M12: 13 | N12: 14
A13: 1 | B13: H01A | C13: Процедури на панкреас, црн дроб и шант со катастрофални КК | D13: 185512 | F13: =E13*D13 -> 0 | H13: =G13*D13 -> 0 | I13: =E13+G13 -> 0 | J13: =I13*D13 -> 0 | L13: =K13*D13 -> 0 | N13: =M13*D13 -> 0
A14: 2 | B14: H01B | C14: Процедури на панкреас, црн дроб и шант без катастрофални КК | D14: 169500 | F14: =E14*D14 -> 0 | H14: =G14*D14 -> 0 | I14: =E14+G14 -> 0 | J14: =I14*D14 -> 0 | L14: =K14*D14 -> 0 | N14: =M14*D14 -> 0
A15: 3 | B15: H02A | C15: Големи процедури на билијарниот тракт со малигни болести или катастрофални КК | D15: 120786 | F15: =E15*D15 -> 0 | H15: =G15*D15 -> 0 | I15: =E15+G15 -> 0 | J15: =I15*D15 -> 0 | L15: =K15*D15 -> 0 | N15: =M15*D15 -> 0
A16: 4 | B16: H02B | C16: Големи процедури на билијарниот тракт без малигни болести со тешки или умерени КК | D16: 104617 | F16: =E16*D16 -> 0 | H16: =G16*D16 -> 0 | I16: =E16+G16 -> 0 | J16: =I16*D16 -> 0 | L16: =K16*D16 -> 0 | N16: =M16*D16 -> 0
A17: 5 | B17: H02C | C17: Големи процедури на билијарниот тракт без малигни болести без КК | D17: 73439 | F17: =E17*D17 -> 0 | H17: =G17*D17 -> 0 | I17: =E17+G17 -> 0 | J17: =I17*D17 -> 0 | L17: =K17*D17 -> 0 | N17: =M17*D17 -> 0
A18: 6 | B18: H05A | C18: Хепатобилијарни дијагностички процедури со катастрофални или тешки КК | D18: 82281 | F18: =E18*D18 -> 0 | H18: =G18*D18 -> 0 | I18: =E18+G18 -> 0 | J18: =I18*D18 -> 0 | L18: =K18*D18 -> 0 | N18: =M18*D18 -> 0
A19: 7 | B19: H05B | C19: Хепатобилијарни дијагностички процедури без катастрофални или тешки КК | D19: 53996 | F19: =E19*D19 -> 0 | H19: =G19*D19 -> 0 | I19: =E19+G19 -> 0 | J19: =I19*D19 -> 0 | L19: =K19*D19 -> 0 | N19: =M19*D19 -> 0
A20: 8 | B20: H06Z | C20: Други хепатобилијарни процедури или процедури на панкреас во операциона сала | D20: 84468 | F20: =E20*D20 -> 0 | H20: =G20*D20 -> 0 | I20: =E20+G20 -> 0 | J20: =I20*D20 -> 0 | L20: =K20*D20 -> 0 | N20: =M20*D20 -> 0
A21: 9 | B21: H07A | C21: Отворена холецистектомија со затворенa експлорација на ductus choledocus или со катастрофални КК | D21: 97791 | F21: =E21*D21 -> 0 | H21: =G21*D21 -> 0 | I21: =E21+G21 -> 0 | J21: =I21*D21 -> 0 | L21: =K21*D21 -> 0 | N21: =M21*D21 -> 0
A22: 10 | B22: H07B | C22: Отворена холецистектомија со затворенa експлорација на ductus choledocus без катастрофални КК | D22: 36567 | F22: =E22*D22 -> 0 | H22: =G22*D22 -> 0 | I22: =E22+G22 -> 0 | J22: =I22*D22 -> 0 | L22: =K22*D22 -> 0 | N22: =M22*D22 -> 0
A23: 11 | B23: H08A | C23: Лапароскопска холецистектомија со затворенa експлорација на ductus choledocus или со (катастрофални или тешки КК) | D23: 55904 | F23: =E23*D23 -> 0 | H23: =G23*D23 -> 0 | I23: =E23+G23 -> 0 | J23: =I23*D23 -> 0 | L23: =K23*D23 -> 0 | N23: =M23*D23 -> 0
A24: 12 | B24: H08B | C24: Лапароскопска холецистектомија без затворенa експлорација на ductus choledocus без катастрофални или тешки КК | D24: 44986 | F24: =E24*D24 -> 0 | H24: =G24*D24 -> 0 | I24: =E24+G24 -> 0 | J24: =I24*D24 -> 0 | L24: =K24*D24 -> 0 | N24: =M24*D24 -> 0
... A41: 29 | B41: H64B | C41: Пореметувања на билијарниот тракт без КК | D41: 15917 | F41: =E41*D41 -> 0 | H41: =G41*D41 -> 0 | I41: =E41+G41 -> 0 | J41: =I41*D41 -> 0 | L41: =K41*D41 -> 0 | N41: =M41*D41 -> 0
C43: ВКУПНО | E43: =SUM(E13:E42) -> 0 | F43: =SUM(F13:F42) -> 0 | G43: =SUM(G13:G42) -> 0 | H43: =SUM(H13:H42) -> 0 | I43: =SUM(I13:I42) -> 0 | J43: =SUM(J13:J42) -> 0 | K43: =SUM(K13:K42) -> 0 | L43: =SUM(L13:L42) -> 0 | ... N43: =SUM(N13:N42) -> 0
B45: ДСГ здравствени услуги по тип на нега
B46: Шифра на ДСГ група | C46: тип на нега | E46: План за 2026 | N46: 2025 (Реализација јануари- септември и проекција до декември) | Q46: 2024
E47: I полугодие | H47: II полугодие | K47: Вкупно
E48: бр. на случаи | F48: Износ | G48: % од бр. на случаи | H48: бр. на случаи | I48: Износ | J48: % од бр. на случаи | K48: бр. на случаи | L48: Износ | M48: % од бр. на случаи | N48: бр. на случаи | O48: Износ | P48: % од бр. на случаи | Q48: бр. на случаи | R48: Износ | S48: % од бр. на случаи
B49: B01-B07 | C49: Хируршки ДСГ групи | E49: =SUM(E13:E24) -> 0 | F49: =SUM(F13:F24) -> 0 | G49: =E49/$E$43 -> #DIV/0! | H49: =SUM(G13:G24) -> 0 | I49: =SUM(H13:H24) -> 0 | J49: =H49/$G$43 -> #DIV/0! | K49: =SUM(I13:I24) -> 0 | L49: =SUM(J13:J24) -> 0 | M49: =K49/$I$43 -> #DIV/0! | N49: =SUM(K13:K24) -> 0 | O49: =SUM(L13:L24) -> 0 | P49: =N49/$K$43 -> #DIV/0! | Q49: =SUM(M13:M24) -> 0 | R49: =SUM(N13:N24) -> 0 | S49: =Q49/$M$43 -> #DIV/0!
B50: B60-B81 | C50: Медицински (интернистички) ДСГ групи | E50: =SUM(E31:E42) -> 0 | F50: =SUM(F31:F42) -> 0 | G50: =E50/$E$43 -> #DIV/0! | H50: =SUM(G31:G42) -> 0 | I50: =SUM(H31:H42) -> 0 | J50: =H50/$G$43 -> #DIV/0! | K50: =SUM(I31:I42) -> 0 | L50: =SUM(J31:J42) -> 0 | M50: =K50/$I$43 -> #DIV/0! | N50: =SUM(K31:K42) -> 0 | O50: =SUM(L31:L42) -> 0 | P50: =N50/$K$43 -> #DIV/0! | Q50: =SUM(M31:M42) -> 0 | R50: =SUM(N31:N42) -> 0 | S50: =Q50/$M$43 -> #DIV/0!
B51: B40-B41 | C51: Останати ДСГ групи | E51: =SUM(E25:E30) -> 0 | F51: =SUM(F25:F30) -> 0 | G51: =E51/$E$43 -> #DIV/0! | H51: =SUM(G25:G30) -> 0 | I51: =SUM(H25:H30) -> 0 | J51: =H51/$G$43 -> #DIV/0! | K51: =SUM(I25:I30) -> 0 | L51: =SUM(J25:J30) -> 0 | M51: =K51/$I$43 -> #DIV/0! | N51: =SUM(K25:K30) -> 0 | O51: =SUM(L25:L30) -> 0 | P51: =N51/$K$43 -> #DIV/0! | Q51: =SUM(M25:M30) -> 0 | R51: =SUM(N25:N30) -> 0 | S51: =Q51/$M$43 -> #DIV/0!
A53: Во _____________________на _________________ година. | E53: Составил,_______________________
F55: Д и р е к т о р,
F56: ______________

Sheet План-ДСГ-MDC-I
A1: ЈЗУ Универзитетски клиники, клинички болници, општи болници, специјални болници | I1: ПЛ 3 Б - ДСГ MDC-I | O1: Врати се на почетна страна
B3: Здравствена установа | C3: ________________________________________________________________________
A5: П Л А Н
A6: на видот и обемот на ДСГ здравствени услуги и пакети за завршени здравствени услуги во болничка здравствена заштита (акутни болнички случаи кои не се искажуваат според ДСГ методата) на осигурените лица за ___________ година.
A7: Главна дијагностичка категорија (MDC: I01-I79, БЛО1-БЛО2) БОЛЕСТИ И ПОРЕМЕТУВАЊА НА МУСКУЛНО-КОСКЕН И СВРЗЕН СИСТЕМ
A9: Ред.Број | B9: Шифра на ДСГ услуга | C9: Назив на ДСГ услуга | D9: Референтнa ценa | E9: 2026 | K9: 2025 (Реализација јануари- септември и проекција до декември) | M9: 2024
E10: I полугодие | G10: II полугодие | I10: Вкупно
E11: бр. на случаи | F11: износ по ДСГ | G11: бр. на случаи | H11: износ по ДСГ | I11: бр. на услуги | J11: износ по ДСГ | K11: Вкупен бр. на услуги | L11: Вкупен износ по ДСГ | M11: Вкупен бр. на услуги | N11: Вкупен износ по ДСГ
A12: 1 | B12: 2 | C12: 3 | D12: 4 | E12: 5 | F12: 6 | G12: 7 | H12: 8 | I12: 9=(5+6+7+8) | J12: 10(4*9) | K12: 11 | L12: 12 | M12: 13 | N12: 14
A13: 1 | B13: I01Z | C13: Билатерални или повеќекратни процедури на големите зглобови на долните екстремитети | D13: 175254 | F13: =E13*D13 -> 0 | H13: =G13*D13 -> 0 | I13: =E13+G13 -> 0 | J13: =I13*D13 -> 0 | L13: =K13*D13 -> 0 | N13: =M13*D13 -> 0
A14: 2 | B14: I02A | C14: Микроваскуларен трансфер на ткиво (кожен графт со катастрофални или тешки КК), освен на рака | D14: 110720 | F14: =E14*D14 -> 0 | H14: =G14*D14 -> 0 | I14: =E14+G14 -> 0 | J14: =I14*D14 -> 0 | L14: =K14*D14 -> 0 | N14: =M14*D14 -> 0
A15: 3 | B15: I02B | C15: Кожен графт без катастрофални или тешки КК, освен на рака | D15: 56624 | F15: =E15*D15 -> 0 | H15: =G15*D15 -> 0 | I15: =E15+G15 -> 0 | J15: =I15*D15 -> 0 | L15: =K15*D15 -> 0 | N15: =M15*D15 -> 0
A16: 4 | B16: I03A | C16: Ревизија на колк со катастрофални или тешки КК | D16: 200062 | F16: =E16*D16 -> 0 | H16: =G16*D16 -> 0 | I16: =E16+G16 -> 0 | J16: =I16*D16 -> 0 | L16: =K16*D16 -> 0 | N16: =M16*D16 -> 0
A17: 5 | B17: I03B | C17: Замена на колк со катастрофални или тешки КК или ревизија на колк без катастофални или тешки КК | D17: 155250 | F17: =E17*D17 -> 0 | H17: =G17*D17 -> 0 | I17: =E17+G17 -> 0 | J17: =I17*D17 -> 0 | L17: =K17*D17 -> 0 | N17: =M17*D17 -> 0
A18: 6 | B18: I03C | C18: Замена на колк без катастрофални или тешки КК | D18: 125000 | F18: =E18*D18 -> 0 | H18: =G18*D18 -> 0 | I18: =E18+G18 -> 0 | J18: =I18*D18 -> 0 | L18: =K18*D18 -> 0 | N18: =M18*D18 -> 0
A19: 7 | B19: I04Z | C19: Замена на колено и повторно спојување | D19: 123846 | F19: =E19*D19 -> 0 | H19: =G19*D19 -> 0 | I19: =E19+G19 -> 0 | J19: =I19*D19 -> 0 | L19: =K19*D19 -> 0 | N19: =M19*D19 -> 0
A20: 8 | B20: I05Z | C20: Други репласмани на големите зглобови и процедури за повторно спојување на ектремитети | D20: 98222 | F20: =E20*D20 -> 0 | H20: =G20*D20 -> 0 | I20: =E20+G20 -> 0 | J20: =I20*D20 -> 0 | L20: =K20*D20 -> 0 | N20: =M20*D20 -> 0
A21: 9 | B21: I06Z | C21: ’Рбетна фузија со деформитет | D21: 735000 | F21: =E21*D21 -> 0 | H21: =G21*D21 -> 0 | I21: =E21+G21 -> 0 | J21: =I21*D21 -> 0 | L21: =K21*D21 -> 0 | N21: =M21*D21 -> 0
A22: 10 | B22: I07Z | C22: Ампутација | D22: 106298 | F22: =E22*D22 -> 0 | H22: =G22*D22 -> 0 | I22: =E22+G22 -> 0 | J22: =I22*D22 -> 0 | L22: =K22*D22 -> 0 | N22: =M22*D22 -> 0
A23: 11 | B23: I08A | C23: Други процедури на колк и фемур со катастрофални или тешки КК | D23: 94939 | F23: =E23*D23 -> 0 | H23: =G23*D23 -> 0 | I23: =E23+G23 -> 0 | J23: =I23*D23 -> 0 | L23: =K23*D23 -> 0 | N23: =M23*D23 -> 0
A24: 12 | B24: I08B | C24: Други процедури на колк и фемур без катастрофални или тешки КК | D24: 69041 | F24: =E24*D24 -> 0 | H24: =G24*D24 -> 0 | I24: =E24+G24 -> 0 | J24: =I24*D24 -> 0 | L24: =K24*D24 -> 0 | N24: =M24*D24 -> 0
... A92: 80 | B92: БЛО1 | C92: Замена на тотална протеза на колено | D92: 688000 | F92: =E92*D92 -> 0 | H92: =G92*D92 -> 0 | I92: =E92+G92 -> 0 | J92: =I92*D92 -> 0 | L92: =K92*D92 -> 0 | N92: =M92*D92 -> 0
B93: БЛО2 | C93: Рбетна фузија на три и повеќе нивоа | D93: 210000 | F93: =E93*D93 -> 0 | H93: =G93*D93 -> 0 | I93: =E93+G93 -> 0 | J93: =I93*D93 -> 0 | L93: =K93*D93 -> 0 | N93: =M93*D93 -> 0
A94: 82
C95: ВКУПНО | E95: =SUM(E13:E94) -> 0 | F95: =SUM(F13:F94) -> 0 | G95: =SUM(G13:G94) -> 0 | H95: =SUM(H13:H94) -> 0 | I95: =SUM(I13:I94) -> 0 | J95: =SUM(J13:J94) -> 0 | K95: =SUM(K13:K94) -> 0 | L95: =SUM(L13:L94) -> 0 | ... N95: =SUM(N13:N94) -> 0
B97: ДСГ здравствени услуги по тип на нега
B98: Шифра на ДСГ група | C98: тип на нега | E98: План за 2026 | N98: 2025 (Реализација јануари- септември и проекција до декември) | Q98: 2024
E99: I полугодие | H99: II полугодие | K99: Вкупно
E100: бр. на случаи | F100: Износ | G100: % од бр. на случаи | H100: бр. на случаи | I100: Износ | J100: % од бр. на случаи | K100: бр. на случаи | L100: Износ | M100: % од бр. на случаи | N100: бр. на случаи | O100: Износ | P100: % од бр. на случаи | Q100: бр. на случаи | R100: Износ | S100: % од бр. на случаи
B101: I01-I30, БЛО1-БЛO2 | C101: Хируршки ДСГ групи | E101: =SUM(E13:E52)+E92+E93 -> 0 | F101: =SUM(F13:F52)+F92+F93 -> 0 | G101: =E101/$E$95 -> #DIV/0! | H101: =SUM(G13:G52)+G92+G93 -> 0 | I101: =SUM(H13:H52)+H92+H93 -> 0 | J101: =H101/$G$95 -> #DIV/0! | K101: =SUM(I13:I52)+I92+I93 -> 0 | L101: =SUM(J13:J52)+J92+J93 -> 0 | M101: =K101/$I$95 -> #DIV/0! | N101: =SUM(K13:K52)+K92+K93 -> 0 | O101: =SUM(L13:L52)+L92+L93 -> 0 | P101: =N101/$K$95 -> #DIV/0! | Q101: =SUM(M13:M52)+M92+M93 -> 0 | R101: =SUM(N13:N52)+N92+N93 -> 0 | S101: =Q101/$M$95 -> #DIV/0!
B102: I60-I78 | C102: Медицински (интернистички) ДСГ групи | E102: =SUM(E53:E91) -> 0 | F102: =SUM(F53:F91) -> 0 | G102: =E102/$E$95 -> #DIV/0! | H102: =SUM(G53:G91) -> 0 | I102: =SUM(H53:H91) -> 0 | J102: =H102/$G$95 -> #DIV/0! | K102: =SUM(I53:I91) -> 0 | L102: =SUM(J53:J91) -> 0 | M102: =K102/$I$95 -> #DIV/0! | N102: =SUM(K53:K91) -> 0 | O102: =SUM(L53:L91) -> 0 | P102: =N102/$K$95 -> #DIV/0! | Q102: =SUM(M53:M91) -> 0 | R102: =SUM(N53:N91) -> 0 | S102: =Q102/$M$95 -> #DIV/0!
B103: нема | C103: Останати ДСГ групи | E103: 0 | F103: 0 | G103: =E103/$E$95 -> #DIV/0! | H103: 0 | I103: 0 | J103: =H103/$G$95 -> #DIV/0! | K103: 0 | L103: 0 | M103: =K103/$I$95 -> #DIV/0! | N103: 0 | O103: 0 | P103: =N103/$K$95 -> #DIV/0! | Q103: 0 | R103: 0 | S103: =Q103/$M$95 -> #DIV/0!
A105: Во _____________________на _________________ година. | E105: Составил,_______________________
F107: Д и р е к т о р,
F108: ______________

Sheet План-ДСГ-MDC-J
A1: ЈЗУ Универзитетски клиники, клинички болници, општи болници, специјални болници | I1: ПЛ 3 Б - ДСГ MDC-J | O1: Врати се на почетна страна
B3: Здравствена установа | C3: ________________________________________________________________________
A5: П Л А Н
A6: на видот и обемот на ДСГ здравствени услуги и пакети за завршени здравствени услуги во болничка здравствена заштита (акутни болнички случаи кои не се искажуваат според ДСГ методата) на осигурените лица за ___________ година.
A7: Главна дијагностичка категорија (MDC: J01-J68, ХПД1-ХПД6) БОЛЕСТИ И ПОРЕМЕТУВАЊА НА КОЖАТА ПОТКОЖНОТО ТКИВО И ДОЈКАТА
A9: Ред.Број | B9: Шифра на ДСГ услуга | C9: Назив на ДСГ услуга | D9: Референтнa ценa | E9: 2026 | K9: 2025 (Реализација јануари- септември и проекција до декември) | M9: 2024
E10: I полугодие | G10: II полугодие | I10: Вкупно
E11: бр. на случаи | F11: износ по ДСГ | G11: бр. на случаи | H11: износ по ДСГ | I11: бр. на услуги | J11: износ по ДСГ | K11: Вкупен бр. на услуги | L11: Вкупен износ по ДСГ | M11: Вкупен бр. на услуги | N11: Вкупен износ по ДСГ
A12: 1 | B12: 2 | C12: 3 | D12: 4 | E12: 5 | F12: 6 | G12: 7 | H12: 8 | I12: 9=(5+6+7+8) | J12: 10(4*9) | K12: 11 | L12: 12 | M12: 13 | N12: 14
A13: 1 | B13: J01Z | C13: Микроваскуларен пренос на ткиво за пореметувања на кожата, подкожното ткиво и дојките | D13: 123532 | F13: =E13*D13 -> 0 | H13: =G13*D13 -> 0 | I13: =E13+G13 -> 0 | J13: =I13*D13 -> 0 | L13: =K13*D13 -> 0 | N13: =M13*D13 -> 0
A14: 2 | B14: J06A | C14: Големи процедури за малигни состојби на дојките | D14: 41635 | F14: =E14*D14 -> 0 | H14: =G14*D14 -> 0 | I14: =E14+G14 -> 0 | J14: =I14*D14 -> 0 | L14: =K14*D14 -> 0 | N14: =M14*D14 -> 0
A15: 3 | B15: J06B | C15: Големи процедури за немалигни состојби на дојките | D15: 25606 | F15: =E15*D15 -> 0 | H15: =G15*D15 -> 0 | I15: =E15+G15 -> 0 | J15: =I15*D15 -> 0 | L15: =K15*D15 -> 0 | N15: =M15*D15 -> 0
A16: 4 | B16: J07A | C16: Мали процедури за малигни состојби на дојките | D16: 26241 | F16: =E16*D16 -> 0 | H16: =G16*D16 -> 0 | I16: =E16+G16 -> 0 | J16: =I16*D16 -> 0 | L16: =K16*D16 -> 0 | N16: =M16*D16 -> 0
A17: 5 | B17: J07B | C17: Мали процедури за немалигни состојби на дојките | D17: 24905 | F17: =E17*D17 -> 0 | H17: =G17*D17 -> 0 | I17: =E17+G17 -> 0 | J17: =I17*D17 -> 0 | L17: =K17*D17 -> 0 | N17: =M17*D17 -> 0
A18: 6 | B18: J08A | C18: Други процедури за кожен графт и/или дебридман со катастрофални или тешки КК | D18: 56337 | F18: =E18*D18 -> 0 | H18: =G18*D18 -> 0 | I18: =E18+G18 -> 0 | J18: =I18*D18 -> 0 | L18: =K18*D18 -> 0 | N18: =M18*D18 -> 0
A19: 7 | B19: J08B | C19: Други процедури за кожен графт и/или дебридман без катастрофални или тешки КК | D19: 21630 | F19: =E19*D19 -> 0 | H19: =G19*D19 -> 0 | I19: =E19+G19 -> 0 | J19: =I19*D19 -> 0 | L19: =K19*D19 -> 0 | N19: =M19*D19 -> 0
A20: 8 | B20: J09Z | C20: Перианални и пилонидални процедури | D20: 17389 | F20: =E20*D20 -> 0 | H20: =G20*D20 -> 0 | I20: =E20+G20 -> 0 | J20: =I20*D20 -> 0 | L20: =K20*D20 -> 0 | N20: =M20*D20 -> 0
A21: 9 | B21: J10Z | C21: Пластични процедури во операциона сала на кожа, субкутано ткиво и дојка | D21: 18216 | F21: =E21*D21 -> 0 | H21: =G21*D21 -> 0 | I21: =E21+G21 -> 0 | J21: =I21*D21 -> 0 | L21: =K21*D21 -> 0 | N21: =M21*D21 -> 0
A22: 10 | B22: J11Z | C22: Други процедури на кожа, субкутано ткиво и дојка | D22: 12075 | F22: =E22*D22 -> 0 | H22: =G22*D22 -> 0 | I22: =E22+G22 -> 0 | J22: =I22*D22 -> 0 | L22: =K22*D22 -> 0 | N22: =M22*D22 -> 0
A23: 11 | B23: J12A | C23: Процедури на долни екстремитети со улцер/целулитис со катастрофални КК | D23: 187601 | F23: =E23*D23 -> 0 | H23: =G23*D23 -> 0 | I23: =E23+G23 -> 0 | J23: =I23*D23 -> 0 | L23: =K23*D23 -> 0 | N23: =M23*D23 -> 0
A24: 12 | B24: J12B | C24: Процедури на долни екстремитети со улцер/целулитис, без катастрофални КК, со репарација со кожен графт/флеп | D24: 48668 | F24: =E24*D24 -> 0 | H24: =G24*D24 -> 0 | I24: =E24+G24 -> 0 | J24: =I24*D24 -> 0 | L24: =K24*D24 -> 0 | N24: =M24*D24 -> 0
... A47: 35 | B47: ХПД6 | C47: Примарна реконструкција на дојка, мастектомија со вградување на имплант, мамопластика, двострано | D47: 100800 | F47: =E47*D47 -> 0 | H47: =G47*D47 -> 0 | I47: =E47+G47 -> 0 | J47: =I47*D47 -> 0 | L47: =K47*D47 -> 0 | N47: =M47*D47 -> 0
A48: 54
C49: ВКУПНО | E49: =SUM(E13:E48) -> 0 | F49: =SUM(F13:F48) -> 0 | G49: =SUM(G13:G48) -> 0 | H49: =SUM(H13:H48) -> 0 | I49: =SUM(I13:I48) -> 0 | J49: =SUM(J13:J48) -> 0 | K49: =SUM(K13:K48) -> 0 | L49: =SUM(L13:L48) -> 0 | ... N49: =SUM(N13:N48) -> 0
B51: ДСГ здравствени услуги по тип на нега
B52: Шифра на ДСГ група | C52: тип на нега | E52: План за 2026 | N52: 2025 (Реализација јануари- септември и проекција до декември) | Q52: 2024
E53: I полугодие | H53: II полугодие | K53: Вкупно
E54: бр. на случаи | F54: Износ | G54: % од бр. на случаи | H54: бр. на случаи | I54: Износ | J54: % од бр. на случаи | K54: бр. на случаи | L54: Износ | M54: % од бр. на случаи | N54: бр. на случаи | O54: Износ | P54: % од бр. на случаи | Q54: бр. на случаи | R54: Износ | S54: % од бр. на случаи
B55: J01-J14, ХПД1-ХПД6 | C55: Хируршки ДСГ групи | E55: =SUM(E13:E28)+E42+E43+E44+E45+E46+E47 -> 0 | F55: =SUM(F13:F28)+F42+F43+F44+F45+F46+F47 -> 0 | G55: =E55/$E$49 -> #DIV/0! | H55: =SUM(G13:G28)+G42+G43+G44+G45+G46+G47 -> 0 | I55: =SUM(H13:H28)+H42+H43+H44+H45+H46+H47 -> 0 | J55: =H55/$G$49 -> #DIV/0! | K55: =SUM(I13:I28)+I42+I43+I44+I45+I46+I47 -> 0 | L55: =SUM(J13:J28)+J42+J43+J44+J45+J46+J47 -> 0 | M55: =K55/$I$49 -> #DIV/0! | N55: =SUM(K13:K28)+K42+K43+K44+K45+K46+K47 -> 0 | O55: =SUM(L13:L28)+L42+L43+L44+L45+L46+L47 -> 0 | P55: =N55/$K$49 -> #DIV/0! | Q55: =SUM(M13:M28)+M42+M43+M44+M45+M46+M47 -> 0 | R55: =SUM(N13:N28)+N42+N43+N44+N45+N46+N47 -> 0 | S55: =Q55/$M$49 -> #DIV/0!
B56: Ј60-Ј68 | C56: Медицински (интернистички) ДСГ групи | E56: =SUM(E29:E41) -> 0 | F56: =SUM(F29:F41) -> 0 | G56: =E56/$E$49 -> #DIV/0! | H56: =SUM(G29:G41) -> 0 | I56: =SUM(H29:H41) -> 0 | J56: =H56/$G$49 -> #DIV/0! | K56: =SUM(I29:I41) -> 0 | L56: =SUM(J29:J41) -> 0 | M56: =K56/$I$49 -> #DIV/0! | N56: =SUM(K29:K41) -> 0 | O56: =SUM(L29:L41) -> 0 | P56: =N56/$K$49 -> #DIV/0! | Q56: =SUM(M29:M41) -> 0 | R56: =SUM(N29:N41) -> 0 | S56: =Q56/$M$49 -> #DIV/0!
B57: нема | C57: Останати ДСГ групи | E57: 0 | F57: 0 | G57: =E57/$E$49 -> #DIV/0! | H57: 0 | I57: 0 | J57: =H57/$G$49 -> #DIV/0! | K57: 0 | L57: 0 | M57: =K57/$I$49 -> #DIV/0! | N57: 0 | O57: 0 | P57: =N57/$K$49 -> #DIV/0! | Q57: 0 | R57: 0 | S57: =Q57/$M$49 -> #DIV/0!
A59: Во _____________________на _________________ година. | E59: Составил,_______________________
F61: Д и р е к т о р,
F62: ______________

Sheet План-ДСГ-MDC-K
A1: ЈЗУ Универзитетски клиники, клинички болници, општи болници, специјални болници | I1: ПЛ 3 Б - ДСГ MDC-K | O1: Врати се на почетна страна
B3: Здравствена установа | C3: ________________________________________________________________________
A5: П Л А Н
A6: на видот и обемот на ДСГ здравствени услуги и пакети за завршени здравствени услуги во болничка здравствена заштита (акутни болнички случаи кои не се искажуваат според ДСГ методата) на осигурените лица за ___________ година.
A7: Главна дијагностичка категорија (MDC: K01-K64) БОЛЕСТИ И ПОРЕМЕТУВАЊА НА ЖЛЕЗДИ СО ВНАТРЕШНО ЛАЧЕЊЕ, ИСХРАНА И МЕТАБОЛИЗАМ
A9: Ред.Број | B9: Шифра на ДСГ услуга | C9: Назив на ДСГ услуга | D9: Референтнa ценa | E9: 2026 | K9: 2025 (Реализација јануари- септември и проекција до декември) | M9: 2024
E10: I полугодие | G10: II полугодие | I10: Вкупно
E11: бр. на случаи | F11: износ по ДСГ | G11: бр. на случаи | H11: износ по ДСГ | I11: бр. на услуги | J11: износ по ДСГ | K11: Вкупен бр. на услуги | L11: Вкупен износ по ДСГ | M11: Вкупен бр. на услуги | N11: Вкупен износ по ДСГ
A12: 1 | B12: 2 | C12: 3 | D12: 4 | E12: 5 | F12: 6 | G12: 7 | H12: 8 | I12: 9=(5+6+7+8) | J12: 10(4*9) | K12: 11 | L12: 12 | M12: 13 | N12: 14
A13: 1 | B13: K01Z | C13: Процедури на дијабетичко стапало | D13: 144493 | F13: =E13*D13 -> 0 | H13: =G13*D13 -> 0 | I13: =E13+G13 -> 0 | J13: =I13*D13 -> 0 | L13: =K13*D13 -> 0 | N13: =M13*D13 -> 0
A14: 2 | B14: K02Z | C14: Процедури на хипофиза | D14: 96760 | F14: =E14*D14 -> 0 | H14: =G14*D14 -> 0 | I14: =E14+G14 -> 0 | J14: =I14*D14 -> 0 | L14: =K14*D14 -> 0 | N14: =M14*D14 -> 0
A15: 3 | B15: K03Z | C15: Процедури на надбубрежните жлезди | D15: 88920 | F15: =E15*D15 -> 0 | H15: =G15*D15 -> 0 | I15: =E15+G15 -> 0 | J15: =I15*D15 -> 0 | L15: =K15*D15 -> 0 | N15: =M15*D15 -> 0
A16: 4 | B16: K04Z | C16: Големи процедури за дебелина | D16: 365000 | F16: =E16*D16 -> 0 | H16: =G16*D16 -> 0 | I16: =E16+G16 -> 0 | J16: =I16*D16 -> 0 | L16: =K16*D16 -> 0 | N16: =M16*D16 -> 0
A17: 5 | B17: K05Z | C17: Процедури на паратироидна жлезда | D17: 49064 | F17: =E17*D17 -> 0 | H17: =G17*D17 -> 0 | I17: =E17+G17 -> 0 | J17: =I17*D17 -> 0 | L17: =K17*D17 -> 0 | N17: =M17*D17 -> 0
A18: 6 | B18: K06Z | C18: Процедури на тироидна жлезда | D18: 38915 | F18: =E18*D18 -> 0 | H18: =G18*D18 -> 0 | I18: =E18+G18 -> 0 | J18: =I18*D18 -> 0 | L18: =K18*D18 -> 0 | N18: =M18*D18 -> 0
A19: 7 | B19: K07Z | C19: Процедури за дебелина | D19: 54204 | F19: =E19*D19 -> 0 | H19: =G19*D19 -> 0 | I19: =E19+G19 -> 0 | J19: =I19*D19 -> 0 | L19: =K19*D19 -> 0 | N19: =M19*D19 -> 0
A20: 8 | B20: K08Z | C20: Тироглосални процедури | D20: 25613 | F20: =E20*D20 -> 0 | H20: =G20*D20 -> 0 | I20: =E20+G20 -> 0 | J20: =I20*D20 -> 0 | L20: =K20*D20 -> 0 | N20: =M20*D20 -> 0
A21: 9 | B21: K09Z | C21: Други ендокринолошки, нутритивни и метаболички процедури во операциона сала | D21: 63400 | F21: =E21*D21 -> 0 | H21: =G21*D21 -> 0 | I21: =E21+G21 -> 0 | J21: =I21*D21 -> 0 | L21: =K21*D21 -> 0 | N21: =M21*D21 -> 0
A22: 10 | B22: K40Z | C22: Ендоскопски или дијагностички процедури за метаболички нарушувања без КК | D22: 22711 | F22: =E22*D22 -> 0 | H22: =G22*D22 -> 0 | I22: =E22+G22 -> 0 | J22: =I22*D22 -> 0 | L22: =K22*D22 -> 0 | N22: =M22*D22 -> 0
A23: 11 | B23: K60A | C23: Дијабетес со катастрофални или тешки КК | D23: 33283 | F23: =E23*D23 -> 0 | H23: =G23*D23 -> 0 | I23: =E23+G23 -> 0 | J23: =I23*D23 -> 0 | L23: =K23*D23 -> 0 | N23: =M23*D23 -> 0
A24: 12 | B24: K60B | C24: Дијабетес без катастрофални или тешки КК | D24: 18552 | F24: =E24*D24 -> 0 | H24: =G24*D24 -> 0 | I24: =E24+G24 -> 0 | J24: =I24*D24 -> 0 | L24: =K24*D24 -> 0 | N24: =M24*D24 -> 0
... A31: 19 | B31: K64B | C31: Ендокрини пореметувања без катастрофални или тешки КК | D31: 17515 | F31: =E31*D31 -> 0 | H31: =G31*D31 -> 0 | I31: =E31+G31 -> 0 | J31: =I31*D31 -> 0 | L31: =K31*D31 -> 0 | N31: =M31*D31 -> 0
A32: 20
A33: 21
A34: 22
A35: 23
A36: 24
A37: 25
A38: 26
A39: 27
A40: 28
A41: 29
A42: 30
C43: ВКУПНО | E43: =SUM(E13:E42) -> 0 | F43: =SUM(F13:F42) -> 0 | G43: =SUM(G13:G42) -> 0 | H43: =SUM(H13:H42) -> 0 | I43: =SUM(I13:I42) -> 0 | J43: =SUM(J13:J42) -> 0 | K43: =SUM(K13:K42) -> 0 | L43: =SUM(L13:L42) -> 0 | ... N43: =SUM(N13:N42) -> 0
B45: ДСГ здравствени услуги по тип на нега
B46: Шифра на ДСГ група | C46: тип на нега | E46: План за 2026 | N46: 2025 (Реализација јануари- септември и проекција до декември) | Q46: 2024
E47: I полугодие | H47: II полугодие | K47: Вкупно
E48: бр. на случаи | F48: Износ | G48: % од бр. на случаи | H48: бр. на случаи | I48: Износ | J48: % од бр. на случаи | K48: бр. на случаи | L48: Износ | M48: % од бр. на случаи | N48: бр. на случаи | O48: Износ | P48: % од бр. на случаи | Q48: бр. на случаи | R48: Износ | S48: % од бр. на случаи
B49: K01-K09 | C49: Хируршки ДСГ групи | E49: =SUM(E13:E21) -> 0 | F49: =SUM(F13:F21) -> 0 | G49: =E49/$E$43 -> #DIV/0! | H49: =SUM(G13:G21) -> 0 | I49: =SUM(H13:H21) -> 0 | J49: =H49/$G$43 -> #DIV/0! | K49: =SUM(I13:I21) -> 0 | L49: =SUM(J13:J21) -> 0 | M49: =K49/$I$43 -> #DIV/0! | N49: =SUM(K13:K21) -> 0 | O49: =SUM(L13:L21) -> 0 | P49: =N49/$K$43 -> #DIV/0! | Q49: =SUM(M13:M21) -> 0 | R49: =SUM(N13:N21) -> 0 | S49: =Q49/$M$43 -> #DIV/0!
B50: K60-K64 | C50: Медицински (интернистички) ДСГ групи | E50: =SUM(E23:E42) -> 0 | F50: =SUM(F23:F42) -> 0 | G50: =E50/$E$43 -> #DIV/0! | H50: =SUM(G23:G42) -> 0 | I50: =SUM(H23:H42) -> 0 | J50: =H50/$G$43 -> #DIV/0! | K50: =SUM(I23:I42) -> 0 | L50: =SUM(J23:J42) -> 0 | M50: =K50/$I$43 -> #DIV/0! | N50: =SUM(K23:K42) -> 0 | O50: =SUM(L23:L42) -> 0 | P50: =N50/$K$43 -> #DIV/0! | Q50: =SUM(M23:M42) -> 0 | R50: =SUM(N23:N42) -> 0 | S50: =Q50/$M$43 -> #DIV/0!
B51: K40 | C51: Останати ДСГ групи | E51: =E22 -> 0 | F51: =F22 -> 0 | G51: =E51/$E$43 -> #DIV/0! | H51: =G22 -> 0 | I51: =H22 -> 0 | J51: =H51/$G$43 -> #DIV/0! | K51: =I22 -> 0 | L51: =J22 -> 0 | M51: =K51/$I$43 -> #DIV/0! | N51: =K22 -> 0 | O51: =L22 -> 0 | P51: =N51/$K$43 -> #DIV/0! | Q51: =M22 -> 0 | R51: =N22 -> 0 | S51: =Q51/$M$43 -> #DIV/0!
A53: Во _____________________на _________________ година. | E53: Составил,_______________________
F55: Д и р е к т о р,
F56: ______________

Sheet План-ДСГ-MDC-L
A1: ЈЗУ Универзитетски клиники, клинички болници, општи болници, специјални болници | I1: ПЛ 3 Б - ДСГ MDC-L | O1: Врати се на почетна страна
B3: Здравствена установа | C3: ________________________________________________________________________
A5: П Л А Н
A6: на видот и обемот на ДСГ здравствени услуги и пакети за завршени здравствени услуги во болничка здравствена заштита (акутни болнички случаи кои не се искажуваат според ДСГ методата) на осигурените лица за ___________ година.
A7: Главна дијагностичка категорија (MDC: L02-L67, БЛУ1-БЛУ3) БОЛЕСТИ И ПОРЕМЕТУВАЊА НА БУБРЕГ И УРИНАРЕН СИСТЕМ
A9: Ред.Број | B9: Шифра на ДСГ услуга | C9: Назив на ДСГ услуга | D9: Референтнa ценa | E9: 2026 | K9: 2025 (Реализација јануари- септември и проекција до декември) | M9: 2024
E10: I полугодие | G10: II полугодие | I10: Вкупно
E11: бр. на случаи | F11: износ по ДСГ | G11: бр. на случаи | H11: износ по ДСГ | I11: бр. на услуги | J11: износ по ДСГ | K11: Вкупен бр. на услуги | L11: Вкупен износ по ДСГ | M11: Вкупен бр. на услуги | N11: Вкупен износ по ДСГ
A12: 1 | B12: 2 | C12: 3 | D12: 4 | E12: 5 | F12: 6 | G12: 7 | H12: 8 | I12: 9=(5+6+7+8) | J12: 10(4*9) | K12: 11 | L12: 12 | M12: 13 | N12: 14
A13: 1 | B13: L02A | C13: Оперативно поставување на перитонален катетер за дијализа со катастрофални или тешки КК | D13: 112885 | F13: =E13*D13 -> 0 | H13: =G13*D13 -> 0 | I13: =E13+G13 -> 0 | J13: =I13*D13 -> 0 | L13: =K13*D13 -> 0 | N13: =M13*D13 -> 0
A14: 2 | B14: L02B | C14: Оперативно поставување на перитонален катетер за дијализа без катастрофални или тешки КК | D14: 87594 | F14: =E14*D14 -> 0 | H14: =G14*D14 -> 0 | I14: =E14+G14 -> 0 | J14: =I14*D14 -> 0 | L14: =K14*D14 -> 0 | N14: =M14*D14 -> 0
A15: 3 | B15: L03A | C15: Големи процедури на бубрези, уретер и мочен меур поради неоплазми со катастрофални или тешки КК | D15: 211157 | F15: =E15*D15 -> 0 | H15: =G15*D15 -> 0 | I15: =E15+G15 -> 0 | J15: =I15*D15 -> 0 | L15: =K15*D15 -> 0 | N15: =M15*D15 -> 0
A16: 4 | B16: L03B | C16: Големи процедури на бубрези, уретер и мочен меур поради неоплазми без катастрофални или тешки КК | D16: 146958 | F16: =E16*D16 -> 0 | H16: =G16*D16 -> 0 | I16: =E16+G16 -> 0 | J16: =I16*D16 -> 0 | L16: =K16*D16 -> 0 | N16: =M16*D16 -> 0
A17: 5 | B17: L04A | C17: Големи процедури на бубрези, уретер и мочен меур поради не-неопластични болести со катастрофални или тешки КК | D17: 115501 | F17: =E17*D17 -> 0 | H17: =G17*D17 -> 0 | I17: =E17+G17 -> 0 | J17: =I17*D17 -> 0 | L17: =K17*D17 -> 0 | N17: =M17*D17 -> 0
A18: 6 | B18: L04B | C18: Големи процедури на бубрези, уретер и мочен меур поради не-неопластични болести со тешки или умерени КК | D18: 63421 | F18: =E18*D18 -> 0 | H18: =G18*D18 -> 0 | I18: =E18+G18 -> 0 | J18: =I18*D18 -> 0 | L18: =K18*D18 -> 0 | N18: =M18*D18 -> 0
A19: 7 | B19: L04C | C19: Големи процедури на бубрези, уретер и мочен меур поради не-неопластични болести без КК | D19: 55052 | F19: =E19*D19 -> 0 | H19: =G19*D19 -> 0 | I19: =E19+G19 -> 0 | J19: =I19*D19 -> 0 | L19: =K19*D19 -> 0 | N19: =M19*D19 -> 0
A20: 8 | B20: L05A | C20: Трансуретрална простатектомија со катастрофални или тешки КК | D20: 79434 | F20: =E20*D20 -> 0 | H20: =G20*D20 -> 0 | I20: =E20+G20 -> 0 | J20: =I20*D20 -> 0 | L20: =K20*D20 -> 0 | N20: =M20*D20 -> 0
A21: 9 | B21: L05B | C21: Трансуретрална простатектомија без катастрофални или тешки КК | D21: 36445 | F21: =E21*D21 -> 0 | H21: =G21*D21 -> 0 | I21: =E21+G21 -> 0 | J21: =I21*D21 -> 0 | L21: =K21*D21 -> 0 | N21: =M21*D21 -> 0
A22: 10 | B22: L06A | C22: Мали процедури на мочен меур со катастрофални или тешки КК | D22: 50459 | F22: =E22*D22 -> 0 | H22: =G22*D22 -> 0 | I22: =E22+G22 -> 0 | J22: =I22*D22 -> 0 | L22: =K22*D22 -> 0 | N22: =M22*D22 -> 0
A23: 11 | B23: L06B | C23: Мали процедури на мочен меур без катастрофални или тешки КК | D23: 30746 | F23: =E23*D23 -> 0 | H23: =G23*D23 -> 0 | I23: =E23+G23 -> 0 | J23: =I23*D23 -> 0 | L23: =K23*D23 -> 0 | N23: =M23*D23 -> 0
A24: 12 | B24: L07A | C24: Трансуретрални процедури освен простатектомија со катастрофални или тешки КК | D24: 47799 | F24: =E24*D24 -> 0 | H24: =G24*D24 -> 0 | I24: =E24+G24 -> 0 | J24: =I24*D24 -> 0 | L24: =K24*D24 -> 0 | N24: =M24*D24 -> 0
... A52: 40 | B52: БЛУ 3 | C52: Вградување на семи ригидна пенилна протеза | D52: 137340 | F52: =E52*D52 -> 0 | H52: =G52*D52 -> 0 | I52: =E52+G52 -> 0 | J52: =I52*D52 -> 0 | L52: =K52*D52 -> 0 | N52: =M52*D52 -> 0
A53: 80
A55: 82
C56: ВКУПНО | E56: =SUM(E13:E55) -> 0 | F56: =SUM(F13:F55) -> 0 | G56: =SUM(G13:G55) -> 0 | H56: =SUM(H13:H55) -> 0 | I56: =SUM(I13:I55) -> 0 | J56: =SUM(J13:J55) -> 0 | K56: =SUM(K13:K55) -> 0 | L56: =SUM(L13:L55) -> 0 | ... N56: =SUM(N13:N55) -> 0
B58: ДСГ здравствени услуги по тип на нега
B59: Шифра на ДСГ група | C59: тип на нега | E59: План за 2026 | N59: 2025 (Реализација јануари- септември и проекција до декември) | Q59: 2024
E60: I полугодие | H60: II полугодие | K60: Вкупно
E61: бр. на случаи | F61: Износ | G61: % од бр. на случаи | H61: бр. на случаи | I61: Износ | J61: % од бр. на случаи | K61: бр. на случаи | L61: Износ | M61: % од бр. на случаи | N61: бр. на случаи | O61: Износ | P61: % од бр. на случаи | Q61: бр. на случаи | R61: Износ | S61: % од бр. на случаи
B62: L02-L09, БЛУ1-БЛУ3 | C62: Хируршки ДСГ групи | E62: =SUM(E13:E30)+E50+E51+E52 -> 0 | F62: =SUM(F13:F30)+F50+F51+F52 -> 0 | G62: =E62/$E$56 -> #DIV/0! | H62: =SUM(G13:G30)+G50+G51+G52 -> 0 | I62: =SUM(H13:H30)+H50+H51+H52 -> 0 | J62: =H62/$G$56 -> #DIV/0! | K62: =SUM(I13:I30)+I50+I51+I52 -> 0 | L62: =SUM(J13:J30)+J50+J51+J52 -> 0 | M62: =K62/$I$56 -> #DIV/0! | N62: =SUM(K13:K30)+K50+K51+K52 -> 0 | O62: =SUM(L13:L30)+L50+L51+L52 -> 0 | P62: =N62/$K$56 -> #DIV/0! | Q62: =SUM(M13:M30)+M50+M51+M52 -> 0 | R62: =SUM(N13:N30)+N50+N51+N52 -> 0 | S62: =Q62/$M$56 -> #DIV/0!
B63: I60-I78 | C63: Медицински (интернистички) ДСГ групи | E63: =SUM(E34:E49) -> 0 | F63: =SUM(F34:F49) -> 0 | G63: =E63/$E$56 -> #DIV/0! | H63: =SUM(G34:G49) -> 0 | I63: =SUM(H34:H49) -> 0 | J63: =H63/$G$56 -> #DIV/0! | K63: =SUM(I34:I49) -> 0 | L63: =SUM(J34:J49) -> 0 | M63: =K63/$I$56 -> #DIV/0! | N63: =SUM(K34:K49) -> 0 | O63: =SUM(L34:L49) -> 0 | P63: =N63/$K$56 -> #DIV/0! | Q63: =SUM(M34:M49) -> 0 | R63: =SUM(N34:N49) -> 0 | S63: =Q63/$M$56 -> #DIV/0!
B64: L40-L42 | C64: Останати ДСГ групи | E64: =SUM(E31:E33) -> 0 | F64: =SUM(F31:F33) -> 0 | G64: =E64/$E$56 -> #DIV/0! | H64: =SUM(G31:G33) -> 0 | I64: =SUM(H31:H33) -> 0 | J64: =H64/$G$56 -> #DIV/0! | K64: =SUM(I31:I33) -> 0 | L64: =SUM(J31:J33) -> 0 | M64: =K64/$I$56 -> #DIV/0! | N64: =SUM(K31:K33) -> 0 | O64: =SUM(L31:L33) -> 0 | P64: =N64/$K$56 -> #DIV/0! | Q64: =SUM(M31:M33) -> 0 | R64: =SUM(N31:N33) -> 0 | S64: =Q64/$M$56 -> #DIV/0!
A66: Во _____________________на _________________ година. | E66: Составил,_______________________
F68: Д и р е к т о р,
F69: ______________

Sheet План-ДСГ-MDC-M
A1: ЈЗУ Универзитетски клиники, клинички болници, општи болници, специјални болници | I1: ПЛ 3 Б - ДСГ MDC-M | O1: Врати се на почетна страна
B3: Здравствена установа | C3: ________________________________________________________________________
A5: П Л А Н
A6: на видот и обемот на ДСГ здравствени услуги и пакети за завршени здравствени услуги во болничка здравствена заштита (акутни болнички случаи кои не се искажуваат според ДСГ методата) на осигурените лица за ___________ година.
A7: Главна дијагностичка категорија (MDC: M01-M64) БОЛЕСТИ И ПОРЕМЕТУВАЊА НА МАШКИ РЕПРОДУКТИВЕН СИСТЕМ
A9: Ред.Број | B9: Шифра на ДСГ услуга | C9: Назив на ДСГ услуга | D9: Референтнa ценa | E9: 2026 | K9: 2025 (Реализација јануари- септември и проекција до декември) | M9: 2024
E10: I полугодие | G10: II полугодие | I10: Вкупно
E11: бр. на случаи | F11: износ по ДСГ | G11: бр. на случаи | H11: износ по ДСГ | I11: бр. на услуги | J11: износ по ДСГ | K11: Вкупен бр. на услуги | L11: Вкупен износ по ДСГ | M11: Вкупен бр. на услуги | N11: Вкупен износ по ДСГ
A12: 1 | B12: 2 | C12: 3 | D12: 4 | E12: 5 | F12: 6 | G12: 7 | H12: 8 | I12: 9=(5+6+7+8) | J12: 10(4*9) | K12: 11 | L12: 12 | M12: 13 | N12: 14
A13: 1 | B13: M01Z | C13: Големи процедури на пелвис кај мажи | D13: 79478 | F13: =E13*D13 -> 0 | H13: =G13*D13 -> 0 | I13: =E13+G13 -> 0 | J13: =I13*D13 -> 0 | L13: =K13*D13 -> 0 | N13: =M13*D13 -> 0
A14: 2 | B14: M02A | C14: Трансуретална простатектомија со катастрофални или тешки КК | D14: 49830 | F14: =E14*D14 -> 0 | H14: =G14*D14 -> 0 | I14: =E14+G14 -> 0 | J14: =I14*D14 -> 0 | L14: =K14*D14 -> 0 | N14: =M14*D14 -> 0
A15: 3 | B15: M02B | C15: Трансуретрална простатектомија без катастрофални или тешки КК | D15: 38819 | F15: =E15*D15 -> 0 | H15: =G15*D15 -> 0 | I15: =E15+G15 -> 0 | J15: =I15*D15 -> 0 | L15: =K15*D15 -> 0 | N15: =M15*D15 -> 0
A16: 4 | B16: M03A | C16: Процедури на пенис со КК | D16: 29126 | F16: =E16*D16 -> 0 | H16: =G16*D16 -> 0 | I16: =E16+G16 -> 0 | J16: =I16*D16 -> 0 | L16: =K16*D16 -> 0 | N16: =M16*D16 -> 0
A17: 5 | B17: M03B | C17: Процедури на пенис без КК | D17: 21839 | F17: =E17*D17 -> 0 | H17: =G17*D17 -> 0 | I17: =E17+G17 -> 0 | J17: =I17*D17 -> 0 | L17: =K17*D17 -> 0 | N17: =M17*D17 -> 0
A18: 6 | B18: M04A | C18: Процедури на тестиси со КК | D18: 27145 | F18: =E18*D18 -> 0 | H18: =G18*D18 -> 0 | I18: =E18+G18 -> 0 | J18: =I18*D18 -> 0 | L18: =K18*D18 -> 0 | N18: =M18*D18 -> 0
A19: 7 | B19: M04B | C19: Процедури на тестиси без КК | D19: 19611 | F19: =E19*D19 -> 0 | H19: =G19*D19 -> 0 | I19: =E19+G19 -> 0 | J19: =I19*D19 -> 0 | L19: =K19*D19 -> 0 | N19: =M19*D19 -> 0
A20: 8 | B20: M05Z | C20: Циркумцизија | D20: 9217 | F20: =E20*D20 -> 0 | H20: =G20*D20 -> 0 | I20: =E20+G20 -> 0 | J20: =I20*D20 -> 0 | L20: =K20*D20 -> 0 | N20: =M20*D20 -> 0
A21: 9 | B21: M06A | C21: Други процедури во операциона сала за малигна болест на машкиот репродуктивен систем | D21: 46573 | F21: =E21*D21 -> 0 | H21: =G21*D21 -> 0 | I21: =E21+G21 -> 0 | J21: =I21*D21 -> 0 | L21: =K21*D21 -> 0 | N21: =M21*D21 -> 0
A22: 10 | B22: M06B | C22: Други процедури во операциона сала на машкиот репродуктивен систем освен за малигна болест | D22: 31959 | F22: =E22*D22 -> 0 | H22: =G22*D22 -> 0 | I22: =E22+G22 -> 0 | J22: =I22*D22 -> 0 | L22: =K22*D22 -> 0 | N22: =M22*D22 -> 0
A23: 11 | B23: M40Z | C23: Цистоуретроскопија без КК | D23: 9813 | F23: =E23*D23 -> 0 | H23: =G23*D23 -> 0 | I23: =E23+G23 -> 0 | J23: =I23*D23 -> 0 | L23: =K23*D23 -> 0 | N23: =M23*D23 -> 0
A24: 12 | B24: M60A | C24: Малигна болест на машкиот репродуктивен систем со катастрофални или тешки КК | D24: 62182 | F24: =E24*D24 -> 0 | H24: =G24*D24 -> 0 | I24: =E24+G24 -> 0 | J24: =I24*D24 -> 0 | L24: =K24*D24 -> 0 | N24: =M24*D24 -> 0
... A31: 19 | B31: M64Z | C31: Други дијагнози на машкиот репродуктивен систем | D31: 13748 | F31: =E31*D31 -> 0 | H31: =G31*D31 -> 0 | I31: =E31+G31 -> 0 | J31: =I31*D31 -> 0 | L31: =K31*D31 -> 0 | N31: =M31*D31 -> 0
A32: 20
A33: 21
A34: 22
A35: 23
A36: 24
A37: 25
A38: 26
A39: 27
A40: 28
A41: 29
A42: 30
C43: ВКУПНО | E43: =SUM(E13:E42) -> 0 | F43: =SUM(F13:F42) -> 0 | G43: =SUM(G13:G42) -> 0 | H43: =SUM(H13:H42) -> 0 | I43: =SUM(I13:I42) -> 0 | J43: =SUM(J13:J42) -> 0 | K43: =SUM(K13:K42) -> 0 | L43: =SUM(L13:L42) -> 0 | ... N43: =SUM(N13:N42) -> 0
B45: ДСГ здравствени услуги по тип на нега
B46: Шифра на ДСГ група | C46: тип на нега | E46: План за 2026 | N46: 2025 (Реализација јануари- септември и проекција до декември) | Q46: 2024
E47: I полугодие | H47: II полугодие | K47: Вкупно
E48: бр. на случаи | F48: Износ | G48: % од бр. на случаи | H48: бр. на случаи | I48: Износ | J48: % од бр. на случаи | K48: бр. на случаи | L48: Износ | M48: % од бр. на случаи | N48: бр. на случаи | O48: Износ | P48: % од бр. на случаи | Q48: бр. на случаи | R48: Износ | S48: % од бр. на случаи
B49: M01-M06 | C49: Хируршки ДСГ групи | E49: =SUM(E13:E22) -> 0 | F49: =SUM(F13:F22) -> 0 | G49: =E49/$E$43 -> #DIV/0! | H49: =SUM(G13:G22) -> 0 | I49: =SUM(H13:H22) -> 0 | J49: =H49/$G$43 -> #DIV/0! | K49: =SUM(I13:I22) -> 0 | L49: =SUM(J13:J22) -> 0 | M49: =K49/$I$43 -> #DIV/0! | N49: =SUM(K13:K22) -> 0 | O49: =SUM(L13:L22) -> 0 | P49: =N49/$K$43 -> #DIV/0! | Q49: =SUM(M13:M22) -> 0 | R49: =SUM(N13:N22) -> 0 | S49: =Q49/$M$43 -> #DIV/0!
B50: M60-M64 | C50: Медицински (интернистички) ДСГ групи | E50: =SUM(E24:E42) -> 0 | F50: =SUM(F24:F42) -> 0 | G50: =E50/$E$43 -> #DIV/0! | H50: =SUM(G24:G42) -> 0 | I50: =SUM(H24:H42) -> 0 | J50: =H50/$G$43 -> #DIV/0! | K50: =SUM(I24:I42) -> 0 | L50: =SUM(J24:J42) -> 0 | M50: =K50/$I$43 -> #DIV/0! | N50: =SUM(K24:K42) -> 0 | O50: =SUM(L24:L42) -> 0 | P50: =N50/$K$43 -> #DIV/0! | Q50: =SUM(M24:M42) -> 0 | R50: =SUM(N24:N42) -> 0 | S50: =Q50/$M$43 -> #DIV/0!
B51: M40 | C51: Останати ДСГ групи | E51: =E23 -> 0 | F51: =F23 -> 0 | G51: =E51/$E$43 -> #DIV/0! | H51: =G23 -> 0 | I51: =H23 -> 0 | J51: =H51/$G$43 -> #DIV/0! | K51: =I23 -> 0 | L51: =J23 -> 0 | M51: =K51/$I$43 -> #DIV/0! | N51: =K23 -> 0 | O51: =L23 -> 0 | P51: =N51/$K$43 -> #DIV/0! | Q51: =M23 -> 0 | R51: =N23 -> 0 | S51: =Q51/$M$43 -> #DIV/0!
A53: Во _____________________на _________________ година. | E53: Составил,_______________________
F55: Д и р е к т о р,
F56: ______________

Sheet План-ДСГ-MDC-N
A1: ЈЗУ Универзитетски клиники, клинички болници, општи болници, специјални болници | I1: ПЛ 3 Б - ДСГ MDC-N | O1: Врати се на почетна страна
B3: Здравствена установа | C3: ________________________________________________________________________
A5: П Л А Н
A6: на видот и обемот на ДСГ здравствени услуги и пакети за завршени здравствени услуги во болничка здравствена заштита (акутни болнички случаи кои не се искажуваат според ДСГ методата) на осигурените лица за ___________ година.
A7: Главна дијагностичка категорија (MDC: N01-N62) БОЛЕСТИ И ПОРЕМЕТУВАЊА НА ЖЕНСКИОТ РЕПРОДУКТИВЕН СИСТЕМ
A9: Ред.Број | B9: Шифра на ДСГ услуга | C9: Назив на ДСГ услуга | D9: Референтнa ценa | E9: 2026 | K9: 2025 (Реализација јануари- септември и проекција до декември) | M9: 2024
E10: I полугодие | G10: II полугодие | I10: Вкупно
E11: бр. на случаи | F11: износ по ДСГ | G11: бр. на случаи | H11: износ по ДСГ | I11: бр. на услуги | J11: износ по ДСГ | K11: Вкупен бр. на услуги | L11: Вкупен износ по ДСГ | M11: Вкупен бр. на услуги | N11: Вкупен износ по ДСГ
A12: 1 | B12: 2 | C12: 3 | D12: 4 | E12: 5 | F12: 6 | G12: 7 | H12: 8 | I12: 9=(5+6+7+8) | J12: 10(4*9) | K12: 11 | L12: 12 | M12: 13 | N12: 14
A13: 1 | B13: N01Z | C13: Пелвична евисцерација и радикална вулвектомија | D13: 66094 | F13: =E13*D13 -> 0 | H13: =G13*D13 -> 0 | I13: =E13+G13 -> 0 | J13: =I13*D13 -> 0 | L13: =K13*D13 -> 0 | N13: =M13*D13 -> 0
A14: 2 | B14: N02A | C14: Процедури на матка, јајчници и јајцеводи поради малигнa болест на овариум или малигна болест на јајцевод со КК | D14: 121805 | F14: =E14*D14 -> 0 | H14: =G14*D14 -> 0 | I14: =E14+G14 -> 0 | J14: =I14*D14 -> 0 | L14: =K14*D14 -> 0 | N14: =M14*D14 -> 0
A15: 3 | B15: N02B | C15: Процедури на матка, јајчници и јајцеводи поради малигна болест на овариум или јајцевод без КК | D15: 64667 | F15: =E15*D15 -> 0 | H15: =G15*D15 -> 0 | I15: =E15+G15 -> 0 | J15: =I15*D15 -> 0 | L15: =K15*D15 -> 0 | N15: =M15*D15 -> 0
A16: 4 | B16: N03A | C16: Процедури на матка, јајчници и јајцеводи поради малигна болест освен на јајчниците или јајцеводите со КК | D16: 78622 | F16: =E16*D16 -> 0 | H16: =G16*D16 -> 0 | I16: =E16+G16 -> 0 | J16: =I16*D16 -> 0 | L16: =K16*D16 -> 0 | N16: =M16*D16 -> 0
A17: 5 | B17: N03B | C17: Процедури на матка, јајчници и јајцеводи поради малигна болест освен на јајчниците или јајцеводите без КК | D17: 71827 | F17: =E17*D17 -> 0 | H17: =G17*D17 -> 0 | I17: =E17+G17 -> 0 | J17: =I17*D17 -> 0 | L17: =K17*D17 -> 0 | N17: =M17*D17 -> 0
A18: 6 | B18: N04Z | C18: Хистеректомија поради немалигна болест | D18: 49399 | F18: =E18*D18 -> 0 | H18: =G18*D18 -> 0 | I18: =E18+G18 -> 0 | J18: =I18*D18 -> 0 | L18: =K18*D18 -> 0 | N18: =M18*D18 -> 0
A19: 7 | B19: N05A | C19: Оваректомии и сложени процедури на јајцевод поради немалигни болести со катастрофални или тешки КК | D19: 91854 | F19: =E19*D19 -> 0 | H19: =G19*D19 -> 0 | I19: =E19+G19 -> 0 | J19: =I19*D19 -> 0 | L19: =K19*D19 -> 0 | N19: =M19*D19 -> 0
A20: 8 | B20: N05B | C20: Оваректомија и сложени процедури на јајцевод поради немалигни болести без катастрофални или тешки КК | D20: 38461 | F20: =E20*D20 -> 0 | H20: =G20*D20 -> 0 | I20: =E20+G20 -> 0 | J20: =I20*D20 -> 0 | L20: =K20*D20 -> 0 | N20: =M20*D20 -> 0
A21: 9 | B21: N06Z | C21: Реконструктивни процедури на женскиот репродуктивен систем | D21: 32770 | F21: =E21*D21 -> 0 | H21: =G21*D21 -> 0 | I21: =E21+G21 -> 0 | J21: =I21*D21 -> 0 | L21: =K21*D21 -> 0 | N21: =M21*D21 -> 0
A22: 10 | B22: N07Z | C22: Други процедури на матка, јајчници и јајцеводи поради немалигни болести | D22: 27871 | F22: =E22*D22 -> 0 | H22: =G22*D22 -> 0 | I22: =E22+G22 -> 0 | J22: =I22*D22 -> 0 | L22: =K22*D22 -> 0 | N22: =M22*D22 -> 0
A23: 11 | B23: N08Z | C23: Ендоскопски и лапароскопски процедури на женскиот репродуктивен систем | D23: 20924 | F23: =E23*D23 -> 0 | H23: =G23*D23 -> 0 | I23: =E23+G23 -> 0 | J23: =I23*D23 -> 0 | L23: =K23*D23 -> 0 | N23: =M23*D23 -> 0
A24: 12 | B24: N09Z | C24: Конизација, процедури на вагина, цервикс и вулва | D24: 14181 | F24: =E24*D24 -> 0 | H24: =G24*D24 -> 0 | I24: =E24+G24 -> 0 | J24: =I24*D24 -> 0 | L24: =K24*D24 -> 0 | N24: =M24*D24 -> 0
... A32: 20 | B32: N62B | C32: Менструални и други пореметувања на женскиот репродуктивен систем без КК | D32: 7070 | F32: =E32*D32 -> 0 | H32: =G32*D32 -> 0 | I32: =E32+G32 -> 0 | J32: =I32*D32 -> 0 | L32: =K32*D32 -> 0 | N32: =M32*D32 -> 0
A33: 21
A34: 22
A35: 23
A36: 24
A37: 25
A38: 26
A39: 27
A40: 28
A41: 29
A42: 30
C43: ВКУПНО | E43: =SUM(E13:E42) -> 0 | F43: =SUM(F13:F42) -> 0 | G43: =SUM(G13:G42) -> 0 | H43: =SUM(H13:H42) -> 0 | I43: =SUM(I13:I42) -> 0 | J43: =SUM(J13:J42) -> 0 | K43: =SUM(K13:K42) -> 0 | L43: =SUM(L13:L42) -> 0 | ... N43: =SUM(N13:N42) -> 0
B45: ДСГ здравствени услуги по тип на нега
B46: Шифра на ДСГ група | C46: тип на нега | E46: План за 2026 | N46: 2025 (Реализација јануари- септември и проекција до декември) | Q46: 2024
E47: I полугодие | H47: II полугодие | K47: Вкупно
E48: бр. на случаи | F48: Износ | G48: % од бр. на случаи | H48: бр. на случаи | I48: Износ | J48: % од бр. на случаи | K48: бр. на случаи | L48: Износ | M48: % од бр. на случаи | N48: бр. на случаи | O48: Износ | P48: % од бр. на случаи | Q48: бр. на случаи | R48: Износ | S48: % од бр. на случаи
B49: N01-N11 | C49: Хируршки ДСГ групи | E49: =SUM(E13:E27) -> 0 | F49: =SUM(F13:F27) -> 0 | G49: =E49/$E$43 -> #DIV/0! | H49: =SUM(G13:G27) -> 0 | I49: =SUM(H13:H27) -> 0 | J49: =H49/$G$43 -> #DIV/0! | K49: =SUM(I13:I27) -> 0 | L49: =SUM(J13:J27) -> 0 | M49: =K49/$I$43 -> #DIV/0! | N49: =SUM(K13:K27) -> 0 | O49: =SUM(L13:L27) -> 0 | P49: =N49/$K$43 -> #DIV/0! | Q49: =SUM(M13:M27) -> 0 | R49: =SUM(N13:N27) -> 0 | S49: =Q49/$M$43 -> #DIV/0!
B50: N60-N62 | C50: Медицински (интернистички) ДСГ групи | E50: =SUM(E28:E42) -> 0 | F50: =SUM(F28:F42) -> 0 | G50: =E50/$E$43 -> #DIV/0! | H50: =SUM(G28:G42) -> 0 | I50: =SUM(H28:H42) -> 0 | J50: =H50/$G$43 -> #DIV/0! | K50: =SUM(I28:I42) -> 0 | L50: =SUM(J28:J42) -> 0 | M50: =K50/$I$43 -> #DIV/0! | N50: =SUM(K28:K42) -> 0 | O50: =SUM(L28:L42) -> 0 | P50: =N50/$K$43 -> #DIV/0! | Q50: =SUM(M28:M42) -> 0 | R50: =SUM(N28:N42) -> 0 | S50: =Q50/$M$43 -> #DIV/0!
B51: нема | C51: Останати ДСГ групи | E51: 0 | F51: 0 | G51: =E51/$E$43 -> #DIV/0! | H51: 0 | I51: 0 | J51: =H51/$G$43 -> #DIV/0! | K51: 0 | L51: 0 | M51: =K51/$I$43 -> #DIV/0! | N51: 0 | O51: 0 | P51: =N51/$K$43 -> #DIV/0! | Q51: 0 | R51: 0 | S51: =Q51/$M$43 -> #DIV/0!
A53: Во _____________________на _________________ година. | E53: Составил,_______________________
F55: Д и р е к т о р,
F56: ______________

Sheet План-ДСГ-MDC-O
A1: ЈЗУ Универзитетски клиники, клинички болници, општи болници, специјални болници | I1: ПЛ 3 Б - ДСГ MDC-O | O1: Врати се на почетна страна
B3: Здравствена установа | C3: ________________________________________________________________________
A5: П Л А Н
A6: на видот и обемот на ДСГ здравствени услуги и пакети за завршени здравствени услуги во болничка здравствена заштита (акутни болнички случаи кои не се искажуваат според ДС методата) на осигурените лица за ___________ година.
A7: Главна дијагностичка категорија (MDC: O01-O66) БРЕМЕНОСТ, ПОРОДУВАЊЕ И ПУЕРПЕРИУМ
A9: Ред.Број | B9: Шифра на ДСГ услуга | C9: Назив на ДСГ услуга | D9: Референтнa ценa | E9: 2026 | K9: 2025 (Реализација јануари- септември и проекција до декември) | M9: 2024
E10: I полугодие | G10: II полугодие | I10: Вкупно
E11: бр. на случаи | F11: износ по ДСГ | G11: бр. на случаи | H11: износ по ДСГ | I11: бр. на услуги | J11: износ по ДСГ | K11: Вкупен бр. на услуги | L11: Вкупен износ по ДСГ | M11: Вкупен бр. на услуги | N11: Вкупен износ по ДСГ
A12: 1 | B12: 2 | C12: 3 | D12: 4 | E12: 5 | F12: 6 | G12: 7 | H12: 8 | I12: 9=(5+6+7+8) | J12: 10(4*9) | K12: 11 | L12: 12 | M12: 13 | N12: 14
A13: 1 | B13: O01A | C13: Породување со царски рез со катастрофални КК | D13: 62576 | F13: =E13*D13 -> 0 | H13: =G13*D13 -> 0 | I13: =E13+G13 -> 0 | J13: =I13*D13 -> 0 | L13: =K13*D13 -> 0 | N13: =M13*D13 -> 0
A14: 2 | B14: O01B | C14: Породување со царски рез со тешки КК | D14: 48946 | F14: =E14*D14 -> 0 | H14: =G14*D14 -> 0 | I14: =E14+G14 -> 0 | J14: =I14*D14 -> 0 | L14: =K14*D14 -> 0 | N14: =M14*D14 -> 0
A15: 3 | B15: O01C | C15: Породување со царски рез без катастрофални или тешки КК | D15: 39731 | F15: =E15*D15 -> 0 | H15: =G15*D15 -> 0 | I15: =E15+G15 -> 0 | J15: =I15*D15 -> 0 | L15: =K15*D15 -> 0 | N15: =M15*D15 -> 0
A16: 4 | B16: O02A | C16: Вагинално породување со процедура во операциона сала со катастрофални или тешки КК | D16: 25294 | F16: =E16*D16 -> 0 | H16: =G16*D16 -> 0 | I16: =E16+G16 -> 0 | J16: =I16*D16 -> 0 | L16: =K16*D16 -> 0 | N16: =M16*D16 -> 0
A17: 5 | B17: O02B | C17: Вагинално породување со процедура во операциона сала без катастрофални или тешки КК | D17: 19326 | F17: =E17*D17 -> 0 | H17: =G17*D17 -> 0 | I17: =E17+G17 -> 0 | J17: =I17*D17 -> 0 | L17: =K17*D17 -> 0 | N17: =M17*D17 -> 0
A18: 6 | B18: O03Z | C18: Ектопична бременост | D18: 28315 | F18: =E18*D18 -> 0 | H18: =G18*D18 -> 0 | I18: =E18+G18 -> 0 | J18: =I18*D18 -> 0 | L18: =K18*D18 -> 0 | N18: =M18*D18 -> 0
A19: 7 | B19: O04Z | C19: После породување или после абортус со процедури во операциона сала | D19: 13158 | F19: =E19*D19 -> 0 | H19: =G19*D19 -> 0 | I19: =E19+G19 -> 0 | J19: =I19*D19 -> 0 | L19: =K19*D19 -> 0 | N19: =M19*D19 -> 0
A20: 8 | B20: O05Z | C20: Абортус со процедура во операциона сала | D20: 7834 | F20: =E20*D20 -> 0 | H20: =G20*D20 -> 0 | I20: =E20+G20 -> 0 | J20: =I20*D20 -> 0 | L20: =K20*D20 -> 0 | N20: =M20*D20 -> 0
A21: 9 | B21: O60A | C21: Вагинално породување со катастрофални или тешки КК | D21: 22379 | F21: =E21*D21 -> 0 | H21: =G21*D21 -> 0 | I21: =E21+G21 -> 0 | J21: =I21*D21 -> 0 | L21: =K21*D21 -> 0 | N21: =M21*D21 -> 0
A22: 10 | B22: O60B | C22: Вагинално породување без катастрофални или тешки КК | D22: 19880 | F22: =E22*D22 -> 0 | H22: =G22*D22 -> 0 | I22: =E22+G22 -> 0 | J22: =I22*D22 -> 0 | L22: =K22*D22 -> 0 | N22: =M22*D22 -> 0
A23: 11 | B23: O60C | C23: Вагинално породување, единечно, некомплицирано без други состојби | D23: 13361 | F23: =E23*D23 -> 0 | H23: =G23*D23 -> 0 | I23: =E23+G23 -> 0 | J23: =I23*D23 -> 0 | L23: =K23*D23 -> 0 | N23: =M23*D23 -> 0
A24: 12 | B24: O61Z | C24: По породување или по абортус без процедури во операциона сала | D24: 8171 | F24: =E24*D24 -> 0 | H24: =G24*D24 -> 0 | I24: =E24+G24 -> 0 | J24: =I24*D24 -> 0 | L24: =K24*D24 -> 0 | N24: =M24*D24 -> 0
... A29: 17 | B29: O66B | C29: Преднатален и друг акушерски прием, истиот ден | D29: 3739 | F29: =E29*D29 -> 0 | H29: =G29*D29 -> 0 | I29: =E29+G29 -> 0 | J29: =I29*D29 -> 0 | L29: =K29*D29 -> 0 | N29: =M29*D29 -> 0
A30: 18
A31: 19
A32: 20
A33: 21
A34: 22
A35: 23
A36: 24
A37: 25
A38: 26
A39: 27
A40: 28
A41: 29
A42: 30
C43: ВКУПНО | E43: =SUM(E13:E42) -> 0 | F43: =SUM(F13:F42) -> 0 | G43: =SUM(G13:G42) -> 0 | H43: =SUM(H13:H42) -> 0 | I43: =SUM(I13:I42) -> 0 | J43: =SUM(J13:J42) -> 0 | K43: =SUM(K13:K42) -> 0 | L43: =SUM(L13:L42) -> 0 | ... N43: =SUM(N13:N42) -> 0
B45: ДСГ здравствени услуги по тип на нега
B46: Шифра на ДСГ група | C46: тип на нега | E46: План за 2026 | N46: 2025 (Реализација јануари- септември и проекција до декември) | Q46: 2024
E47: I полугодие | H47: II полугодие | K47: Вкупно
E48: бр. на случаи | F48: Износ | G48: % од бр. на случаи | H48: бр. на случаи | I48: Износ | J48: % од бр. на случаи | K48: бр. на случаи | L48: Износ | M48: % од бр. на случаи | N48: бр. на случаи | O48: Износ | P48: % од бр. на случаи | Q48: бр. на случаи | R48: Износ | S48: % од бр. на случаи
B49: O01-O05 | C49: Хируршки ДСГ групи | E49: =SUM(E13:E20) -> 0 | F49: =SUM(F13:F20) -> 0 | G49: =E49/$E$43 -> #DIV/0! | H49: =SUM(G13:G20) -> 0 | I49: =SUM(H13:H20) -> 0 | J49: =H49/$G$43 -> #DIV/0! | K49: =SUM(I13:I20) -> 0 | L49: =SUM(J13:J20) -> 0 | M49: =K49/$I$43 -> #DIV/0! | N49: =SUM(K13:K20) -> 0 | O49: =SUM(L13:L20) -> 0 | P49: =N49/$K$43 -> #DIV/0! | Q49: =SUM(M13:M20) -> 0 | R49: =SUM(N13:N20) -> 0 | S49: =Q49/$M$43 -> #DIV/0!
B50: O60-O66 | C50: Медицински (интернистички) ДСГ групи | E50: =SUM(E21:E42) -> 0 | F50: =SUM(F21:F42) -> 0 | G50: =E50/$E$43 -> #DIV/0! | H50: =SUM(G21:G42) -> 0 | I50: =SUM(H21:H42) -> 0 | J50: =H50/$G$43 -> #DIV/0! | K50: =SUM(I21:I42) -> 0 | L50: =SUM(J21:J42) -> 0 | M50: =K50/$I$43 -> #DIV/0! | N50: =SUM(K21:K42) -> 0 | O50: =SUM(L21:L42) -> 0 | P50: =N50/$K$43 -> #DIV/0! | Q50: =SUM(M21:M42) -> 0 | R50: =SUM(N21:N42) -> 0 | S50: =Q50/$M$43 -> #DIV/0!
B51: нема | C51: Останати ДСГ групи | E51: 0 | F51: 0 | G51: =E51/$E$43 -> #DIV/0! | H51: 0 | I51: 0 | J51: =H51/$G$43 -> #DIV/0! | K51: 0 | L51: 0 | M51: =K51/$I$43 -> #DIV/0! | N51: 0 | O51: 0 | P51: =N51/$K$43 -> #DIV/0! | Q51: 0 | R51: 0 | S51: =Q51/$M$43 -> #DIV/0!
A53: Во _____________________на _________________ година. | E53: Составил,_______________________
F55: Д и р е к т о р,
F56: ______________

Sheet План-ДСГ-MDC-P
A1: ЈЗУ Универзитетски клиники, клинички болници, општи болници, специјални болници | I1: ПЛ 3 Б - ДСГ MDC-P | O1: Врати се на почетна страна
B3: Здравствена установа | C3: ________________________________________________________________________
A5: П Л А Н
A6: на видот и обемот на ДСГ здравствени услуги и пакети за завршени здравствени услуги во болничка здравствена заштита (акутни болнички случаи кои не се искажуваат според ДСГ методата) на осигурените лица за ___________ година.
A7: Главна дијагностичка категорија (MDC: P01-P67) БОЛЕСТИ И ПОРЕМЕТУВАЊА НА НОВОРОДЕНЧИЊА
A9: Ред.Број | B9: Шифра на ДСГ услуга | C9: Назив на ДСГ услуга | D9: Референтнa ценa | E9: 2026 | K9: 2025 (Реализација јануари- септември и проекција до декември) | M9: 2024
E10: I полугодие | G10: II полугодие | I10: Вкупно
E11: бр. на случаи | F11: износ по ДСГ | G11: бр. на случаи | H11: износ по ДСГ | I11: бр. на услуги | J11: износ по ДСГ | K11: Вкупен бр. на услуги | L11: Вкупен износ по ДСГ | M11: Вкупен бр. на услуги | N11: Вкупен износ по ДСГ
A12: 1 | B12: 2 | C12: 3 | D12: 4 | E12: 5 | F12: 6 | G12: 7 | H12: 8 | I12: 9=(5+6+7+8) | J12: 10(4*9) | K12: 11 | L12: 12 | M12: 13 | N12: 14
A13: 1 | B13: P01Z | C13: Новороденче, починато или преместено во друга установа <5 дена од приемот со значајна процедура во операциона сала | D13: 35382 | F13: =E13*D13 -> 0 | H13: =G13*D13 -> 0 | I13: =E13+G13 -> 0 | J13: =I13*D13 -> 0 | L13: =K13*D13 -> 0 | N13: =M13*D13 -> 0
A14: 2 | B14: P02Z | C14: Кардиоторакални/васкуларни процедури на новороденчиња | D14: 1124558.8 | F14: =E14*D14 -> 0 | H14: =G14*D14 -> 0 | I14: =E14+G14 -> 0 | J14: =I14*D14 -> 0 | L14: =K14*D14 -> 0 | N14: =M14*D14 -> 0
A15: 3 | B15: P03Z | C15: Новороденче тежина при прием 1000-1499 g со значајна процедура во операциона сала | D15: 230422 | F15: =E15*D15 -> 0 | H15: =G15*D15 -> 0 | I15: =E15+G15 -> 0 | J15: =I15*D15 -> 0 | L15: =K15*D15 -> 0 | N15: =M15*D15 -> 0
A16: 4 | B16: P04Z | C16: Новороденче тежина при прием 1500-1999 g со значајна процедура во операциона сала | D16: 198743 | F16: =E16*D16 -> 0 | H16: =G16*D16 -> 0 | I16: =E16+G16 -> 0 | J16: =I16*D16 -> 0 | L16: =K16*D16 -> 0 | N16: =M16*D16 -> 0
A17: 5 | B17: P05Z | C17: Новороденче тежина при прием 2000-2499 g со значајна процедура во операциона сала | D17: 136397 | F17: =E17*D17 -> 0 | H17: =G17*D17 -> 0 | I17: =E17+G17 -> 0 | J17: =I17*D17 -> 0 | L17: =K17*D17 -> 0 | N17: =M17*D17 -> 0
A18: 6 | B18: P06A | C18: Новороденче тежина при прием >2499 g со значајна процедура во операциона сала со повеќе големи проблеми | D18: 184343 | F18: =E18*D18 -> 0 | H18: =G18*D18 -> 0 | I18: =E18+G18 -> 0 | J18: =I18*D18 -> 0 | L18: =K18*D18 -> 0 | N18: =M18*D18 -> 0
A19: 7 | B19: P06B | C19: Новороденче тежина при прием >2499 g со значајна процедура во операциона сала без повеќе големи проблеми | D19: 52281 | F19: =E19*D19 -> 0 | H19: =G19*D19 -> 0 | I19: =E19+G19 -> 0 | J19: =I19*D19 -> 0 | L19: =K19*D19 -> 0 | N19: =M19*D19 -> 0
A20: 8 | B20: P60A | C20: Новороденче, починато или преместено во друга установа <5 дена од приемот без значајна процедура во операциона сала, новородено | D20: 9504 | F20: =E20*D20 -> 0 | H20: =G20*D20 -> 0 | I20: =E20+G20 -> 0 | J20: =I20*D20 -> 0 | L20: =K20*D20 -> 0 | N20: =M20*D20 -> 0
A21: 9 | B21: P60B | C21: Новороденче, починато или преместено во друга установа <5 дена од приемот без значајна процедура во операциона сала, не новородено | D21: 15976 | F21: =E21*D21 -> 0 | H21: =G21*D21 -> 0 | I21: =E21+G21 -> 0 | J21: =I21*D21 -> 0 | L21: =K21*D21 -> 0 | N21: =M21*D21 -> 0
A22: 10 | B22: P61Z | C22: Новороденче, тежина при прием <750 g | D22: 294624 | F22: =E22*D22 -> 0 | H22: =G22*D22 -> 0 | I22: =E22+G22 -> 0 | J22: =I22*D22 -> 0 | L22: =K22*D22 -> 0 | N22: =M22*D22 -> 0
A23: 11 | B23: P62Z | C23: Новороденче, тежина при прием 750-999 g | D23: 271029 | F23: =E23*D23 -> 0 | H23: =G23*D23 -> 0 | I23: =E23+G23 -> 0 | J23: =I23*D23 -> 0 | L23: =K23*D23 -> 0 | N23: =M23*D23 -> 0
A24: 12 | B24: P63Z | C24: Новороденче, тежина при прием 1000-1249 g без значајна процедура во операциона сала | D24: 206415 | F24: =E24*D24 -> 0 | H24: =G24*D24 -> 0 | I24: =E24+G24 -> 0 | J24: =I24*D24 -> 0 | L24: =K24*D24 -> 0 | N24: =M24*D24 -> 0
... A37: 25 | B37: P67D | C37: Новороденче, тежина при прием >2499 g без значајна процедура во операциона сала без проблем | D37: 3933 | F37: =E37*D37 -> 0 | H37: =G37*D37 -> 0 | I37: =E37+G37 -> 0 | J37: =I37*D37 -> 0 | L37: =K37*D37 -> 0 | N37: =M37*D37 -> 0
A38: 26
A39: 27
A40: 28
A41: 29
A42: 30
C43: ВКУПНО | E43: =SUM(E13:E42) -> 0 | F43: =SUM(F13:F42) -> 0 | G43: =SUM(G13:G42) -> 0 | H43: =SUM(H13:H42) -> 0 | I43: =SUM(I13:I42) -> 0 | J43: =SUM(J13:J42) -> 0 | K43: =SUM(K13:K42) -> 0 | L43: =SUM(L13:L42) -> 0 | ... N43: =SUM(N13:N42) -> 0
B45: ДСГ здравствени услуги по тип на нега
B46: Шифра на ДСГ група | C46: тип на нега | E46: План за 2026 | N46: 2025 (Реализација јануари- септември и проекција до декември) | Q46: 2024
E47: I полугодие | H47: II полугодие | K47: Вкупно
E48: бр. на случаи | F48: Износ | G48: % од бр. на случаи | H48: бр. на случаи | I48: Износ | J48: % од бр. на случаи | K48: бр. на случаи | L48: Износ | M48: % од бр. на случаи | N48: бр. на случаи | O48: Износ | P48: % од бр. на случаи | Q48: бр. на случаи | R48: Износ | S48: % од бр. на случаи
B49: P01-P06 | C49: Хируршки ДСГ групи | E49: =SUM(E13:E19) -> 0 | F49: =SUM(F13:F19) -> 0 | G49: =E49/$E$43 -> #DIV/0! | H49: =SUM(G13:G19) -> 0 | I49: =SUM(H13:H19) -> 0 | J49: =H49/$G$43 -> #DIV/0! | K49: =SUM(I13:I19) -> 0 | L49: =SUM(J13:J19) -> 0 | M49: =K49/$I$43 -> #DIV/0! | N49: =SUM(K13:K19) -> 0 | O49: =SUM(L13:L19) -> 0 | P49: =N49/$K$43 -> #DIV/0! | Q49: =SUM(M13:M19) -> 0 | R49: =SUM(N13:N19) -> 0 | S49: =Q49/$M$43 -> #DIV/0!
B50: P60-P67 | C50: Медицински (интернистички) ДСГ групи | E50: =SUM(E20:E42) -> 0 | F50: =SUM(F20:F42) -> 0 | G50: =E50/$E$43 -> #DIV/0! | H50: =SUM(G20:G42) -> 0 | I50: =SUM(H20:H42) -> 0 | J50: =H50/$G$43 -> #DIV/0! | K50: =SUM(I20:I42) -> 0 | L50: =SUM(J20:J42) -> 0 | M50: =K50/$I$43 -> #DIV/0! | N50: =SUM(K20:K42) -> 0 | O50: =SUM(L20:L42) -> 0 | P50: =N50/$K$43 -> #DIV/0! | Q50: =SUM(M20:M42) -> 0 | R50: =SUM(N20:N42) -> 0 | S50: =Q50/$M$43 -> #DIV/0!
B51: нема | C51: Останати ДСГ групи | E51: 0 | F51: 0 | G51: =E51/$E$43 -> #DIV/0! | H51: 0 | I51: 0 | J51: =H51/$G$43 -> #DIV/0! | K51: 0 | L51: 0 | M51: =K51/$I$43 -> #DIV/0! | N51: 0 | O51: 0 | P51: =N51/$K$43 -> #DIV/0! | Q51: 0 | R51: 0 | S51: =Q51/$M$43 -> #DIV/0!
A53: Во _____________________на _________________ година. | E53: Составил,_______________________
F55: Д и р е к т о р,
F56: ______________

Sheet План-ДСГ-MDC-Q
A1: ЈЗУ Универзитетски клиники, клинички болници, општи болници, специјални болници | I1: ПЛ 3 Б - ДСГ MDC-Q | O1: Врати се на почетна страна
B3: Здравствена установа | C3: ________________________________________________________________________
A5: П Л А Н
A6: на видот и обемот на ДСГ здравствени услуги и пакети за завршени здравствени услуги во болничка здравствена заштита (акутни болнички случаи кои не се искажуваат според ДСГ методата) на осигурените лица за ___________ година.
A7: Главна дијагностичка категорија (MDC: Q01-Q62) БОЛЕСТИ И ПОРЕМЕТУВАЊА НА КРВТА, КРВОТВОРНИ ОРГАНИ И ИМУНОЛОШКИОТ СИСТЕМ
A9: Ред.Број | B9: Шифра на ДСГ услуга | C9: Назив на ДСГ услуга | D9: Референтнa ценa | E9: 2026 | K9: 2025 (Реализација јануари- септември и проекција до декември) | M9: 2024
E10: I полугодие | G10: II полугодие | I10: Вкупно
E11: бр. на случаи | F11: износ по ДСГ | G11: бр. на случаи | H11: износ по ДСГ | I11: бр. на услуги | J11: износ по ДСГ | K11: Вкупен бр. на услуги | L11: Вкупен износ по ДСГ | M11: Вкупен бр. на услуги | N11: Вкупен износ по ДСГ
A12: 1 | B12: 2 | C12: 3 | D12: 4 | E12: 5 | F12: 6 | G12: 7 | H12: 8 | I12: 9=(5+6+7+8) | J12: 10(4*9) | K12: 11 | L12: 12 | M12: 13 | N12: 14
A13: 1 | B13: Q01Z | C13: Спленектомија | D13: 93784 | F13: =E13*D13 -> 0 | H13: =G13*D13 -> 0 | I13: =E13+G13 -> 0 | J13: =I13*D13 -> 0 | L13: =K13*D13 -> 0 | N13: =M13*D13 -> 0
A14: 2 | B14: Q02A | C14: Други процедури во операциона сала на крвни и крвоформирачки органи со катастрофални или тешки КК | D14: 115559 | F14: =E14*D14 -> 0 | H14: =G14*D14 -> 0 | I14: =E14+G14 -> 0 | J14: =I14*D14 -> 0 | L14: =K14*D14 -> 0 | N14: =M14*D14 -> 0
A15: 3 | B15: Q02B | C15: Други процедури во операциона сала на крвни и крвоформирачки органи без катастрофални или тешки КК | D15: 24487 | F15: =E15*D15 -> 0 | H15: =G15*D15 -> 0 | I15: =E15+G15 -> 0 | J15: =I15*D15 -> 0 | L15: =K15*D15 -> 0 | N15: =M15*D15 -> 0
A16: 4 | B16: Q60A | C16: Ретикулоендотелијални и имунолошки пореметувања со катастрофални или тешки КК | D16: 38142 | F16: =E16*D16 -> 0 | H16: =G16*D16 -> 0 | I16: =E16+G16 -> 0 | J16: =I16*D16 -> 0 | L16: =K16*D16 -> 0 | N16: =M16*D16 -> 0
A17: 5 | B17: Q60B | C17: Ретикулоендотелијални и имунолошки пореметувања со малигна болест, без катастрофални или тешки КК | D17: 28917 | F17: =E17*D17 -> 0 | H17: =G17*D17 -> 0 | I17: =E17+G17 -> 0 | J17: =I17*D17 -> 0 | L17: =K17*D17 -> 0 | N17: =M17*D17 -> 0
A18: 6 | B18: Q60C | C18: Ретикулоендотелијални и имунолошки пореметувања без малигна болест, без катастрофални или тешки КК | D18: 23774 | F18: =E18*D18 -> 0 | H18: =G18*D18 -> 0 | I18: =E18+G18 -> 0 | J18: =I18*D18 -> 0 | L18: =K18*D18 -> 0 | N18: =M18*D18 -> 0
A19: 7 | B19: Q61A | C19: Пореметувања на црвените крвни зрнца со катастрофални КК | D19: 39848 | F19: =E19*D19 -> 0 | H19: =G19*D19 -> 0 | I19: =E19+G19 -> 0 | J19: =I19*D19 -> 0 | L19: =K19*D19 -> 0 | N19: =M19*D19 -> 0
A20: 8 | B20: Q61B | C20: Пореметувања на црвените крвни зрнца со тешки КК | D20: 23768 | F20: =E20*D20 -> 0 | H20: =G20*D20 -> 0 | I20: =E20+G20 -> 0 | J20: =I20*D20 -> 0 | L20: =K20*D20 -> 0 | N20: =M20*D20 -> 0
A21: 9 | B21: Q61C | C21: Пореметувања на црвени крвни зрнца без катастрофални или тешки КК | D21: 13754 | F21: =E21*D21 -> 0 | H21: =G21*D21 -> 0 | I21: =E21+G21 -> 0 | J21: =I21*D21 -> 0 | L21: =K21*D21 -> 0 | N21: =M21*D21 -> 0
A22: 10 | B22: Q62Z | C22: Пореметувања на коагулацијата | D22: 34411 | F22: =E22*D22 -> 0 | H22: =G22*D22 -> 0 | I22: =E22+G22 -> 0 | J22: =I22*D22 -> 0 | L22: =K22*D22 -> 0 | N22: =M22*D22 -> 0
A23: 11
A24: 12
A25: 13
A26: 14
A27: 15
A28: 16
A29: 17
A30: 18
A31: 19
A32: 20
A33: 21
A34: 22
... A42: 30
C43: ВКУПНО | E43: =SUM(E13:E42) -> 0 | F43: =SUM(F13:F42) -> 0 | G43: =SUM(G13:G42) -> 0 | H43: =SUM(H13:H42) -> 0 | I43: =SUM(I13:I42) -> 0 | J43: =SUM(J13:J42) -> 0 | K43: =SUM(K13:K42) -> 0 | L43: =SUM(L13:L42) -> 0 | ... N43: =SUM(N13:N42) -> 0
B45: ДСГ здравствени услуги по тип на нега
B46: Шифра на ДСГ група | C46: тип на нега | E46: План за 2026 | N46: 2025 (Реализација јануари- септември и проекција до декември) | Q46: 2024
E47: I полугодие | H47: II полугодие | K47: Вкупно
E48: бр. на случаи | F48: Износ | G48: % од бр. на случаи | H48: бр. на случаи | I48: Износ | J48: % од бр. на случаи | K48: бр. на случаи | L48: Износ | M48: % од бр. на случаи | N48: бр. на случаи | O48: Износ | P48: % од бр. на случаи | Q48: бр. на случаи | R48: Износ | S48: % од бр. на случаи
B49: Q01-Q02 | C49: Хируршки ДСГ групи | E49: =SUM(E13:E15) -> 0 | F49: =SUM(F13:F15) -> 0 | G49: =E49/$E$43 -> #DIV/0! | H49: =SUM(G13:G15) -> 0 | I49: =SUM(H13:H15) -> 0 | J49: =H49/$G$43 -> #DIV/0! | K49: =SUM(I13:I15) -> 0 | L49: =SUM(J13:J15) -> 0 | M49: =K49/$I$43 -> #DIV/0! | N49: =SUM(K13:K15) -> 0 | O49: =SUM(L13:L15) -> 0 | P49: =N49/$K$43 -> #DIV/0! | Q49: =SUM(M13:M15) -> 0 | R49: =SUM(N13:N15) -> 0 | S49: =Q49/$M$43 -> #DIV/0!
B50: Q60-Q62 | C50: Медицински (интернистички) ДСГ групи | E50: =SUM(E16:E42) -> 0 | F50: =SUM(F16:F42) -> 0 | G50: =E50/$E$43 -> #DIV/0! | H50: =SUM(G16:G42) -> 0 | I50: =SUM(H16:H42) -> 0 | J50: =H50/$G$43 -> #DIV/0! | K50: =SUM(I16:I42) -> 0 | L50: =SUM(J16:J42) -> 0 | M50: =K50/$I$43 -> #DIV/0! | N50: =SUM(K16:K42) -> 0 | O50: =SUM(L16:L42) -> 0 | P50: =N50/$K$43 -> #DIV/0! | Q50: =SUM(M16:M42) -> 0 | R50: =SUM(N16:N42) -> 0 | S50: =Q50/$M$43 -> #DIV/0!
B51: нема | C51: Останати ДСГ групи | E51: 0 | F51: 0 | G51: =E51/$E$43 -> #DIV/0! | H51: 0 | I51: 0 | J51: =H51/$G$43 -> #DIV/0! | K51: 0 | L51: 0 | M51: =K51/$I$43 -> #DIV/0! | N51: 0 | O51: 0 | P51: =N51/$K$43 -> #DIV/0! | Q51: 0 | R51: 0 | S51: =Q51/$M$43 -> #DIV/0!
A53: Во _____________________на _________________ година. | E53: Составил,_______________________
F55: Д и р е к т о р,
F56: ______________

Sheet План-ДСГ-MDC-R
A1: ЈЗУ Универзитетски клиники, клинички болници, општи болници, специјални болници | I1: ПЛ 3 Б - ДСГ MDC-R | O1: Врати се на почетна страна
B3: Здравствена установа | C3: ________________________________________________________________________
A5: П Л А Н
A6: на видот и обемот на ДСГ здравствени услуги и пакети за завршени здравствени услуги во болничка здравствена заштита (акутни болнички случаи кои не се искажуваат според ДСГ методата) на осигурените лица за ___________ година.
A7: Главна дијагностичка категорија (MDC: R01-R64) МИЕЛОПРЛИФЕРАТИВНИ БОЛЕСТИ И НЕДИФЕРЕНЦИРАНИ ТУМОРИ
A9: Ред.Број | B9: Шифра на ДСГ услуга | C9: Назив на ДСГ услуга | D9: Референтнa ценa | E9: 2026 | K9: 2025 (Реализација јануари- септември и проекција до декември) | M9: 2024
E10: I полугодие | G10: II полугодие | I10: Вкупно
E11: бр. на случаи | F11: износ по ДСГ | G11: бр. на случаи | H11: износ по ДСГ | I11: бр. на услуги | J11: износ по ДСГ | K11: Вкупен бр. на услуги | L11: Вкупен износ по ДСГ | M11: Вкупен бр. на услуги | N11: Вкупен износ по ДСГ
A12: 1 | B12: 2 | C12: 3 | D12: 4 | E12: 5 | F12: 6 | G12: 7 | H12: 8 | I12: 9=(5+6+7+8) | J12: 10(4*9) | K12: 11 | L12: 12 | M12: 13 | N12: 14
A13: 1 | B13: R01A | C13: Лимфом и леукемија со големи процедури во операциона сала со катастофални или тешки КК | D13: 190008 | F13: =E13*D13 -> 0 | H13: =G13*D13 -> 0 | I13: =E13+G13 -> 0 | J13: =I13*D13 -> 0 | L13: =K13*D13 -> 0 | N13: =M13*D13 -> 0
A14: 2 | B14: R01B | C14: Лимфом и леукемија со големи процедури во операциона сала без катастофални или тешки КК | D14: 135760 | F14: =E14*D14 -> 0 | H14: =G14*D14 -> 0 | I14: =E14+G14 -> 0 | J14: =I14*D14 -> 0 | L14: =K14*D14 -> 0 | N14: =M14*D14 -> 0
A15: 3 | B15: R02A | C15: Други неопластични пореметувања со големи процедури во операциона сала со катастофални или тешки КК | D15: 63161 | F15: =E15*D15 -> 0 | H15: =G15*D15 -> 0 | I15: =E15+G15 -> 0 | J15: =I15*D15 -> 0 | L15: =K15*D15 -> 0 | N15: =M15*D15 -> 0
A16: 4 | B16: R02B | C16: Други неопластични пореметувања со големи процедури во операциона сала без катастофални или тешки КК | D16: 47509 | F16: =E16*D16 -> 0 | H16: =G16*D16 -> 0 | I16: =E16+G16 -> 0 | J16: =I16*D16 -> 0 | L16: =K16*D16 -> 0 | N16: =M16*D16 -> 0
A17: 5 | B17: R03A | C17: Лимфом и леукемија со други процедури во операциона сала со катастофални или тешки КК | D17: 153521 | F17: =E17*D17 -> 0 | H17: =G17*D17 -> 0 | I17: =E17+G17 -> 0 | J17: =I17*D17 -> 0 | L17: =K17*D17 -> 0 | N17: =M17*D17 -> 0
A18: 6 | B18: R03B | C18: Лимфом и леукемија со други процедури во операциона сала без катастофални или тешки КК | D18: 50042 | F18: =E18*D18 -> 0 | H18: =G18*D18 -> 0 | I18: =E18+G18 -> 0 | J18: =I18*D18 -> 0 | L18: =K18*D18 -> 0 | N18: =M18*D18 -> 0
A19: 7 | B19: R04A | C19: Други неопластични пореметувања со други процедури во операциона сала со катастофални или тешки КК | D19: 37750 | F19: =E19*D19 -> 0 | H19: =G19*D19 -> 0 | I19: =E19+G19 -> 0 | J19: =I19*D19 -> 0 | L19: =K19*D19 -> 0 | N19: =M19*D19 -> 0
A20: 8 | B20: R04B | C20: Други неопластични пореметувања со други процедури во операциона сала без катастофални или тешки КК | D20: 28243 | F20: =E20*D20 -> 0 | H20: =G20*D20 -> 0 | I20: =E20+G20 -> 0 | J20: =I20*D20 -> 0 | L20: =K20*D20 -> 0 | N20: =M20*D20 -> 0
A21: 9 | B21: R60A | C21: Акутна леукемија со катастрофални КК | D21: 227557 | F21: =E21*D21 -> 0 | H21: =G21*D21 -> 0 | I21: =E21+G21 -> 0 | J21: =I21*D21 -> 0 | L21: =K21*D21 -> 0 | N21: =M21*D21 -> 0
A22: 10 | B22: R60B | C22: Акутна леукемија со тешки КК | D22: 216231 | F22: =E22*D22 -> 0 | H22: =G22*D22 -> 0 | I22: =E22+G22 -> 0 | J22: =I22*D22 -> 0 | L22: =K22*D22 -> 0 | N22: =M22*D22 -> 0
A23: 11 | B23: R60C | C23: Акутна леукемија без катастрофални или тешки КК | D23: 205934 | F23: =E23*D23 -> 0 | H23: =G23*D23 -> 0 | I23: =E23+G23 -> 0 | J23: =I23*D23 -> 0 | L23: =K23*D23 -> 0 | N23: =M23*D23 -> 0
A24: 12 | B24: R61A | C24: Лимфом и неакутна леукемија со катастрофални КК | D24: 214333 | F24: =E24*D24 -> 0 | H24: =G24*D24 -> 0 | I24: =E24+G24 -> 0 | J24: =I24*D24 -> 0 | L24: =K24*D24 -> 0 | N24: =M24*D24 -> 0
... A30: 18 | B30: R64Z | C30: Радиотерапија | D30: 22037 | F30: =E30*D30 -> 0 | H30: =G30*D30 -> 0 | I30: =E30+G30 -> 0 | J30: =I30*D30 -> 0 | L30: =K30*D30 -> 0 | N30: =M30*D30 -> 0
A31: 19
A32: 20
A33: 21
A34: 22
A35: 23
A36: 24
A37: 25
A38: 26
A39: 27
A40: 28
A41: 29
A42: 30
C43: ВКУПНО | E43: =SUM(E13:E42) -> 0 | F43: =SUM(F13:F42) -> 0 | G43: =SUM(G13:G42) -> 0 | H43: =SUM(H13:H42) -> 0 | I43: =SUM(I13:I42) -> 0 | J43: =SUM(J13:J42) -> 0 | K43: =SUM(K13:K42) -> 0 | L43: =SUM(L13:L42) -> 0 | ... N43: =SUM(N13:N42) -> 0
B45: ДСГ здравствени услуги по тип на нега
B46: Шифра на ДСГ група | C46: тип на нега | E46: План за 2026 | N46: 2025 (Реализација јануари- септември и проекција до декември) | Q46: 2024
E47: I полугодие | H47: II полугодие | K47: Вкупно
E48: бр. на случаи | F48: Износ | G48: % од бр. на случаи | H48: бр. на случаи | I48: Износ | J48: % од бр. на случаи | K48: бр. на случаи | L48: Износ | M48: % од бр. на случаи | N48: бр. на случаи | O48: Износ | P48: % од бр. на случаи | Q48: бр. на случаи | R48: Износ | S48: % од бр. на случаи
B49: R01-R04 | C49: Хируршки ДСГ групи | E49: =SUM(E13:E20) -> 0 | F49: =SUM(F13:F20) -> 0 | G49: =E49/$E$43 -> #DIV/0! | H49: =SUM(G13:G20) -> 0 | I49: =SUM(H13:H20) -> 0 | J49: =H49/$G$43 -> #DIV/0! | K49: =SUM(I13:I20) -> 0 | L49: =SUM(J13:J20) -> 0 | M49: =K49/$I$43 -> #DIV/0! | N49: =SUM(K13:K20) -> 0 | O49: =SUM(L13:L20) -> 0 | P49: =N49/$K$43 -> #DIV/0! | Q49: =SUM(M13:M20) -> 0 | R49: =SUM(N13:N20) -> 0 | S49: =Q49/$M$43 -> #DIV/0!
B50: R60-R64 | C50: Медицински (интернистички) ДСГ групи | E50: =SUM(E21:E42) -> 0 | F50: =SUM(F21:F42) -> 0 | G50: =E50/$E$43 -> #DIV/0! | H50: =SUM(G21:G42) -> 0 | I50: =SUM(H21:H42) -> 0 | J50: =H50/$G$43 -> #DIV/0! | K50: =SUM(I21:I42) -> 0 | L50: =SUM(J21:J42) -> 0 | M50: =K50/$I$43 -> #DIV/0! | N50: =SUM(K21:K42) -> 0 | O50: =SUM(L21:L42) -> 0 | P50: =N50/$K$43 -> #DIV/0! | Q50: =SUM(M21:M42) -> 0 | R50: =SUM(N21:N42) -> 0 | S50: =Q50/$M$43 -> #DIV/0!
B51: нема | C51: Останати ДСГ групи | E51: 0 | F51: 0 | G51: =E51/$E$43 -> #DIV/0! | H51: 0 | I51: 0 | J51: =H51/$G$43 -> #DIV/0! | K51: 0 | L51: 0 | M51: =K51/$I$43 -> #DIV/0! | N51: 0 | O51: 0 | P51: =N51/$K$43 -> #DIV/0! | Q51: 0 | R51: 0 | S51: =Q51/$M$43 -> #DIV/0!
A53: Во _____________________на _________________ година. | E53: Составил,_______________________
F55: Д и р е к т о р,
F56: ______________

Sheet План-ДСГ-MDC-S,T
A1: ЈЗУ Универзитетски клиники, клинички болници, општи болници, специјални болници | I1: ПЛ 3 Б - ДСГ MDC-S,T | O1: Врати се на почетна страна
B3: Здравствена установа | C3: ________________________________________________________________________
A5: П Л А Н
A6: на видот и обемот на ДСГ здравствени услуги и пакети за завршени здравствени услуги во болничка здравствена заштита (акутни болнички случаи кои не се искажуваат според ДСГ методата) на осигурените лица за ___________ година.
A7: Главна дијагностичка категорија (MDC: S60-S65, T01-T64) ИНФЕКТИВНИ И ПАРАЗИТСКИ ЗАБОЛУВАЊА
A9: Ред.Број | B9: Шифра на ДСГ услуга | C9: Назив на ДСГ услуга | D9: Референтнa ценa | E9: 2026 | K9: 2025 (Реализација јануари- септември и проекција до декември) | M9: 2024
E10: I полугодие | G10: II полугодие | I10: Вкупно
E11: бр. на случаи | F11: износ по ДСГ | G11: бр. на случаи | H11: износ по ДСГ | I11: бр. на услуги | J11: износ по ДСГ | K11: Вкупен бр. на услуги | L11: Вкупен износ по ДСГ | M11: Вкупен бр. на услуги | N11: Вкупен износ по ДСГ
A12: 1 | B12: 2 | C12: 3 | D12: 4 | E12: 5 | F12: 6 | G12: 7 | H12: 8 | I12: 9=(5+6+7+8) | J12: 10(4*9) | K12: 11 | L12: 12 | M12: 13 | N12: 14
A13: 1 | B13: S60Z | C13: ХИВ , истиот ден | D13: 6181 | F13: =E13*D13 -> 0 | H13: =G13*D13 -> 0 | I13: =E13+G13 -> 0 | J13: =I13*D13 -> 0 | L13: =K13*D13 -> 0 | N13: =M13*D13 -> 0
A14: 2 | B14: S65A | C14: Болести поврзани со ХИВ со катастрофални КК | D14: 500483 | F14: =E14*D14 -> 0 | H14: =G14*D14 -> 0 | I14: =E14+G14 -> 0 | J14: =I14*D14 -> 0 | L14: =K14*D14 -> 0 | N14: =M14*D14 -> 0
A15: 3 | B15: S65B | C15: Болести поврзани со ХИВ со тешки КК | D15: 77339 | F15: =E15*D15 -> 0 | H15: =G15*D15 -> 0 | I15: =E15+G15 -> 0 | J15: =I15*D15 -> 0 | L15: =K15*D15 -> 0 | N15: =M15*D15 -> 0
A16: 4 | B16: S65C | C16: Болести поврзани со ХИВ без катастрофални или тешки КК | D16: 43557 | F16: =E16*D16 -> 0 | H16: =G16*D16 -> 0 | I16: =E16+G16 -> 0 | J16: =I16*D16 -> 0 | L16: =K16*D16 -> 0 | N16: =M16*D16 -> 0
A17: 5 | B17: T01A | C17: Процедури во операциона сала за инфективни и паразитски болести со катастрофални КК | D17: 359667 | F17: =E17*D17 -> 0 | H17: =G17*D17 -> 0 | I17: =E17+G17 -> 0 | J17: =I17*D17 -> 0 | L17: =K17*D17 -> 0 | N17: =M17*D17 -> 0
A18: 6 | B18: T01B | C18: Процедури во операциона сала за инфективни и паразитски болести со тешки или умерени КК | D18: 76174 | F18: =E18*D18 -> 0 | H18: =G18*D18 -> 0 | I18: =E18+G18 -> 0 | J18: =I18*D18 -> 0 | L18: =K18*D18 -> 0 | N18: =M18*D18 -> 0
A19: 7 | B19: T01C | C19: Процедури во операциона сала за инфективни и паразитски болести без КК | D19: 51691 | F19: =E19*D19 -> 0 | H19: =G19*D19 -> 0 | I19: =E19+G19 -> 0 | J19: =I19*D19 -> 0 | L19: =K19*D19 -> 0 | N19: =M19*D19 -> 0
A20: 8 | B20: T60A | C20: Септикемија со катастрофални или тешки КК | D20: 81073 | F20: =E20*D20 -> 0 | H20: =G20*D20 -> 0 | I20: =E20+G20 -> 0 | J20: =I20*D20 -> 0 | L20: =K20*D20 -> 0 | N20: =M20*D20 -> 0
A21: 9 | B21: T60B | C21: Септикемија без катастрофални или тешки КК | D21: 54027 | F21: =E21*D21 -> 0 | H21: =G21*D21 -> 0 | I21: =E21+G21 -> 0 | J21: =I21*D21 -> 0 | L21: =K21*D21 -> 0 | N21: =M21*D21 -> 0
A22: 10 | B22: T61A | C22: Постоперативни и посттрауматски инфекции, возраст >54 или со (катастрофални или тешки КК) | D22: 26635 | F22: =E22*D22 -> 0 | H22: =G22*D22 -> 0 | I22: =E22+G22 -> 0 | J22: =I22*D22 -> 0 | L22: =K22*D22 -> 0 | N22: =M22*D22 -> 0
A23: 11 | B23: T61B | C23: Постоперативни и посттрауматски инфекции, возраст <55 без катастрофални или тешки КК | D23: 22250 | F23: =E23*D23 -> 0 | H23: =G23*D23 -> 0 | I23: =E23+G23 -> 0 | J23: =I23*D23 -> 0 | L23: =K23*D23 -> 0 | N23: =M23*D23 -> 0
A24: 12 | B24: T62A | C24: Треска од непозната причина со КК | D24: 44914 | F24: =E24*D24 -> 0 | H24: =G24*D24 -> 0 | I24: =E24+G24 -> 0 | J24: =I24*D24 -> 0 | L24: =K24*D24 -> 0 | N24: =M24*D24 -> 0
... A29: 17 | B29: T64B | C29: Други инфективни и паразитски болести без катастрофални или тешки КК | D29: 25608 | F29: =E29*D29 -> 0 | H29: =G29*D29 -> 0 | I29: =E29+G29 -> 0 | J29: =I29*D29 -> 0 | L29: =K29*D29 -> 0 | N29: =M29*D29 -> 0
A30: 18
A31: 19
A32: 20
A33: 21
A34: 22
A35: 23
A36: 24
A37: 25
A38: 26
A39: 27
A40: 28
A41: 29
A42: 30
C43: ВКУПНО | E43: =SUM(E13:E42) -> 0 | F43: =SUM(F13:F42) -> 0 | G43: =SUM(G13:G42) -> 0 | H43: =SUM(H13:H42) -> 0 | I43: =SUM(I13:I42) -> 0 | J43: =SUM(J13:J42) -> 0 | K43: =SUM(K13:K42) -> 0 | L43: =SUM(L13:L42) -> 0 | ... N43: =SUM(N13:N42) -> 0
B45: ДСГ здравствени услуги по тип на нега
B46: Шифра на ДСГ група | C46: тип на нега | E46: План за 2026 | N46: 2025 (Реализација јануари- септември и проекција до декември) | Q46: 2024
E47: I полугодие | H47: II полугодие | K47: Вкупно
E48: бр. на случаи | F48: Износ | G48: % од бр. на случаи | H48: бр. на случаи | I48: Износ | J48: % од бр. на случаи | K48: бр. на случаи | L48: Износ | M48: % од бр. на случаи | N48: бр. на случаи | O48: Износ | P48: % од бр. на случаи | Q48: бр. на случаи | R48: Износ | S48: % од бр. на случаи
B49: T01 | C49: Хируршки ДСГ групи | E49: =SUM(E17:E19) -> 0 | F49: =SUM(F17:F19) -> 0 | G49: =E49/$E$43 -> #DIV/0! | H49: =SUM(G17:G19) -> 0 | I49: =SUM(H17:H19) -> 0 | J49: =H49/$G$43 -> #DIV/0! | K49: =SUM(I17:I19) -> 0 | L49: =SUM(J17:J19) -> 0 | M49: =K49/$I$43 -> #DIV/0! | N49: =SUM(K17:K19) -> 0 | O49: =SUM(L17:L19) -> 0 | P49: =N49/$K$43 -> #DIV/0! | Q49: =SUM(M17:M19) -> 0 | R49: =SUM(N17:N19) -> 0 | S49: =Q49/$M$43 -> #DIV/0!
B50: S60-S65, T60-T64 | C50: Медицински (интернистички) ДСГ групи | E50: =SUM(E13:E42)-E17-E18-E19 -> 0 | F50: =SUM(F13:F42)-F17-F18-F19 -> 0 | G50: =E50/$E$43 -> #DIV/0! | H50: =SUM(G13:G42)-G17-G18-G19 -> 0 | I50: =SUM(H13:H42)-H17-H18-H19 -> 0 | J50: =H50/$G$43 -> #DIV/0! | K50: =SUM(I13:I42)-I17-I18-I19 -> 0 | L50: =SUM(J13:J42)-J17-J18-J19 -> 0 | M50: =K50/$I$43 -> #DIV/0! | N50: =SUM(K13:K42)-K17-K18-K19 -> 0 | O50: =SUM(L13:L42)-L17-L18-L19 -> 0 | P50: =N50/$K$43 -> #DIV/0! | Q50: =SUM(M13:M42)-M17-M18-M19 -> 0 | R50: =SUM(N13:N42)-N17-N18-N19 -> 0 | S50: =Q50/$M$43 -> #DIV/0!
B51: нема | C51: Останати ДСГ групи | E51: 0 | F51: 0 | G51: =E51/$E$43 -> #DIV/0! | H51: 0 | I51: 0 | J51: =H51/$G$43 -> #DIV/0! | K51: 0 | L51: 0 | M51: =K51/$I$43 -> #DIV/0! | N51: 0 | O51: 0 | P51: =N51/$K$43 -> #DIV/0! | Q51: 0 | R51: 0 | S51: =Q51/$M$43 -> #DIV/0!
A53: Во _____________________на _________________ година. | E53: Составил,_______________________
F55: Д и р е к т о р,
F56: ______________

Sheet План-ДСГ-MDC-U
A1: ЈЗУ Универзитетски клиники, клинички болници, општи болници, специјални болници | I1: ПЛ 3 Б - ДСГ MDC-U | O1: Врати се на почетна страна
B3: Здравствена установа | C3: ________________________________________________________________________
A5: П Л А Н
A6: на видот и обемот на ДСГ здравствени услуги и пакети за завршени здравствени услуги во болничка здравствена заштита (акутни болнички случаи кои не се искажуваат според ДСГ методата) на осигурените лица за ___________ година.
A7: Главна дијагностичка категорија (MDC: U40-U68) ДУШЕВНИ БОЛЕСТИ И ПОРЕМЕТУВАЊА
A9: Ред.Број | B9: Шифра на ДСГ услуга | C9: Назив на ДСГ услуга | D9: Референтнa ценa | E9: 2026 | K9: 2025 (Реализација јануари- септември и проекција до декември) | M9: 2024
E10: I полугодие | G10: II полугодие | I10: Вкупно
E11: бр. на случаи | F11: износ по ДСГ | G11: бр. на случаи | H11: износ по ДСГ | I11: бр. на услуги | J11: износ по ДСГ | K11: Вкупен бр. на услуги | L11: Вкупен износ по ДСГ | M11: Вкупен бр. на услуги | N11: Вкупен износ по ДСГ
A12: 1 | B12: 2 | C12: 3 | D12: 4 | E12: 5 | F12: 6 | G12: 7 | H12: 8 | I12: 9=(5+6+7+8) | J12: 10(4*9) | K12: 11 | L12: 12 | M12: 13 | N12: 14
A13: 1 | B13: U40Z | C13: Лекување на ментално здравје, истиот ден, со електроконвулзивна терапија (ECT) | D13: 3915 | F13: =E13*D13 -> 0 | H13: =G13*D13 -> 0 | I13: =E13+G13 -> 0 | J13: =I13*D13 -> 0 | L13: =K13*D13 -> 0 | N13: =M13*D13 -> 0
A14: 2 | B14: U60Z | C14: Лекување на ментално здравје, истиот ден, без електроконвулзивна терапија( ECT) | D14: 3266 | F14: =E14*D14 -> 0 | H14: =G14*D14 -> 0 | I14: =E14+G14 -> 0 | J14: =I14*D14 -> 0 | L14: =K14*D14 -> 0 | N14: =M14*D14 -> 0
A15: 3 | B15: U61A | C15: Шизофренија со правен статус на ментална болест | D15: 42271 | F15: =E15*D15 -> 0 | H15: =G15*D15 -> 0 | I15: =E15+G15 -> 0 | J15: =I15*D15 -> 0 | L15: =K15*D15 -> 0 | N15: =M15*D15 -> 0
A16: 4 | B16: U61B | C16: Шизофренија без правен статус на ментална болест | D16: 32433 | F16: =E16*D16 -> 0 | H16: =G16*D16 -> 0 | I16: =E16+G16 -> 0 | J16: =I16*D16 -> 0 | L16: =K16*D16 -> 0 | N16: =M16*D16 -> 0
A17: 5 | B17: U62A | C17: Параноја и акутно психичко пореметување со катастрофални или тешки КК или со правен статус на ментална болест | D17: 44514 | F17: =E17*D17 -> 0 | H17: =G17*D17 -> 0 | I17: =E17+G17 -> 0 | J17: =I17*D17 -> 0 | L17: =K17*D17 -> 0 | N17: =M17*D17 -> 0
A18: 6 | B18: U62B | C18: Параноја и акутно психичко пореметување без катастрофални/тешки КК без правен статус на ментална болест | D18: 32639 | F18: =E18*D18 -> 0 | H18: =G18*D18 -> 0 | I18: =E18+G18 -> 0 | J18: =I18*D18 -> 0 | L18: =K18*D18 -> 0 | N18: =M18*D18 -> 0
A19: 7 | B19: U63A | C19: Големи афективни пореметувања, возраст >69 или со (катастрофални или тешки КК) | D19: 43162 | F19: =E19*D19 -> 0 | H19: =G19*D19 -> 0 | I19: =E19+G19 -> 0 | J19: =I19*D19 -> 0 | L19: =K19*D19 -> 0 | N19: =M19*D19 -> 0
A20: 8 | B20: U63B | C20: Големи афективни пореметувања, возраст <70 без катастрофални или тешки КК | D20: 31365 | F20: =E20*D20 -> 0 | H20: =G20*D20 -> 0 | I20: =E20+G20 -> 0 | J20: =I20*D20 -> 0 | L20: =K20*D20 -> 0 | N20: =M20*D20 -> 0
A21: 9 | B21: U64Z | C21: Други афективни соматоформни пореметувања | D21: 20161 | F21: =E21*D21 -> 0 | H21: =G21*D21 -> 0 | I21: =E21+G21 -> 0 | J21: =I21*D21 -> 0 | L21: =K21*D21 -> 0 | N21: =M21*D21 -> 0
A22: 10 | B22: U65Z | C22: Анксиозни пореметувања | D22: 16452 | F22: =E22*D22 -> 0 | H22: =G22*D22 -> 0 | I22: =E22+G22 -> 0 | J22: =I22*D22 -> 0 | L22: =K22*D22 -> 0 | N22: =M22*D22 -> 0
A23: 11 | B23: U66Z | C23: Пореметувања на исхраната и oпсесивно-компулсивни пореметувања | D23: 49984 | F23: =E23*D23 -> 0 | H23: =G23*D23 -> 0 | I23: =E23+G23 -> 0 | J23: =I23*D23 -> 0 | L23: =K23*D23 -> 0 | N23: =M23*D23 -> 0
A24: 12 | B24: U67Z | C24: Пореметувања на личноста и акутни реакции | D24: 19228 | F24: =E24*D24 -> 0 | H24: =G24*D24 -> 0 | I24: =E24+G24 -> 0 | J24: =I24*D24 -> 0 | L24: =K24*D24 -> 0 | N24: =M24*D24 -> 0
A25: 13 | B25: U68Z | C25: Ментални пореметувања во детството | D25: 42793 | F25: =E25*D25 -> 0 | H25: =G25*D25 -> 0 | I25: =E25+G25 -> 0 | J25: =I25*D25 -> 0 | L25: =K25*D25 -> 0 | N25: =M25*D25 -> 0
A26: 14
A27: 15
A28: 16
A29: 17
A30: 18
A31: 19
A32: 20
A33: 21
A34: 22
A35: 23
A36: 24
A37: 25
... A42: 30
C43: ВКУПНО | E43: =SUM(E13:E42) -> 0 | F43: =SUM(F13:F42) -> 0 | G43: =SUM(G13:G42) -> 0 | H43: =SUM(H13:H42) -> 0 | I43: =SUM(I13:I42) -> 0 | J43: =SUM(J13:J42) -> 0 | K43: =SUM(K13:K42) -> 0 | L43: =SUM(L13:L42) -> 0 | ... N43: =SUM(N13:N42) -> 0
B45: ДСГ здравствени услуги по тип на нега
B46: Шифра на ДСГ група | C46: тип на нега | E46: План за 2026 | N46: 2025 (Реализација јануари- септември и проекција до декември) | Q46: 2024
E47: I полугодие | H47: II полугодие | K47: Вкупно
E48: бр. на случаи | F48: Износ | G48: % од бр. на случаи | H48: бр. на случаи | I48: Износ | J48: % од бр. на случаи | K48: бр. на случаи | L48: Износ | M48: % од бр. на случаи | N48: бр. на случаи | O48: Износ | P48: % од бр. на случаи | Q48: бр. на случаи | R48: Износ | S48: % од бр. на случаи
B49: нема | C49: Хируршки ДСГ групи | E49: 0 | F49: 0 | G49: =E49/$E$43 -> #DIV/0! | H49: 0 | I49: 0 | J49: =H49/$G$43 -> #DIV/0! | K49: 0 | L49: 0 | M49: =K49/$I$43 -> #DIV/0! | N49: 0 | O49: 0 | P49: =N49/$K$43 -> #DIV/0! | Q49: 0 | R49: 0 | S49: =Q49/$M$43 -> #DIV/0!
B50: U60-U68 | C50: Медицински (интернистички) ДСГ групи | E50: =SUM(E14:E42) -> 0 | F50: =SUM(F14:F42) -> 0 | G50: =E50/$E$43 -> #DIV/0! | H50: =SUM(G14:G42) -> 0 | I50: =SUM(H14:H42) -> 0 | J50: =H50/$G$43 -> #DIV/0! | K50: =SUM(I14:I42) -> 0 | L50: =SUM(J14:J42) -> 0 | M50: =K50/$I$43 -> #DIV/0! | N50: =SUM(K14:K42) -> 0 | O50: =SUM(L14:L42) -> 0 | P50: =N50/$K$43 -> #DIV/0! | Q50: =SUM(M14:M42) -> 0 | R50: =SUM(N14:N42) -> 0 | S50: =Q50/$M$43 -> #DIV/0!
B51: U40 | C51: Останати ДСГ групи | E51: =E13 -> 0 | F51: =F13 -> 0 | G51: =E51/$E$43 -> #DIV/0! | H51: =G13 -> 0 | I51: =H13 -> 0 | J51: =H51/$G$43 -> #DIV/0! | K51: =I13 -> 0 | L51: =J13 -> 0 | M51: =K51/$I$43 -> #DIV/0! | N51: =K13 -> 0 | O51: =L13 -> 0 | P51: =N51/$K$43 -> #DIV/0! | Q51: =M13 -> 0 | R51: =N13 -> 0 | S51: =Q51/$M$43 -> #DIV/0!
A53: Во _____________________на _________________ година. | E53: Составил,_______________________
F55: Д и р е к т о р,
F56: ______________

Sheet План-ДСГ-MDC-V
A1: ЈЗУ Универзитетски клиники, клинички болници, општи болници, специјални болници | I1: ПЛ 3 Б - ДСГ MDC-V | O1: Врати се на почетна страна
B3: Здравствена установа | C3: ________________________________________________________________________
A5: П Л А Н
A6: на видот и обемот на ДСГ здравствени услуги и пакети за завршени здравствени услуги во болничка здравствена заштита (акутни болнички случаи кои не се искажуваат според ДСГ методата) на осигурените лица за ___________ година.
A7: Главна дијагностичка категорија (MDC: V60-V64) БОЛЕСТИ ПОВРЗАНИ СО АЛКОХОЛ И ДРОГА
A9: Ред.Број | B9: Шифра на ДСГ услуга | C9: Назив на ДСГ услуга | D9: Референтнa ценa | E9: 2026 | K9: 2025 (Реализација јануари- септември и проекција до декември) | M9: 2024
E10: I полугодие | G10: II полугодие | I10: Вкупно
E11: бр. на случаи | F11: износ по ДСГ | G11: бр. на случаи | H11: износ по ДСГ | I11: бр. на услуги | J11: износ по ДСГ | K11: Вкупен бр. на услуги | L11: Вкупен износ по ДСГ | M11: Вкупен бр. на услуги | N11: Вкупен износ по ДСГ
A12: 1 | B12: 2 | C12: 3 | D12: 4 | E12: 5 | F12: 6 | G12: 7 | H12: 8 | I12: 9=(5+6+7+8) | J12: 10(4*9) | K12: 11 | L12: 12 | M12: 13 | N12: 14
A13: 1 | B13: V60A | C13: Труење со алкохол и апстиненција со КК | D13: 20407 | F13: =E13*D13 -> 0 | H13: =G13*D13 -> 0 | I13: =E13+G13 -> 0 | J13: =I13*D13 -> 0 | L13: =K13*D13 -> 0 | N13: =M13*D13 -> 0
A14: 2 | B14: V60B | C14: Труење со алкохол и апстиненција без КК | D14: 12322 | F14: =E14*D14 -> 0 | H14: =G14*D14 -> 0 | I14: =E14+G14 -> 0 | J14: =I14*D14 -> 0 | L14: =K14*D14 -> 0 | N14: =M14*D14 -> 0
A15: 3 | B15: V61Z | C15: Труење со дроги и апстиненција | D15: 23788 | F15: =E15*D15 -> 0 | H15: =G15*D15 -> 0 | I15: =E15+G15 -> 0 | J15: =I15*D15 -> 0 | L15: =K15*D15 -> 0 | N15: =M15*D15 -> 0
A16: 4 | B16: V62A | C16: Пореметување поради употрeба на алкохол и зависност | D16: 22371 | F16: =E16*D16 -> 0 | H16: =G16*D16 -> 0 | I16: =E16+G16 -> 0 | J16: =I16*D16 -> 0 | L16: =K16*D16 -> 0 | N16: =M16*D16 -> 0
A17: 5 | B17: V62B | C17: Пореметување поради употрeба на алкохол и зависност, истиот ден | D17: 4290 | F17: =E17*D17 -> 0 | H17: =G17*D17 -> 0 | I17: =E17+G17 -> 0 | J17: =I17*D17 -> 0 | L17: =K17*D17 -> 0 | N17: =M17*D17 -> 0
A18: 6 | B18: V63A | C18: Пореметување поради употрeба на опојни дроги и зависност | D18: 15500 | F18: =E18*D18 -> 0 | H18: =G18*D18 -> 0 | I18: =E18+G18 -> 0 | J18: =I18*D18 -> 0 | L18: =K18*D18 -> 0 | N18: =M18*D18 -> 0
A19: 7 | B19: V63B | C19: Пореметување поради употрeба на опојни дроги и зависност,напуштено лекување спротивно на медицински совет | D19: 10200 | F19: =E19*D19 -> 0 | H19: =G19*D19 -> 0 | I19: =E19+G19 -> 0 | J19: =I19*D19 -> 0 | L19: =K19*D19 -> 0 | N19: =M19*D19 -> 0
A20: 8 | B20: V64Z | C20: Пореметување поради употрeба на други дроги и зависност | D20: 25800 | F20: =E20*D20 -> 0 | H20: =G20*D20 -> 0 | I20: =E20+G20 -> 0 | J20: =I20*D20 -> 0 | L20: =K20*D20 -> 0 | N20: =M20*D20 -> 0
A21: 9
A22: 10
A23: 11
A24: 12
A25: 13
A26: 14
A27: 15
A28: 16
A29: 17
A30: 18
A31: 19
A32: 20
... A42: 30
C43: ВКУПНО | E43: =SUM(E13:E42) -> 0 | F43: =SUM(F13:F42) -> 0 | G43: =SUM(G13:G42) -> 0 | H43: =SUM(H13:H42) -> 0 | I43: =SUM(I13:I42) -> 0 | J43: =SUM(J13:J42) -> 0 | K43: =SUM(K13:K42) -> 0 | L43: =SUM(L13:L42) -> 0 | ... N43: =SUM(N13:N42) -> 0
B45: ДСГ здравствени услуги по тип на нега
B46: Шифра на ДСГ група | C46: тип на нега | E46: План за 2026 | N46: 2025 (Реализација јануари- септември и проекција до декември) | Q46: 2024
E47: I полугодие | H47: II полугодие | K47: Вкупно
E48: бр. на случаи | F48: Износ | G48: % од бр. на случаи | H48: бр. на случаи | I48: Износ | J48: % од бр. на случаи | K48: бр. на случаи | L48: Износ | M48: % од бр. на случаи | N48: бр. на случаи | O48: Износ | P48: % од бр. на случаи | Q48: бр. на случаи | R48: Износ | S48: % од бр. на случаи
B49: нема | C49: Хируршки ДСГ групи | E49: 0 | F49: 0 | G49: =E49/$E$43 -> #DIV/0! | H49: 0 | I49: 0 | J49: =H49/$G$43 -> #DIV/0! | K49: 0 | L49: 0 | M49: =K49/$I$43 -> #DIV/0! | N49: 0 | O49: 0 | P49: =N49/$K$43 -> #DIV/0! | Q49: 0 | R49: 0 | S49: =Q49/$M$43 -> #DIV/0!
B50: V60-V64 | C50: Медицински (интернистички) ДСГ групи | E50: =SUM(E13:E42) -> 0 | F50: =SUM(F13:F42) -> 0 | G50: =E50/$E$43 -> #DIV/0! | H50: =SUM(G13:G42) -> 0 | I50: =SUM(H13:H42) -> 0 | J50: =H50/$G$43 -> #DIV/0! | K50: =SUM(I13:I42) -> 0 | L50: =SUM(J13:J42) -> 0 | M50: =K50/$I$43 -> #DIV/0! | N50: =SUM(K13:K42) -> 0 | O50: =SUM(L13:L42) -> 0 | P50: =N50/$K$43 -> #DIV/0! | Q50: =SUM(M13:M42) -> 0 | R50: =SUM(N13:N42) -> 0 | S50: =Q50/$M$43 -> #DIV/0!
B51: nem | C51: Останати ДСГ групи | E51: 0 | F51: 0 | G51: =E51/$E$43 -> #DIV/0! | H51: 0 | I51: 0 | J51: =H51/$G$43 -> #DIV/0! | K51: 0 | L51: 0 | M51: =K51/$I$43 -> #DIV/0! | N51: 0 | O51: 0 | P51: =N51/$K$43 -> #DIV/0! | Q51: 0 | R51: 0 | S51: =Q51/$M$43 -> #DIV/0!
A53: Во _____________________на _________________ година. | E53: Составил,_______________________
F55: Д и р е к т о р,
F56: ______________

Sheet План-ДСГ-MDC-W,X
A1: ЈЗУ Универзитетски клиники, клинички болници, општи болници, специјални болници | I1: ПЛ 3 Б - ДСГ MDC-W,X | O1: Врати се на почетна страна
B3: Здравствена установа | C3: ________________________________________________________________________
A5: П Л А Н
A6: на видот и обемот на ДСГ здравствени услуги и пакети за завршени здравствени услуги во болничка здравствена заштита (акутни болнички случаи кои не се искажуваат според ДСГ методата) на осигурените лица за ___________ година.
A7: Главна дијагностичка категорија (MDC: W01-W61, X01-X64) ПОВРЕДИ,ТРУЕЊЕ И ТОКСИЧНО ДЕЈСТВО НА ЛЕКОВИ
A9: Ред.Број | B9: Шифра на ДСГ услуга | C9: Назив на ДСГ услуга | D9: Референтнa ценa | E9: 2026 | K9: 2025 (Реализација јануари- септември и проекција до декември) | M9: 2024
E10: I полугодие | G10: II полугодие | I10: Вкупно
E11: бр. на случаи | F11: износ по ДСГ | G11: бр. на случаи | H11: износ по ДСГ | I11: бр. на услуги | J11: износ по ДСГ | K11: Вкупен бр. на услуги | L11: Вкупен износ по ДСГ | M11: Вкупен бр. на услуги | N11: Вкупен износ по ДСГ
A12: 1 | B12: 2 | C12: 3 | D12: 4 | E12: 5 | F12: 6 | G12: 7 | H12: 8 | I12: 9=(5+6+7+8) | J12: 10(4*9) | K12: 11 | L12: 12 | M12: 13 | N12: 14
A13: 1 | B13: W01Z | C13: Процедури на вентилација или краниотомија при значајна политраума | D13: 327549 | F13: =E13*D13 -> 0 | H13: =G13*D13 -> 0 | I13: =E13+G13 -> 0 | J13: =I13*D13 -> 0 | L13: =K13*D13 -> 0 | N13: =M13*D13 -> 0
A14: 2 | B14: W02Z | C14: Процедури на колк, фемур и екстремитети поради значајни политрауми, вклучувајќи имплантација | D14: 170145 | F14: =E14*D14 -> 0 | H14: =G14*D14 -> 0 | I14: =E14+G14 -> 0 | J14: =I14*D14 -> 0 | L14: =K14*D14 -> 0 | N14: =M14*D14 -> 0
A15: 3 | B15: W03Z | C15: Абдоминални процедури поради значајни политрауми | D15: 121456 | F15: =E15*D15 -> 0 | H15: =G15*D15 -> 0 | I15: =E15+G15 -> 0 | J15: =I15*D15 -> 0 | L15: =K15*D15 -> 0 | N15: =M15*D15 -> 0
A16: 4 | B16: W04Z | C16: Други процедури во операциона сала поради значајна политраума | D16: 198521 | F16: =E16*D16 -> 0 | H16: =G16*D16 -> 0 | I16: =E16+G16 -> 0 | J16: =I16*D16 -> 0 | L16: =K16*D16 -> 0 | N16: =M16*D16 -> 0
A17: 5 | B17: W60Z | C17: Политраума, починат или пренесен во друг објект за акутно згрижување <5 дена | D17: 124539 | F17: =E17*D17 -> 0 | H17: =G17*D17 -> 0 | I17: =E17+G17 -> 0 | J17: =I17*D17 -> 0 | L17: =K17*D17 -> 0 | N17: =M17*D17 -> 0
A18: 6 | B18: W61Z | C18: Политраума без значајни процедури | D18: 40256 | F18: =E18*D18 -> 0 | H18: =G18*D18 -> 0 | I18: =E18+G18 -> 0 | J18: =I18*D18 -> 0 | L18: =K18*D18 -> 0 | N18: =M18*D18 -> 0
A19: 7 | B19: X02Z | C19: Микроваскуларен трансфер на ткиво или кожни графтови за повреди на рака | D19: 21609 | F19: =E19*D19 -> 0 | H19: =G19*D19 -> 0 | I19: =E19+G19 -> 0 | J19: =I19*D19 -> 0 | L19: =K19*D19 -> 0 | N19: =M19*D19 -> 0
A20: 8 | B20: X04A | C20: Други процедури за повреди на долните екстремитети, возраст >59 или со КК | D20: 80234 | F20: =E20*D20 -> 0 | H20: =G20*D20 -> 0 | I20: =E20+G20 -> 0 | J20: =I20*D20 -> 0 | L20: =K20*D20 -> 0 | N20: =M20*D20 -> 0
A21: 9 | B21: X04B | C21: Други процедури за повреди на долните екстремитети, возраст <60 без КК | D21: 23980 | F21: =E21*D21 -> 0 | H21: =G21*D21 -> 0 | I21: =E21+G21 -> 0 | J21: =I21*D21 -> 0 | L21: =K21*D21 -> 0 | N21: =M21*D21 -> 0
A22: 10 | B22: X05Z | C22: Други процедури за повреди на рака | D22: 16506 | F22: =E22*D22 -> 0 | H22: =G22*D22 -> 0 | I22: =E22+G22 -> 0 | J22: =I22*D22 -> 0 | L22: =K22*D22 -> 0 | N22: =M22*D22 -> 0
A23: 11 | B23: X06A | C23: Други процедури за други повреди со катастрофални или тешки КК | D23: 85782 | F23: =E23*D23 -> 0 | H23: =G23*D23 -> 0 | I23: =E23+G23 -> 0 | J23: =I23*D23 -> 0 | L23: =K23*D23 -> 0 | N23: =M23*D23 -> 0
A24: 12 | B24: X06B | C24: Други процедури за други повреди без катастрофални или тешки КК | D24: 20174 | F24: =E24*D24 -> 0 | H24: =G24*D24 -> 0 | I24: =E24+G24 -> 0 | J24: =I24*D24 -> 0 | L24: =K24*D24 -> 0 | N24: =M24*D24 -> 0
... A36: 24 | B36: X64B | C36: Други дијагнози за повреди, труења и токсични ефекти, возраст <60 без КК | D36: 11081 | F36: =E36*D36 -> 0 | H36: =G36*D36 -> 0 | I36: =E36+G36 -> 0 | J36: =I36*D36 -> 0 | L36: =K36*D36 -> 0 | N36: =M36*D36 -> 0
A37: 25
A38: 26
A39: 27
A40: 28
A41: 29
A42: 30
C43: ВКУПНО | E43: =SUM(E13:E42) -> 0 | F43: =SUM(F13:F42) -> 0 | G43: =SUM(G13:G42) -> 0 | H43: =SUM(H13:H42) -> 0 | I43: =SUM(I13:I42) -> 0 | J43: =SUM(J13:J42) -> 0 | K43: =SUM(K13:K42) -> 0 | L43: =SUM(L13:L42) -> 0 | ... N43: =SUM(N13:N42) -> 0
B45: ДСГ здравствени услуги по тип на нега
B46: Шифра на ДСГ група | C46: тип на нега | E46: План за 2026 | N46: 2025 (Реализација јануари- септември и проекција до декември) | Q46: 2024
E47: I полугодие | H47: II полугодие | K47: Вкупно
E48: бр. на случаи | F48: Износ | G48: % од бр. на случаи | H48: бр. на случаи | I48: Износ | J48: % од бр. на случаи | K48: бр. на случаи | L48: Износ | M48: % од бр. на случаи | N48: бр. на случаи | O48: Износ | P48: % од бр. на случаи | Q48: бр. на случаи | R48: Износ | S48: % од бр. на случаи
B49: W01-W04, X01-X07 | C49: Хируршки ДСГ групи | E49: =SUM(E19:E26)+E13+E14+E15+E16 -> 0 | F49: =SUM(F19:F26)+F13+F14+F15+F16 -> 0 | G49: =E49/$E$43 -> #DIV/0! | H49: =SUM(G19:G26)+G13+G14+G15+G16 -> 0 | I49: =SUM(H19:H26)+H13+H14+H15+H16 -> 0 | J49: =H49/$G$43 -> #DIV/0! | K49: =SUM(I19:I26)+I13+I14+I15+I16 -> 0 | L49: =SUM(J19:J26)+J13+J14+J15+J16 -> 0 | M49: =K49/$I$43 -> #DIV/0! | N49: =SUM(K19:K26)+K13+K14+K15+K16 -> 0 | O49: =SUM(L19:L26)+L13+L14+L15+L16 -> 0 | P49: =N49/$K$43 -> #DIV/0! | Q49: =SUM(M19:M26)+M13+M14+M15+M16 -> 0 | R49: =SUM(N19:N26)+N13+N14+N15+N16 -> 0 | S49: =Q49/$M$43 -> #DIV/0!
B50: W60-W61, X60-X64 | C50: Медицински (интернистички) ДСГ групи | E50: =SUM(E27:E42)+E17+E18 -> 0 | F50: =SUM(F27:F42)+F17+F18 -> 0 | G50: =E50/$E$43 -> #DIV/0! | H50: =SUM(G27:G42)+G17+G18 -> 0 | I50: =SUM(H27:H42)+H17+H18 -> 0 | J50: =H50/$G$43 -> #DIV/0! | K50: =SUM(I27:I42)+I17+I18 -> 0 | L50: =SUM(J27:J42)+J17+J18 -> 0 | M50: =K50/$I$43 -> #DIV/0! | N50: =SUM(K27:K42)+K17+K18 -> 0 | O50: =SUM(L27:L42)+L17+L18 -> 0 | P50: =N50/$K$43 -> #DIV/0! | Q50: =SUM(M27:M42)+M17+M18 -> 0 | R50: =SUM(N27:N42)+N17+N18 -> 0 | S50: =Q50/$M$43 -> #DIV/0!
B51: нема | C51: Останати ДСГ групи | E51: 0 | F51: 0 | G51: =E51/$E$43 -> #DIV/0! | H51: 0 | I51: 0 | J51: =H51/$G$43 -> #DIV/0! | K51: 0 | L51: 0 | M51: =K51/$I$43 -> #DIV/0! | N51: 0 | O51: 0 | P51: =N51/$K$43 -> #DIV/0! | Q51: 0 | R51: 0 | S51: =Q51/$M$43 -> #DIV/0!
A53: Во _____________________на _________________ година. | E53: Составил,_______________________
F55: Д и р е к т о р,
F56: ______________

Sheet План-ДСГ-MDC-Y
A1: ЈЗУ Универзитетски клиники, клинички болници, општи болници, специјални болници | I1: ПЛ 3 Б - ДСГ MDC-Y | O1: Врати се на почетна страна
B3: Здравствена установа | C3: ________________________________________________________________________
A5: П Л А Н
A6: на видот и обемот на ДСГ здравствени услуги и пакети за завршени здравствени услуги во болничка здравствена заштита (акутни болнички случаи кои не се искажуваат според ДСГ методата) на осигурените лица за ___________ година.
A7: Главна дијагностичка категорија (MDC: Y01-Y62) ИЗГОРЕНИЦИ
A9: Ред.Број | B9: Шифра на ДСГ услуга | C9: Назив на ДСГ услуга | D9: Референтнa ценa | E9: 2026 | K9: 2025 (Реализација јануари- септември и проекција до декември) | M9: 2024
E10: I полугодие | G10: II полугодие | I10: Вкупно
E11: бр. на случаи | F11: износ по ДСГ | G11: бр. на случаи | H11: износ по ДСГ | I11: бр. на услуги | J11: износ по ДСГ | K11: Вкупен бр. на услуги | L11: Вкупен износ по ДСГ | M11: Вкупен бр. на услуги | N11: Вкупен износ по ДСГ
A12: 1 | B12: 2 | C12: 3 | D12: 4 | E12: 5 | F12: 6 | G12: 7 | H12: 8 | I12: 9=(5+6+7+8) | J12: 10(4*9) | K12: 11 | L12: 12 | M12: 13 | N12: 14
A13: 1 | B13: Y01Z | C13: Тешки изгореници на целата дебелина | D13: 708681 | F13: =E13*D13 -> 0 | H13: =G13*D13 -> 0 | I13: =E13+G13 -> 0 | J13: =I13*D13 -> 0 | L13: =K13*D13 -> 0 | N13: =M13*D13 -> 0
A14: 2 | B14: Y02A | C14: Други изгореници со кожен графт, возраст >64 или со (катастрофални или тешки КК) или со комплицирани процедури | D14: 286790 | F14: =E14*D14 -> 0 | H14: =G14*D14 -> 0 | I14: =E14+G14 -> 0 | J14: =I14*D14 -> 0 | L14: =K14*D14 -> 0 | N14: =M14*D14 -> 0
A15: 3 | B15: Y02B | C15: Други изгореници со кожен графт, возраст <65 без (катастрофални или тешки КК) без комплицирани процедури | D15: 79635 | F15: =E15*D15 -> 0 | H15: =G15*D15 -> 0 | I15: =E15+G15 -> 0 | J15: =I15*D15 -> 0 | L15: =K15*D15 -> 0 | N15: =M15*D15 -> 0
A16: 4 | B16: Y03Z | C16: Други процедури во операциона сала за други изгореници | D16: 42060 | F16: =E16*D16 -> 0 | H16: =G16*D16 -> 0 | I16: =E16+G16 -> 0 | J16: =I16*D16 -> 0 | L16: =K16*D16 -> 0 | N16: =M16*D16 -> 0
A17: 5 | B17: Y60Z | C17: Изгореници, пренсен во друг објект за акутна нега <5 дена | D17: 28072 | F17: =E17*D17 -> 0 | H17: =G17*D17 -> 0 | I17: =E17+G17 -> 0 | J17: =I17*D17 -> 0 | L17: =K17*D17 -> 0 | N17: =M17*D17 -> 0
A18: 6 | B18: Y61Z | C18: Тешки изгореници | D18: 24515 | F18: =E18*D18 -> 0 | H18: =G18*D18 -> 0 | I18: =E18+G18 -> 0 | J18: =I18*D18 -> 0 | L18: =K18*D18 -> 0 | N18: =M18*D18 -> 0
A19: 7 | B19: Y62A | C19: Други изгореници, возраст >64 или со (катастрофални или тешки КК) или со комплицирани процедури | D19: 26394 | F19: =E19*D19 -> 0 | H19: =G19*D19 -> 0 | I19: =E19+G19 -> 0 | J19: =I19*D19 -> 0 | L19: =K19*D19 -> 0 | N19: =M19*D19 -> 0
A20: 8 | B20: Y62B | C20: Други изгореници, возраст <65 без (катастрофални или тешки КК) без комплицирани процедури | D20: 12972 | F20: =E20*D20 -> 0 | H20: =G20*D20 -> 0 | I20: =E20+G20 -> 0 | J20: =I20*D20 -> 0 | L20: =K20*D20 -> 0 | N20: =M20*D20 -> 0
A21: 9
A22: 10
A23: 11
A24: 12
A25: 13
A26: 14
A27: 15
A28: 16
A29: 17
A30: 18
A31: 19
A32: 20
... A42: 30
C43: ВКУПНО | E43: =SUM(E13:E42) -> 0 | F43: =SUM(F13:F42) -> 0 | G43: =SUM(G13:G42) -> 0 | H43: =SUM(H13:H42) -> 0 | I43: =SUM(I13:I42) -> 0 | J43: =SUM(J13:J42) -> 0 | K43: =SUM(K13:K42) -> 0 | L43: =SUM(L13:L42) -> 0 | ... N43: =SUM(N13:N42) -> 0
B45: ДСГ здравствени услуги по тип на нега
B46: Шифра на ДСГ група | C46: тип на нега | E46: План за 2026 | N46: 2025 (Реализација јануари- септември и проекција до декември) | Q46: 2024
E47: I полугодие | H47: II полугодие | K47: Вкупно
E48: бр. на случаи | F48: Износ | G48: % од бр. на случаи | H48: бр. на случаи | I48: Износ | J48: % од бр. на случаи | K48: бр. на случаи | L48: Износ | M48: % од бр. на случаи | N48: бр. на случаи | O48: Износ | P48: % од бр. на случаи | Q48: бр. на случаи | R48: Износ | S48: % од бр. на случаи
B49: Y01-Y03 | C49: Хируршки ДСГ групи | E49: =SUM(E13:E16) -> 0 | F49: =SUM(F13:F16) -> 0 | G49: =E49/$E$43 -> #DIV/0! | H49: =SUM(G13:G16) -> 0 | I49: =SUM(H13:H16) -> 0 | J49: =H49/$G$43 -> #DIV/0! | K49: =SUM(I13:I16) -> 0 | L49: =SUM(J13:J16) -> 0 | M49: =K49/$I$43 -> #DIV/0! | N49: =SUM(K13:K16) -> 0 | O49: =SUM(L13:L16) -> 0 | P49: =N49/$K$43 -> #DIV/0! | Q49: =SUM(M13:M16) -> 0 | R49: =SUM(N13:N16) -> 0 | S49: =Q49/$M$43 -> #DIV/0!
B50: Y60-Y62 | C50: Медицински (интернистички) ДСГ групи | E50: =SUM(E17:E42) -> 0 | F50: =SUM(F17:F42) -> 0 | G50: =E50/$E$43 -> #DIV/0! | H50: =SUM(G17:G42) -> 0 | I50: =SUM(H17:H42) -> 0 | J50: =H50/$G$43 -> #DIV/0! | K50: =SUM(I17:I42) -> 0 | L50: =SUM(J17:J42) -> 0 | M50: =K50/$I$43 -> #DIV/0! | N50: =SUM(K17:K42) -> 0 | O50: =SUM(L17:L42) -> 0 | P50: =N50/$K$43 -> #DIV/0! | Q50: =SUM(M17:M42) -> 0 | R50: =SUM(N17:N42) -> 0 | S50: =Q50/$M$43 -> #DIV/0!
B51: нема | C51: Останати ДСГ групи | E51: 0 | F51: 0 | G51: =E51/$E$43 -> #DIV/0! | H51: 0 | I51: 0 | J51: =H51/$G$43 -> #DIV/0! | K51: 0 | L51: 0 | M51: =K51/$I$43 -> #DIV/0! | N51: 0 | O51: 0 | P51: =N51/$K$43 -> #DIV/0! | Q51: 0 | R51: 0 | S51: =Q51/$M$43 -> #DIV/0!
A53: Во _____________________на _________________ година. | E53: Составил,_______________________
F55: Д и р е к т о р,
F56: ______________

Sheet План-ДСГ-MDC-Z
A1: ЈЗУ Универзитетски клиники, клинички болници, општи болници, специјални болници | I1: ПЛ 3 Б - ДСГ MDC-Z | O1: Врати се на почетна страна
B3: Здравствена установа | C3: ________________________________________________________________________
A5: П Л А Н
A6: на видот и обемот на ДСГ здравствени услуги и пакети за завршени здравствени услуги во болничка здравствена заштита (акутни болнички случаи кои не се искажуваат според ДСГ методата) на осигурените лица за ___________ година.
A7: Главна дијагностичка категорија (MDC: Z01-Z65) ОСТАНАТИ ФАКТОРИ КОИ ВЛИЈААТ НА ЗДРАВЈЕТО
A9: Ред.Број | B9: Шифра на ДСГ услуга | C9: Назив на ДСГ услуга | D9: Референтнa ценa | E9: 2026 | K9: 2025 (Реализација јануари- септември и проекција до декември) | M9: 2024
E10: I полугодие | G10: II полугодие | I10: Вкупно
E11: бр. на случаи | F11: износ по ДСГ | G11: бр. на случаи | H11: износ по ДСГ | I11: бр. на услуги | J11: износ по ДСГ | K11: Вкупен бр. на услуги | L11: Вкупен износ по ДСГ | M11: Вкупен бр. на услуги | N11: Вкупен износ по ДСГ
A12: 1 | B12: 2 | C12: 3 | D12: 4 | E12: 5 | F12: 6 | G12: 7 | H12: 8 | I12: 9=(5+6+7+8) | J12: 10(4*9) | K12: 11 | L12: 12 | M12: 13 | N12: 14
A13: 1 | B13: Z01A | C13: Процедури во операциона сала со дијагнози на други контакти со здравствени услуги со катастрофални/тешки КК | D13: 57699 | F13: =E13*D13 -> 0 | H13: =G13*D13 -> 0 | I13: =E13+G13 -> 0 | J13: =I13*D13 -> 0 | L13: =K13*D13 -> 0 | N13: =M13*D13 -> 0
A14: 2 | B14: Z01B | C14: Процедури во операциона сала со дијагнози на други контакти со здравствени услуги без катастрофални или тешки КК | D14: 18609 | F14: =E14*D14 -> 0 | H14: =G14*D14 -> 0 | I14: =E14+G14 -> 0 | J14: =I14*D14 -> 0 | L14: =K14*D14 -> 0 | N14: =M14*D14 -> 0
A15: 3 | B15: Z40Z | C15: Следење со Ендоскопија | D15: 5755 | F15: =E15*D15 -> 0 | H15: =G15*D15 -> 0 | I15: =E15+G15 -> 0 | J15: =I15*D15 -> 0 | L15: =K15*D15 -> 0 | N15: =M15*D15 -> 0
A16: 4 | B16: Z60A | C16: Рехабилитација со катастрофални или тешки КК | D16: 59784 | F16: =E16*D16 -> 0 | H16: =G16*D16 -> 0 | I16: =E16+G16 -> 0 | J16: =I16*D16 -> 0 | L16: =K16*D16 -> 0 | N16: =M16*D16 -> 0
A17: 5 | B17: Z60B | C17: Рехабилитација без катастрофални или тешки КК | D17: 31013 | F17: =E17*D17 -> 0 | H17: =G17*D17 -> 0 | I17: =E17+G17 -> 0 | J17: =I17*D17 -> 0 | L17: =K17*D17 -> 0 | N17: =M17*D17 -> 0
A18: 6 | B18: Z60C | C18: Рехабилитација, истиот ден | D18: 6165 | F18: =E18*D18 -> 0 | H18: =G18*D18 -> 0 | I18: =E18+G18 -> 0 | J18: =I18*D18 -> 0 | L18: =K18*D18 -> 0 | N18: =M18*D18 -> 0
A19: 7 | B19: Z61Z | C19: Знаци и симптоми | D19: 11045 | F19: =E19*D19 -> 0 | H19: =G19*D19 -> 0 | I19: =E19+G19 -> 0 | J19: =I19*D19 -> 0 | L19: =K19*D19 -> 0 | N19: =M19*D19 -> 0
A20: 8 | B20: Z62Z | C20: Следење без ендоскопија | D20: 7842 | F20: =E20*D20 -> 0 | H20: =G20*D20 -> 0 | I20: =E20+G20 -> 0 | J20: =I20*D20 -> 0 | L20: =K20*D20 -> 0 | N20: =M20*D20 -> 0
A21: 9 | B21: Z63A | C21: Друга понатамошна нега со катастрофални или тешки КК | D21: 42157 | F21: =E21*D21 -> 0 | H21: =G21*D21 -> 0 | I21: =E21+G21 -> 0 | J21: =I21*D21 -> 0 | L21: =K21*D21 -> 0 | N21: =M21*D21 -> 0
A22: 10 | B22: Z63B | C22: Друга понатамошна нега без катастрофални или тешки КК | D22: 12054 | F22: =E22*D22 -> 0 | H22: =G22*D22 -> 0 | I22: =E22+G22 -> 0 | J22: =I22*D22 -> 0 | L22: =K22*D22 -> 0 | N22: =M22*D22 -> 0
A23: 11 | B23: Z64A | C23: Други фактори кои влијаат на здравствената состојба | D23: 28159 | F23: =E23*D23 -> 0 | H23: =G23*D23 -> 0 | I23: =E23+G23 -> 0 | J23: =I23*D23 -> 0 | L23: =K23*D23 -> 0 | N23: =M23*D23 -> 0
A24: 12 | B24: Z64B | C24: Други фактори кои влијаат на здравствената состојба, истиот ден | D24: 10234 | F24: =E24*D24 -> 0 | H24: =G24*D24 -> 0 | I24: =E24+G24 -> 0 | J24: =I24*D24 -> 0 | L24: =K24*D24 -> 0 | N24: =M24*D24 -> 0
A25: 13 | B25: Z65Z | C25: Повеќекратни, други и ненаведени конгенитални аномалии | D25: 6920 | F25: =E25*D25 -> 0 | H25: =G25*D25 -> 0 | I25: =E25+G25 -> 0 | J25: =I25*D25 -> 0 | L25: =K25*D25 -> 0 | N25: =M25*D25 -> 0
A26: 14
A27: 15
A28: 16
A29: 17
A30: 18
A31: 19
A32: 20
A33: 21
A34: 22
A35: 23
A36: 24
A37: 25
... A42: 30
C43: ВКУПНО | E43: =SUM(E13:E42) -> 0 | F43: =SUM(F13:F42) -> 0 | G43: =SUM(G13:G42) -> 0 | H43: =SUM(H13:H42) -> 0 | I43: =SUM(I13:I42) -> 0 | J43: =SUM(J13:J42) -> 0 | K43: =SUM(K13:K42) -> 0 | L43: =SUM(L13:L42) -> 0 | ... N43: =SUM(N13:N42) -> 0
B45: ДСГ здравствени услуги по тип на нега
B46: Шифра на ДСГ група | C46: тип на нега | E46: План за 2026 | N46: 2025 (Реализација јануари- септември и проекција до декември) | Q46: 2024
E47: I полугодие | H47: II полугодие | K47: Вкупно
E48: бр. на случаи | F48: Износ | G48: % од бр. на случаи | H48: бр. на случаи | I48: Износ | J48: % од бр. на случаи | K48: бр. на случаи | L48: Износ | M48: % од бр. на случаи | N48: бр. на случаи | O48: Износ | P48: % од бр. на случаи | Q48: бр. на случаи | R48: Износ | S48: % од бр. на случаи
B49: Z01 | C49: Хируршки ДСГ групи | E49: =SUM(E13:E14) -> 0 | F49: =SUM(F13:F14) -> 0 | G49: =E49/$E$43 -> #DIV/0! | H49: =SUM(G13:G14) -> 0 | I49: =SUM(H13:H14) -> 0 | J49: =H49/$G$43 -> #DIV/0! | K49: =SUM(I13:I14) -> 0 | L49: =SUM(J13:J14) -> 0 | M49: =K49/$I$43 -> #DIV/0! | N49: =SUM(K13:K14) -> 0 | O49: =SUM(L13:L14) -> 0 | P49: =N49/$K$43 -> #DIV/0! | Q49: =SUM(M13:M14) -> 0 | R49: =SUM(N13:N14) -> 0 | S49: =Q49/$M$43 -> #DIV/0!
B50: Z60-Z65 | C50: Медицински (интернистички) ДСГ групи | E50: =SUM(E16:E42) -> 0 | F50: =SUM(F16:F42) -> 0 | G50: =E50/$E$43 -> #DIV/0! | H50: =SUM(G16:G42) -> 0 | I50: =SUM(H16:H42) -> 0 | J50: =H50/$G$43 -> #DIV/0! | K50: =SUM(I16:I42) -> 0 | L50: =SUM(J16:J42) -> 0 | M50: =K50/$I$43 -> #DIV/0! | N50: =SUM(K16:K42) -> 0 | O50: =SUM(L16:L42) -> 0 | P50: =N50/$K$43 -> #DIV/0! | Q50: =SUM(M16:M42) -> 0 | R50: =SUM(N16:N42) -> 0 | S50: =Q50/$M$43 -> #DIV/0!
B51: Z40 | C51: Останати ДСГ групи | E51: =E15 -> 0 | F51: =F15 -> 0 | G51: =E51/$E$43 -> #DIV/0! | H51: =G15 -> 0 | I51: =H15 -> 0 | J51: =H51/$G$43 -> #DIV/0! | K51: =I15 -> 0 | L51: =J15 -> 0 | M51: =K51/$I$43 -> #DIV/0! | N51: =K15 -> 0 | O51: =L15 -> 0 | P51: =N51/$K$43 -> #DIV/0! | Q51: =M15 -> 0 | R51: =N15 -> 0 | S51: =Q51/$M$43 -> #DIV/0!
A53: Во _____________________на _________________ година. | E53: Составил,_______________________
F55: Д и р е к т о р,
F56: ______________

Sheet План-ДСГ-MDC-Збирен
A1: ЈЗУ Универзитетски клиники, клинички болници, општи болници, специјални болници | P1: ПЛ 3 Б - ДСГ MDC-G | Y1: Врати се на почетна страна
B3: Здравствена установа | C3: ________________________________________________________________________
A5: П Л А Н
A6: на видот и обемот на ДСГ здравствени услуги и пакети за завршени здравствени услуги во болничка здравствена заштита (акутни болнички случаи кои не се искажуваат според ДС методата) на осигурените лица за 2026 година.
A7: Главна дијагностичка категорија (сите главни дијагностички категории/ сите ДСГ групи)
A9: Ред.Број | B9: Шифра на ДСГ услуга, пакет | C9: Назив на ДСГ услуга | D9: 2026 | V9: 2025 (Реализација јануари- септември и проекција до декември) | AB9: 2024
D10: I полугодие | J10: II полугодие | P10: Вкупно
D11: хируршки | F11: медицински | H11: останати | J11: хируршки | L11: медицински | N11: останати | P11: хируршки | R11: медицински | T11: останати | V11: хируршки | X11: медицински | Z11: останати | AB11: хируршки | AD11: медицински | AF11: останати
D12: бр. на случаи | E12: износ по ДСГ | F12: бр. на случаи | G12: износ по ДСГ | H12: бр. на случаи | I12: износ по ДСГ | J12: бр. на случаи | K12: износ по ДСГ | L12: бр. на случаи | M12: износ по ДСГ | N12: бр. на случаи | O12: износ по ДСГ | P12: бр. на случаи | Q12: износ по ДСГ | R12: бр. на случаи | S12: износ по ДСГ | T12: бр. на случаи | U12: износ по ДСГ | V12: бр. на случаи | W12: износ по ДСГ | X12: бр. на случаи | Y12: износ по ДСГ | Z12: бр. на случаи | AA12: износ по ДСГ | AB12: бр. на случаи | AC12: износ по ДСГ | AD12: бр. на случаи | AE12: износ по ДСГ | AF12: бр. на случаи | AG12: износ по ДСГ
A13: 1 | B13: 2 | C13: 3 | D13: 5 | I13: 6 | J13: 7 | O13: 8 | P13: 9 | U13: 10(4*9) | V13: 11 | AA13: 12 | AB13: 13 | AG13: 14
A14: 1 | B14: A01-A42 | C14: ТРАНСПЛАНТАЦИИ, ЕКСПЛАНТАЦИЈА, МЕХАНИЧКА ВЕНТИЛАЦИЈА И СЛ. | D14: ='План-ДСГ-MDC-A'!E49 -> 0 | E14: ='План-ДСГ-MDC-A'!F49 -> 0 | F14: ='План-ДСГ-MDC-A'!E50 -> 0 | G14: ='План-ДСГ-MDC-A'!F50 -> 0 | H14: ='План-ДСГ-MDC-A'!E51 -> 0 | I14: ='План-ДСГ-MDC-A'!F51 -> 0 | J14: ='План-ДСГ-MDC-A'!H49 -> 0 | K14: ='План-ДСГ-MDC-A'!I49 -> 0 | L14: ='План-ДСГ-MDC-A'!H50 -> 0 | M14: ='План-ДСГ-MDC-A'!I50 -> 0 | N14: ='План-ДСГ-MDC-A'!H51 -> 0 | O14: ='План-ДСГ-MDC-A'!I51 -> 0 | P14: =D14+J14 -> 0 | Q14: =E14+K14 -> 0 | R14: =F14+L14 -> 0 | S14: =G14+M14 -> 0 | T14: =H14+N14 -> 0 | U14: =I14+O14 -> 0 | V14: ='План-ДСГ-MDC-A'!N49 -> 0 | W14: ='План-ДСГ-MDC-A'!O49 -> 0 | X14: ='План-ДСГ-MDC-A'!N50 -> 0 | Y14: ='План-ДСГ-MDC-A'!O50 -> 0 | Z14: ='План-ДСГ-MDC-A'!N51 -> 0 | AA14: ='План-ДСГ-MDC-A'!O51 -> 0 | AB14: ='План-ДСГ-MDC-A'!Q49 -> 0 | AC14: ='План-ДСГ-MDC-A'!R49 -> 0 | AD14: ='План-ДСГ-MDC-A'!Q50 -> 0 | AE14: ='План-ДСГ-MDC-A'!R50 -> 0 | AF14: ='План-ДСГ-MDC-A'!Q51 -> 0 | AG14: ='План-ДСГ-MDC-A'!R51 -> 0
A15: 2 | B15: B01-B81 | C15: БОЛЕСТИ И ПОРЕМЕТУВАЊА НА НЕРВНИОТ СИСТЕМ | D15: ='План-ДСГ-MDC-B'!E73 -> 0 | E15: ='План-ДСГ-MDC-B'!F73 -> 0 | F15: ='План-ДСГ-MDC-B'!E74 -> 0 | G15: ='План-ДСГ-MDC-B'!F74 -> 0 | H15: ='План-ДСГ-MDC-B'!E75 -> 0 | I15: ='План-ДСГ-MDC-B'!F75 -> 0 | J15: ='План-ДСГ-MDC-B'!H73 -> 0 | K15: ='План-ДСГ-MDC-B'!I73 -> 0 | L15: ='План-ДСГ-MDC-B'!H74 -> 0 | M15: ='План-ДСГ-MDC-B'!I74 -> 0 | N15: ='План-ДСГ-MDC-B'!H75 -> 0 | O15: ='План-ДСГ-MDC-B'!I75 -> 0 | P15: ='План-ДСГ-MDC-B'!K73 -> 0 | Q15: ='План-ДСГ-MDC-B'!L73 -> 0 | R15: ='План-ДСГ-MDC-B'!K74 -> 0 | S15: ='План-ДСГ-MDC-B'!L74 -> 0 | T15: ='План-ДСГ-MDC-B'!K75 -> 0 | U15: ='План-ДСГ-MDC-B'!L75 -> 0 | V15: ='План-ДСГ-MDC-B'!N73 -> 0 | W15: ='План-ДСГ-MDC-B'!O73 -> 0 | X15: ='План-ДСГ-MDC-B'!N74 -> 0 | Y15: ='План-ДСГ-MDC-B'!O74 -> 0 | Z15: ='План-ДСГ-MDC-B'!N75 -> 0 | AA15: ='План-ДСГ-MDC-B'!O75 -> 0 | AB15: ='План-ДСГ-MDC-B'!Q73 -> 0 | AC15: ='План-ДСГ-MDC-B'!R73 -> 0 | AD15: ='План-ДСГ-MDC-B'!Q74 -> 0 | AE15: ='План-ДСГ-MDC-B'!R74 -> 0 | AF15: ='План-ДСГ-MDC-B'!Q75 -> 0 | AG15: ='План-ДСГ-MDC-B'!R75 -> 0
A16: 3 | B16: C01-C63, ХОМ1-ХОМ14 | C16: БОЛЕСТИ И ПОРЕМЕТУВАЊА НА ОКОТО | D16: ='План-ДСГ-MDC-C'!E54 -> 0 | E16: ='План-ДСГ-MDC-C'!F54 -> 0 | F16: ='План-ДСГ-MDC-C'!E55 -> 0 | G16: ='План-ДСГ-MDC-C'!F55 -> 0 | H16: ='План-ДСГ-MDC-C'!E56 -> 0 | I16: ='План-ДСГ-MDC-C'!F56 -> 0 | J16: ='План-ДСГ-MDC-C'!H54 -> 0 | K16: ='План-ДСГ-MDC-C'!I54 -> 0 | L16: ='План-ДСГ-MDC-C'!H55 -> 0 | M16: ='План-ДСГ-MDC-C'!I55 -> 0 | N16: ='План-ДСГ-MDC-C'!H56 -> 0 | O16: ='План-ДСГ-MDC-C'!I56 -> 0 | P16: ='План-ДСГ-MDC-C'!K54 -> 0 | Q16: ='План-ДСГ-MDC-C'!L54 -> 0 | R16: ='План-ДСГ-MDC-C'!K55 -> 0 | S16: ='План-ДСГ-MDC-C'!L55 -> 0 | T16: ='План-ДСГ-MDC-C'!K56 -> 0 | U16: ='План-ДСГ-MDC-C'!L56 -> 0 | V16: ='План-ДСГ-MDC-C'!N54 -> 0 | W16: ='План-ДСГ-MDC-C'!O54 -> 0 | X16: ='План-ДСГ-MDC-C'!N55 -> 0 | Y16: ='План-ДСГ-MDC-C'!O55 -> 0 | Z16: ='План-ДСГ-MDC-C'!N56 -> 0 | AA16: ='План-ДСГ-MDC-C'!O56 -> 0 | AB16: ='План-ДСГ-MDC-C'!Q54 -> 0 | AC16: ='План-ДСГ-MDC-C'!R54 -> 0 | AD16: ='План-ДСГ-MDC-C'!Q55 -> 0 | AE16: ='План-ДСГ-MDC-C'!R55 -> 0 | AF16: ='План-ДСГ-MDC-C'!Q56 -> 0 | AG16: ='План-ДСГ-MDC-C'!R56 -> 0
A17: 4 | B17: D01-D67 | C17: БОЛЕСТИ И ПОРЕМЕТУВАЊА НА УВО НОС И ГРЛО | D17: ='План-ДСГ-MDC-D'!E48 -> 0 | E17: ='План-ДСГ-MDC-D'!F48 -> 0 | F17: ='План-ДСГ-MDC-D'!E49 -> 0 | G17: ='План-ДСГ-MDC-D'!F49 -> 0 | H17: ='План-ДСГ-MDC-D'!E50 -> 0 | I17: ='План-ДСГ-MDC-D'!F50 -> 0 | J17: ='План-ДСГ-MDC-D'!H48 -> 0 | K17: ='План-ДСГ-MDC-D'!I48 -> 0 | L17: ='План-ДСГ-MDC-D'!H49 -> 0 | M17: ='План-ДСГ-MDC-D'!I49 -> 0 | N17: ='План-ДСГ-MDC-D'!H50 -> 0 | O17: ='План-ДСГ-MDC-D'!I50 -> 0 | P17: ='План-ДСГ-MDC-D'!K48 -> 0 | Q17: ='План-ДСГ-MDC-D'!L48 -> 0 | R17: ='План-ДСГ-MDC-D'!K49 -> 0 | S17: ='План-ДСГ-MDC-D'!L49 -> 0 | T17: ='План-ДСГ-MDC-D'!K50 -> 0 | U17: ='План-ДСГ-MDC-D'!L50 -> 0 | V17: ='План-ДСГ-MDC-D'!N48 -> 0 | W17: ='План-ДСГ-MDC-D'!O48 -> 0 | X17: ='План-ДСГ-MDC-D'!N49 -> 0 | Y17: ='План-ДСГ-MDC-D'!O49 -> 0 | Z17: ='План-ДСГ-MDC-D'!N50 -> 0 | AA17: ='План-ДСГ-MDC-D'!O50 -> 0 | AB17: ='План-ДСГ-MDC-D'!Q48 -> 0 | AC17: ='План-ДСГ-MDC-D'!R48 -> 0 | AD17: ='План-ДСГ-MDC-D'!Q49 -> 0 | AE17: ='План-ДСГ-MDC-D'!R49 -> 0 | AF17: ='План-ДСГ-MDC-D'!Q50 -> 0 | AG17: ='План-ДСГ-MDC-D'!R50 -> 0
A18: 5 | B18: E01-E75, ТБЦ1-ТБЦ3 | C18: БОЛЕСТИ И ПОРЕМЕТУВАЊА НА РЕСПИРАТОРЕН СИСТЕМ | D18: ='План-ДСГ-MDC-E'!E65 -> 0 | E18: ='План-ДСГ-MDC-E'!F65 -> 0 | F18: ='План-ДСГ-MDC-E'!E66 -> 0 | G18: ='План-ДСГ-MDC-E'!F66 -> 0 | H18: ='План-ДСГ-MDC-E'!E67 -> 0 | I18: ='План-ДСГ-MDC-E'!F67 -> 0 | J18: ='План-ДСГ-MDC-E'!H65 -> 0 | K18: ='План-ДСГ-MDC-E'!I65 -> 0 | L18: ='План-ДСГ-MDC-E'!H66 -> 0 | M18: ='План-ДСГ-MDC-E'!I66 -> 0 | N18: ='План-ДСГ-MDC-E'!H67 -> 0 | O18: ='План-ДСГ-MDC-E'!I67 -> 0 | P18: ='План-ДСГ-MDC-E'!K65 -> 0 | Q18: ='План-ДСГ-MDC-E'!L65 -> 0 | R18: ='План-ДСГ-MDC-E'!K66 -> 0 | S18: ='План-ДСГ-MDC-E'!L66 -> 0 | T18: ='План-ДСГ-MDC-E'!K67 -> 0 | U18: ='План-ДСГ-MDC-E'!L67 -> 0 | V18: ='План-ДСГ-MDC-E'!N65 -> 0 | W18: ='План-ДСГ-MDC-E'!O65 -> 0 | X18: ='План-ДСГ-MDC-E'!N66 -> 0 | Y18: ='План-ДСГ-MDC-E'!O66 -> 0 | Z18: ='План-ДСГ-MDC-E'!N67 -> 0 | AA18: ='План-ДСГ-MDC-E'!O67 -> 0 | AB18: ='План-ДСГ-MDC-E'!Q65 -> 0 | AC18: ='План-ДСГ-MDC-E'!R65 -> 0 | AD18: ='План-ДСГ-MDC-E'!Q66 -> 0 | AE18: ='План-ДСГ-MDC-E'!R66 -> 0 | AF18: ='План-ДСГ-MDC-E'!Q67 -> 0 | AG18: ='План-ДСГ-MDC-E'!R67 -> 0
A19: 6 | B19: F01-F75, РТС1-РТС2, БЛК1-БЛК11 | C19: БОЛЕСТИ И ПОРЕМЕТУВАЊА НА ЦИРКУЛАТОРЕН СИСТЕМ | D19: ='План-ДСГ-MDC-F'!E104 -> 0 | E19: ='План-ДСГ-MDC-F'!F104 -> 0 | F19: ='План-ДСГ-MDC-F'!E105 -> 0 | G19: ='План-ДСГ-MDC-F'!F105 -> 0 | H19: ='План-ДСГ-MDC-F'!E106 -> 0 | I19: ='План-ДСГ-MDC-F'!F106 -> 0 | J19: ='План-ДСГ-MDC-F'!H104 -> 0 | K19: ='План-ДСГ-MDC-F'!I104 -> 0 | L19: ='План-ДСГ-MDC-F'!H105 -> 0 | M19: ='План-ДСГ-MDC-F'!I105 -> 0 | N19: ='План-ДСГ-MDC-F'!H106 -> 0 | O19: ='План-ДСГ-MDC-F'!I106 -> 0 | P19: ='План-ДСГ-MDC-F'!K104 -> 0 | Q19: ='План-ДСГ-MDC-F'!L104 -> 0 | R19: ='План-ДСГ-MDC-F'!K105 -> 0 | S19: ='План-ДСГ-MDC-F'!L105 -> 0 | T19: ='План-ДСГ-MDC-F'!K106 -> 0 | U19: ='План-ДСГ-MDC-F'!L106 -> 0 | V19: ='План-ДСГ-MDC-F'!N104 -> 0 | W19: ='План-ДСГ-MDC-F'!O104 -> 0 | X19: ='План-ДСГ-MDC-F'!N105 -> 0 | Y19: ='План-ДСГ-MDC-F'!O105 -> 0 | Z19: ='План-ДСГ-MDC-F'!N106 -> 0 | AA19: ='План-ДСГ-MDC-F'!O106 -> 0 | AB19: ='План-ДСГ-MDC-F'!Q104 -> 0 | AC19: ='План-ДСГ-MDC-F'!R104 -> 0 | AD19: ='План-ДСГ-MDC-F'!Q105 -> 0 | AE19: ='План-ДСГ-MDC-F'!R105 -> 0 | AF19: ='План-ДСГ-MDC-F'!Q106 -> 0 | AG19: ='План-ДСГ-MDC-F'!R106 -> 0
A20: 7 | B20: G01-G70, БЛГ1 | C20: БОЛЕСТИ И ПОРЕМЕТУВАЊА НА ДИГЕСТИВЕН СИСТЕМ | D20: ='План-ДСГ-MDC-G'!E73 -> 0 | E20: ='План-ДСГ-MDC-G'!F73 -> 0 | F20: ='План-ДСГ-MDC-G'!E74 -> 0 | G20: ='План-ДСГ-MDC-G'!F74 -> 0 | H20: ='План-ДСГ-MDC-G'!E75 -> 0 | I20: ='План-ДСГ-MDC-G'!F75 -> 0 | J20: ='План-ДСГ-MDC-G'!H73 -> 0 | K20: ='План-ДСГ-MDC-G'!I73 -> 0 | L20: ='План-ДСГ-MDC-G'!H74 -> 0 | M20: ='План-ДСГ-MDC-G'!I74 -> 0 | N20: ='План-ДСГ-MDC-G'!H75 -> 0 | O20: ='План-ДСГ-MDC-G'!I75 -> 0 | P20: ='План-ДСГ-MDC-G'!K73 -> 0 | Q20: ='План-ДСГ-MDC-G'!L73 -> 0 | R20: ='План-ДСГ-MDC-G'!K74 -> 0 | S20: ='План-ДСГ-MDC-G'!L74 -> 0 | T20: ='План-ДСГ-MDC-G'!K75 -> 0 | U20: ='План-ДСГ-MDC-G'!L75 -> 0 | V20: ='План-ДСГ-MDC-G'!N73 -> 0 | W20: ='План-ДСГ-MDC-G'!O73 -> 0 | X20: ='План-ДСГ-MDC-G'!N74 -> 0 | Y20: ='План-ДСГ-MDC-G'!O74 -> 0 | Z20: ='План-ДСГ-MDC-G'!N75 -> 0 | AA20: ='План-ДСГ-MDC-G'!O75 -> 0 | AB20: ='План-ДСГ-MDC-G'!Q73 -> 0 | AC20: ='План-ДСГ-MDC-G'!R73 -> 0 | AD20: ='План-ДСГ-MDC-G'!Q74 -> 0 | AE20: ='План-ДСГ-MDC-G'!R74 -> 0 | AF20: ='План-ДСГ-MDC-G'!Q75 -> 0 | AG20: ='План-ДСГ-MDC-G'!R75 -> 0
A21: 8 | B21: H01-H64 | C21: БОЛЕСТИ И ПОРЕМЕТУВАЊЕ НА ХЕПАТОБИЛИЈАРЕН СИСТЕМ И ПАНКРЕАС | D21: ='План-ДСГ-MDC-H'!E49 -> 0 | E21: ='План-ДСГ-MDC-H'!F49 -> 0 | F21: ='План-ДСГ-MDC-H'!E50 -> 0 | G21: ='План-ДСГ-MDC-H'!F50 -> 0 | H21: ='План-ДСГ-MDC-H'!E51 -> 0 | I21: ='План-ДСГ-MDC-H'!F51 -> 0 | J21: ='План-ДСГ-MDC-H'!H49 -> 0 | K21: ='План-ДСГ-MDC-H'!I49 -> 0 | L21: ='План-ДСГ-MDC-H'!H50 -> 0 | M21: ='План-ДСГ-MDC-H'!I50 -> 0 | N21: ='План-ДСГ-MDC-H'!H51 -> 0 | O21: ='План-ДСГ-MDC-H'!I51 -> 0 | P21: ='План-ДСГ-MDC-H'!K49 -> 0 | Q21: ='План-ДСГ-MDC-H'!L49 -> 0 | R21: ='План-ДСГ-MDC-H'!K50 -> 0 | S21: ='План-ДСГ-MDC-H'!L50 -> 0 | T21: ='План-ДСГ-MDC-H'!K51 -> 0 | U21: ='План-ДСГ-MDC-H'!L51 -> 0 | V21: ='План-ДСГ-MDC-H'!N49 -> 0 | W21: ='План-ДСГ-MDC-H'!O49 -> 0 | X21: ='План-ДСГ-MDC-H'!N50 -> 0 | Y21: ='План-ДСГ-MDC-H'!O50 -> 0 | Z21: ='План-ДСГ-MDC-H'!N51 -> 0 | AA21: ='План-ДСГ-MDC-H'!O51 -> 0 | AB21: ='План-ДСГ-MDC-H'!Q49 -> 0 | AC21: ='План-ДСГ-MDC-H'!R49 -> 0 | AD21: ='План-ДСГ-MDC-H'!Q50 -> 0 | AE21: ='План-ДСГ-MDC-H'!R50 -> 0 | AF21: ='План-ДСГ-MDC-H'!Q51 -> 0 | AG21: ='План-ДСГ-MDC-H'!R51 -> 0
A22: 9 | B22: I01-I79 БЛО1-БЛО2 | C22: БОЛЕСТИ И ПОРЕМЕТУВАЊА НА МУСКУЛНО-КОСКЕН И СВРЗЕН СИСТЕМ | D22: ='План-ДСГ-MDC-I'!E101 -> 0 | E22: ='План-ДСГ-MDC-I'!F101 -> 0 | F22: ='План-ДСГ-MDC-I'!E102 -> 0 | G22: ='План-ДСГ-MDC-I'!F102 -> 0 | H22: ='План-ДСГ-MDC-I'!E103 -> 0 | I22: ='План-ДСГ-MDC-I'!F103 -> 0 | J22: ='План-ДСГ-MDC-I'!H101 -> 0 | K22: ='План-ДСГ-MDC-I'!I101 -> 0 | L22: ='План-ДСГ-MDC-I'!H102 -> 0 | M22: ='План-ДСГ-MDC-I'!I102 -> 0 | N22: ='План-ДСГ-MDC-I'!H103 -> 0 | O22: ='План-ДСГ-MDC-I'!I103 -> 0 | P22: ='План-ДСГ-MDC-I'!K101 -> 0 | Q22: ='План-ДСГ-MDC-I'!L101 -> 0 | R22: ='План-ДСГ-MDC-I'!K102 -> 0 | S22: ='План-ДСГ-MDC-I'!L102 -> 0 | T22: ='План-ДСГ-MDC-I'!K103 -> 0 | U22: ='План-ДСГ-MDC-I'!L103 -> 0 | V22: ='План-ДСГ-MDC-I'!N101 -> 0 | W22: ='План-ДСГ-MDC-I'!O101 -> 0 | X22: ='План-ДСГ-MDC-I'!N102 -> 0 | Y22: ='План-ДСГ-MDC-I'!O102 -> 0 | Z22: ='План-ДСГ-MDC-I'!N103 -> 0 | AA22: ='План-ДСГ-MDC-I'!O103 -> 0 | AB22: ='План-ДСГ-MDC-I'!Q101 -> 0 | AC22: ='План-ДСГ-MDC-I'!R101 -> 0 | AD22: ='План-ДСГ-MDC-I'!Q102 -> 0 | AE22: ='План-ДСГ-MDC-I'!R102 -> 0 | AF22: ='План-ДСГ-MDC-I'!Q103 -> 0 | AG22: ='План-ДСГ-MDC-I'!R103 -> 0
A23: 10 | B23: J01-J68 ХПД1-ХПД6 | C23: БОЛЕСТИ И ПОРЕМЕТУВАЊА НА КОЖАТА ПОТКОЖНОТО ТКИВО И ДОЈКАТА | D23: ='План-ДСГ-MDC-J'!E55 -> 0 | E23: ='План-ДСГ-MDC-J'!F55 -> 0 | F23: ='План-ДСГ-MDC-J'!E56 -> 0 | G23: ='План-ДСГ-MDC-J'!F56 -> 0 | H23: ='План-ДСГ-MDC-J'!E57 -> 0 | I23: ='План-ДСГ-MDC-J'!F57 -> 0 | J23: ='План-ДСГ-MDC-J'!H55 -> 0 | K23: ='План-ДСГ-MDC-J'!I55 -> 0 | L23: ='План-ДСГ-MDC-J'!H56 -> 0 | M23: ='План-ДСГ-MDC-J'!I56 -> 0 | N23: ='План-ДСГ-MDC-J'!H57 -> 0 | O23: ='План-ДСГ-MDC-J'!I57 -> 0 | P23: ='План-ДСГ-MDC-J'!K55 -> 0 | Q23: ='План-ДСГ-MDC-J'!L55 -> 0 | R23: ='План-ДСГ-MDC-J'!K56 -> 0 | S23: ='План-ДСГ-MDC-J'!L56 -> 0 | T23: ='План-ДСГ-MDC-J'!K57 -> 0 | U23: ='План-ДСГ-MDC-J'!L57 -> 0 | V23: ='План-ДСГ-MDC-J'!N55 -> 0 | W23: ='План-ДСГ-MDC-J'!O55 -> 0 | X23: ='План-ДСГ-MDC-J'!N56 -> 0 | Y23: ='План-ДСГ-MDC-J'!O56 -> 0 | Z23: ='План-ДСГ-MDC-J'!N57 -> 0 | AA23: ='План-ДСГ-MDC-J'!O57 -> 0 | AB23: ='План-ДСГ-MDC-J'!Q55 -> 0 | AC23: ='План-ДСГ-MDC-J'!R55 -> 0 | AD23: ='План-ДСГ-MDC-J'!Q56 -> 0 | AE23: ='План-ДСГ-MDC-J'!R56 -> 0 | AF23: ='План-ДСГ-MDC-J'!Q57 -> 0 | AG23: ='План-ДСГ-MDC-J'!R57 -> 0
A24: 11 | B24: K01-K64 | C24: БОЛЕСТИ И ПОРЕМЕТУВАЊА НА ЖЛЕЗДИ СО ВНАТРЕШНО ЛАЧЕЊЕ, ИСХРАНА И МЕТАБОЛИЗАМ | D24: ='План-ДСГ-MDC-K'!E49 -> 0 | E24: ='План-ДСГ-MDC-K'!F49 -> 0 | F24: ='План-ДСГ-MDC-K'!E50 -> 0 | G24: ='План-ДСГ-MDC-K'!F50 -> 0 | H24: ='План-ДСГ-MDC-K'!E51 -> 0 | I24: ='План-ДСГ-MDC-K'!F51 -> 0 | J24: ='План-ДСГ-MDC-K'!H49 -> 0 | K24: ='План-ДСГ-MDC-K'!I49 -> 0 | L24: ='План-ДСГ-MDC-K'!H50 -> 0 | M24: ='План-ДСГ-MDC-K'!I50 -> 0 | N24: ='План-ДСГ-MDC-K'!H51 -> 0 | O24: ='План-ДСГ-MDC-K'!I51 -> 0 | P24: ='План-ДСГ-MDC-K'!K49 -> 0 | Q24: ='План-ДСГ-MDC-K'!L49 -> 0 | R24: ='План-ДСГ-MDC-K'!K50 -> 0 | S24: ='План-ДСГ-MDC-K'!L50 -> 0 | T24: ='План-ДСГ-MDC-K'!K51 -> 0 | U24: ='План-ДСГ-MDC-K'!L51 -> 0 | V24: ='План-ДСГ-MDC-K'!N49 -> 0 | W24: ='План-ДСГ-MDC-K'!O49 -> 0 | X24: ='План-ДСГ-MDC-K'!N50 -> 0 | Y24: ='План-ДСГ-MDC-K'!O50 -> 0 | Z24: ='План-ДСГ-MDC-K'!N51 -> 0 | AA24: ='План-ДСГ-MDC-K'!O51 -> 0 | AB24: ='План-ДСГ-MDC-K'!Q49 -> 0 | AC24: ='План-ДСГ-MDC-K'!R49 -> 0 | AD24: ='План-ДСГ-MDC-K'!Q50 -> 0 | AE24: ='План-ДСГ-MDC-K'!R50 -> 0 | AF24: ='План-ДСГ-MDC-K'!Q51 -> 0 | AG24: ='План-ДСГ-MDC-K'!R51 -> 0
A25: 12 | B25: L02-L67 БЛУ1-БЛУ3 | C25: БОЛЕСТИ И ПОРЕМЕТУВАЊА НА БУБРЕГ И УРИНАРЕН СИСТЕМ | D25: ='План-ДСГ-MDC-L'!E62 -> 0 | E25: ='План-ДСГ-MDC-L'!F62 -> 0 | F25: ='План-ДСГ-MDC-L'!E63 -> 0 | G25: ='План-ДСГ-MDC-L'!F63 -> 0 | H25: ='План-ДСГ-MDC-L'!E64 -> 0 | I25: ='План-ДСГ-MDC-L'!F64 -> 0 | J25: ='План-ДСГ-MDC-L'!H62 -> 0 | K25: ='План-ДСГ-MDC-L'!I62 -> 0 | L25: ='План-ДСГ-MDC-L'!H63 -> 0 | M25: ='План-ДСГ-MDC-L'!I63 -> 0 | N25: ='План-ДСГ-MDC-L'!H64 -> 0 | O25: ='План-ДСГ-MDC-L'!I64 -> 0 | P25: ='План-ДСГ-MDC-L'!K62 -> 0 | Q25: ='План-ДСГ-MDC-L'!L62 -> 0 | R25: ='План-ДСГ-MDC-L'!K63 -> 0 | S25: ='План-ДСГ-MDC-L'!L63 -> 0 | T25: ='План-ДСГ-MDC-L'!K64 -> 0 | U25: ='План-ДСГ-MDC-L'!L64 -> 0 | V25: ='План-ДСГ-MDC-L'!N62 -> 0 | W25: ='План-ДСГ-MDC-L'!O62 -> 0 | X25: ='План-ДСГ-MDC-L'!N63 -> 0 | Y25: ='План-ДСГ-MDC-L'!O63 -> 0 | Z25: ='План-ДСГ-MDC-L'!N64 -> 0 | AA25: ='План-ДСГ-MDC-L'!O64 -> 0 | AB25: ='План-ДСГ-MDC-L'!Q62 -> 0 | AC25: ='План-ДСГ-MDC-L'!R62 -> 0 | AD25: ='План-ДСГ-MDC-L'!Q63 -> 0 | AE25: ='План-ДСГ-MDC-L'!R63 -> 0 | AF25: ='План-ДСГ-MDC-L'!Q64 -> 0 | AG25: ='План-ДСГ-MDC-L'!R64 -> 0
A26: 13 | B26: M01-M64 | C26: БОЛЕСТИ И ПОРЕМЕТУВАЊА НА МАШКИ РЕПРОДУКТИВЕН СИСТЕМ | D26: ='План-ДСГ-MDC-M'!E49 -> 0 | E26: ='План-ДСГ-MDC-M'!F49 -> 0 | F26: ='План-ДСГ-MDC-M'!E50 -> 0 | G26: ='План-ДСГ-MDC-M'!F50 -> 0 | H26: ='План-ДСГ-MDC-M'!E51 -> 0 | I26: ='План-ДСГ-MDC-M'!F51 -> 0 | J26: ='План-ДСГ-MDC-M'!H49 -> 0 | K26: ='План-ДСГ-MDC-M'!I49 -> 0 | L26: ='План-ДСГ-MDC-M'!H50 -> 0 | M26: ='План-ДСГ-MDC-M'!I50 -> 0 | N26: ='План-ДСГ-MDC-M'!H51 -> 0 | O26: ='План-ДСГ-MDC-M'!I51 -> 0 | P26: ='План-ДСГ-MDC-M'!K49 -> 0 | Q26: ='План-ДСГ-MDC-M'!L49 -> 0 | R26: ='План-ДСГ-MDC-M'!K50 -> 0 | S26: ='План-ДСГ-MDC-M'!L50 -> 0 | T26: ='План-ДСГ-MDC-M'!K51 -> 0 | U26: ='План-ДСГ-MDC-M'!L51 -> 0 | V26: ='План-ДСГ-MDC-M'!N49 -> 0 | W26: ='План-ДСГ-MDC-M'!O49 -> 0 | X26: ='План-ДСГ-MDC-M'!N50 -> 0 | Y26: ='План-ДСГ-MDC-M'!O50 -> 0 | Z26: ='План-ДСГ-MDC-M'!N51 -> 0 | AA26: ='План-ДСГ-MDC-M'!O51 -> 0 | AB26: ='План-ДСГ-MDC-M'!Q49 -> 0 | AC26: ='План-ДСГ-MDC-M'!R49 -> 0 | AD26: ='План-ДСГ-MDC-M'!Q50 -> 0 | AE26: ='План-ДСГ-MDC-M'!R50 -> 0 | AF26: ='План-ДСГ-MDC-M'!Q51 -> 0 | AG26: ='План-ДСГ-MDC-M'!R51 -> 0
A27: 14 | B27: N01-N62 | C27: БОЛЕСТИ И ПОРЕМЕТУВАЊА НА ЖЕНСКИОТ РЕПРОДУКТИВЕН СИСТЕМ | D27: ='План-ДСГ-MDC-N'!E49 -> 0 | E27: ='План-ДСГ-MDC-N'!F49 -> 0 | F27: ='План-ДСГ-MDC-N'!E50 -> 0 | G27: ='План-ДСГ-MDC-N'!F50 -> 0 | H27: ='План-ДСГ-MDC-N'!E51 -> 0 | I27: ='План-ДСГ-MDC-N'!F51 -> 0 | J27: ='План-ДСГ-MDC-N'!H49 -> 0 | K27: ='План-ДСГ-MDC-N'!I49 -> 0 | L27: ='План-ДСГ-MDC-N'!H50 -> 0 | M27: ='План-ДСГ-MDC-N'!I50 -> 0 | N27: ='План-ДСГ-MDC-N'!H51 -> 0 | O27: ='План-ДСГ-MDC-N'!F51 -> 0 | P27: ='План-ДСГ-MDC-N'!K49 -> 0 | Q27: ='План-ДСГ-MDC-N'!L49 -> 0 | R27: ='План-ДСГ-MDC-N'!K50 -> 0 | S27: ='План-ДСГ-MDC-N'!L50 -> 0 | T27: ='План-ДСГ-MDC-N'!K51 -> 0 | U27: ='План-ДСГ-MDC-N'!L51 -> 0 | V27: ='План-ДСГ-MDC-N'!N49 -> 0 | W27: ='План-ДСГ-MDC-N'!O49 -> 0 | X27: ='План-ДСГ-MDC-N'!N50 -> 0 | Y27: ='План-ДСГ-MDC-N'!O50 -> 0 | Z27: ='План-ДСГ-MDC-N'!N51 -> 0 | AA27: ='План-ДСГ-MDC-N'!O51 -> 0 | AB27: ='План-ДСГ-MDC-N'!Q49 -> 0 | AC27: ='План-ДСГ-MDC-N'!R49 -> 0 | AD27: ='План-ДСГ-MDC-N'!Q50 -> 0 | AE27: ='План-ДСГ-MDC-N'!R50 -> 0 | AF27: ='План-ДСГ-MDC-N'!Q51 -> 0 | AG27: ='План-ДСГ-MDC-N'!R51 -> 0
A28: 15 | B28: O01-O66 | C28: БРЕМЕНОСТ, ПОРОДУВАЊЕ И ПУЕРПЕРИУМ | D28: ='План-ДСГ-MDC-O'!E49 -> 0 | E28: ='План-ДСГ-MDC-O'!F49 -> 0 | F28: ='План-ДСГ-MDC-O'!E50 -> 0 | G28: ='План-ДСГ-MDC-O'!F50 -> 0 | H28: ='План-ДСГ-MDC-O'!E51 -> 0 | I28: ='План-ДСГ-MDC-O'!F51 -> 0 | J28: ='План-ДСГ-MDC-O'!H49 -> 0 | K28: ='План-ДСГ-MDC-O'!I49 -> 0 | L28: ='План-ДСГ-MDC-O'!H50 -> 0 | M28: ='План-ДСГ-MDC-O'!I50 -> 0 | N28: ='План-ДСГ-MDC-O'!H51 -> 0 | O28: ='План-ДСГ-MDC-O'!I51 -> 0 | P28: ='План-ДСГ-MDC-O'!K49 -> 0 | Q28: ='План-ДСГ-MDC-O'!L49 -> 0 | R28: ='План-ДСГ-MDC-O'!K50 -> 0 | S28: ='План-ДСГ-MDC-O'!L50 -> 0 | T28: ='План-ДСГ-MDC-O'!K51 -> 0 | U28: ='План-ДСГ-MDC-O'!L51 -> 0 | V28: ='План-ДСГ-MDC-O'!N49 -> 0 | W28: ='План-ДСГ-MDC-O'!O49 -> 0 | X28: ='План-ДСГ-MDC-O'!N50 -> 0 | Y28: ='План-ДСГ-MDC-O'!O50 -> 0 | Z28: ='План-ДСГ-MDC-O'!N51 -> 0 | AA28: ='План-ДСГ-MDC-O'!O51 -> 0 | AB28: ='План-ДСГ-MDC-O'!Q49 -> 0 | AC28: ='План-ДСГ-MDC-O'!R49 -> 0 | AD28: ='План-ДСГ-MDC-O'!Q50 -> 0 | AE28: ='План-ДСГ-MDC-O'!R50 -> 0 | AF28: ='План-ДСГ-MDC-O'!Q51 -> 0 | AG28: ='План-ДСГ-MDC-O'!R51 -> 0
A29: 16 | B29: P01-P67 | C29: БОЛЕСТИ И ПОРЕМЕТУВАЊА НА НОВОРОДЕНЧИЊА | D29: ='План-ДСГ-MDC-P'!E49 -> 0 | E29: ='План-ДСГ-MDC-P'!F49 -> 0 | F29: ='План-ДСГ-MDC-P'!E50 -> 0 | G29: ='План-ДСГ-MDC-P'!F50 -> 0 | H29: ='План-ДСГ-MDC-P'!E51 -> 0 | I29: ='План-ДСГ-MDC-P'!F51 -> 0 | J29: ='План-ДСГ-MDC-P'!H49 -> 0 | K29: ='План-ДСГ-MDC-P'!I49 -> 0 | L29: ='План-ДСГ-MDC-P'!H50 -> 0 | M29: ='План-ДСГ-MDC-P'!I50 -> 0 | N29: ='План-ДСГ-MDC-P'!H51 -> 0 | O29: ='План-ДСГ-MDC-P'!I51 -> 0 | P29: ='План-ДСГ-MDC-P'!K49 -> 0 | Q29: ='План-ДСГ-MDC-P'!L49 -> 0 | R29: ='План-ДСГ-MDC-P'!K50 -> 0 | S29: ='План-ДСГ-MDC-P'!L50 -> 0 | T29: ='План-ДСГ-MDC-P'!K51 -> 0 | U29: ='План-ДСГ-MDC-P'!L51 -> 0 | V29: ='План-ДСГ-MDC-P'!N49 -> 0 | W29: ='План-ДСГ-MDC-P'!O49 -> 0 | X29: ='План-ДСГ-MDC-P'!N50 -> 0 | Y29: ='План-ДСГ-MDC-P'!O50 -> 0 | Z29: ='План-ДСГ-MDC-P'!N51 -> 0 | AA29: ='План-ДСГ-MDC-P'!O51 -> 0 | AB29: ='План-ДСГ-MDC-P'!Q49 -> 0 | AC29: ='План-ДСГ-MDC-P'!R49 -> 0 | AD29: ='План-ДСГ-MDC-P'!Q50 -> 0 | AE29: ='План-ДСГ-MDC-P'!R50 -> 0 | AF29: ='План-ДСГ-MDC-P'!Q51 -> 0 | AG29: ='План-ДСГ-MDC-P'!R51 -> 0
A30: 17 | B30: Q01-Q62 | C30: БОЛЕСТИ И ПОРЕМЕТУВАЊА НА КРВТА, КРВОТВОРНИ ОРГАНИ И ИМУНОЛОШКИОТ СИСТЕМ | D30: ='План-ДСГ-MDC-Q'!E49 -> 0 | E30: ='План-ДСГ-MDC-Q'!F49 -> 0 | F30: ='План-ДСГ-MDC-Q'!E50 -> 0 | G30: ='План-ДСГ-MDC-Q'!F50 -> 0 | H30: ='План-ДСГ-MDC-Q'!E51 -> 0 | I30: ='План-ДСГ-MDC-Q'!F51 -> 0 | J30: ='План-ДСГ-MDC-Q'!H49 -> 0 | K30: ='План-ДСГ-MDC-Q'!I49 -> 0 | L30: ='План-ДСГ-MDC-Q'!H50 -> 0 | M30: ='План-ДСГ-MDC-Q'!I50 -> 0 | N30: ='План-ДСГ-MDC-Q'!H51 -> 0 | O30: ='План-ДСГ-MDC-Q'!I51 -> 0 | P30: ='План-ДСГ-MDC-Q'!K49 -> 0 | Q30: ='План-ДСГ-MDC-Q'!L49 -> 0 | R30: ='План-ДСГ-MDC-Q'!K50 -> 0 | S30: ='План-ДСГ-MDC-Q'!L50 -> 0 | T30: ='План-ДСГ-MDC-Q'!K51 -> 0 | U30: ='План-ДСГ-MDC-Q'!L51 -> 0 | V30: ='План-ДСГ-MDC-Q'!N49 -> 0 | W30: ='План-ДСГ-MDC-Q'!O49 -> 0 | X30: ='План-ДСГ-MDC-Q'!N50 -> 0 | Y30: ='План-ДСГ-MDC-Q'!O50 -> 0 | Z30: ='План-ДСГ-MDC-Q'!N51 -> 0 | AA30: ='План-ДСГ-MDC-Q'!O51 -> 0 | AB30: ='План-ДСГ-MDC-Q'!Q49 -> 0 | AC30: ='План-ДСГ-MDC-Q'!R49 -> 0 | AD30: ='План-ДСГ-MDC-Q'!Q50 -> 0 | AE30: ='План-ДСГ-MDC-Q'!R50 -> 0 | AF30: ='План-ДСГ-MDC-Q'!Q51 -> 0 | AG30: ='План-ДСГ-MDC-Q'!R51 -> 0
A31: 18 | B31: R01-R64 | C31: МИЕЛОПРЛИФЕРАТИВНИ БОЛЕСТИ И НЕДИФЕРЕНЦИРАНИ ТУМОРИ | D31: ='План-ДСГ-MDC-R'!E49 -> 0 | E31: ='План-ДСГ-MDC-R'!F49 -> 0 | F31: ='План-ДСГ-MDC-R'!E50 -> 0 | G31: ='План-ДСГ-MDC-R'!F50 -> 0 | H31: ='План-ДСГ-MDC-R'!E51 -> 0 | I31: ='План-ДСГ-MDC-R'!F51 -> 0 | J31: ='План-ДСГ-MDC-R'!H49 -> 0 | K31: ='План-ДСГ-MDC-R'!I49 -> 0 | L31: ='План-ДСГ-MDC-R'!H50 -> 0 | M31: ='План-ДСГ-MDC-R'!I50 -> 0 | N31: ='План-ДСГ-MDC-R'!H51 -> 0 | O31: ='План-ДСГ-MDC-R'!I51 -> 0 | P31: ='План-ДСГ-MDC-R'!K49 -> 0 | Q31: ='План-ДСГ-MDC-R'!L49 -> 0 | R31: ='План-ДСГ-MDC-R'!K50 -> 0 | S31: ='План-ДСГ-MDC-R'!L50 -> 0 | T31: ='План-ДСГ-MDC-R'!K51 -> 0 | U31: ='План-ДСГ-MDC-R'!O51 -> 0 | V31: ='План-ДСГ-MDC-R'!N49 -> 0 | W31: ='План-ДСГ-MDC-R'!O49 -> 0 | X31: ='План-ДСГ-MDC-R'!N50 -> 0 | Y31: ='План-ДСГ-MDC-R'!O50 -> 0 | Z31: ='План-ДСГ-MDC-R'!N51 -> 0 | AA31: ='План-ДСГ-MDC-R'!O51 -> 0 | AB31: ='План-ДСГ-MDC-R'!Q49 -> 0 | AC31: ='План-ДСГ-MDC-R'!R49 -> 0 | AD31: ='План-ДСГ-MDC-R'!Q50 -> 0 | AE31: ='План-ДСГ-MDC-R'!R50 -> 0 | AF31: ='План-ДСГ-MDC-R'!Q51 -> 0 | AG31: ='План-ДСГ-MDC-R'!R51 -> 0
A32: 19 | B32: S60-S65 T01-T64 | C32: ИНФЕКТИВНИ И ПАРАЗИТСКИ ЗАБОЛУВАЊА | D32: ='План-ДСГ-MDC-S,T'!E49 -> 0 | E32: ='План-ДСГ-MDC-S,T'!F49 -> 0 | F32: ='План-ДСГ-MDC-S,T'!E50 -> 0 | G32: ='План-ДСГ-MDC-S,T'!F50 -> 0 | H32: ='План-ДСГ-MDC-S,T'!E51 -> 0 | I32: ='План-ДСГ-MDC-S,T'!F51 -> 0 | J32: ='План-ДСГ-MDC-S,T'!H49 -> 0 | K32: ='План-ДСГ-MDC-S,T'!I49 -> 0 | L32: ='План-ДСГ-MDC-S,T'!H50 -> 0 | M32: ='План-ДСГ-MDC-S,T'!I50 -> 0 | N32: ='План-ДСГ-MDC-S,T'!H51 -> 0 | O32: ='План-ДСГ-MDC-S,T'!I51 -> 0 | P32: ='План-ДСГ-MDC-S,T'!K49 -> 0 | Q32: ='План-ДСГ-MDC-S,T'!L49 -> 0 | R32: ='План-ДСГ-MDC-S,T'!K50 -> 0 | S32: ='План-ДСГ-MDC-S,T'!L50 -> 0 | T32: ='План-ДСГ-MDC-S,T'!K51 -> 0 | U32: ='План-ДСГ-MDC-S,T'!L51 -> 0 | V32: ='План-ДСГ-MDC-S,T'!N49 -> 0 | W32: ='План-ДСГ-MDC-S,T'!O49 -> 0 | X32: ='План-ДСГ-MDC-S,T'!N50 -> 0 | Y32: ='План-ДСГ-MDC-S,T'!O50 -> 0 | Z32: ='План-ДСГ-MDC-S,T'!N51 -> 0 | AA32: ='План-ДСГ-MDC-S,T'!O51 -> 0 | AB32: ='План-ДСГ-MDC-S,T'!Q49 -> 0 | AC32: ='План-ДСГ-MDC-S,T'!R49 -> 0 | AD32: ='План-ДСГ-MDC-S,T'!Q50 -> 0 | AE32: ='План-ДСГ-MDC-S,T'!R50 -> 0 | AF32: ='План-ДСГ-MDC-S,T'!Q51 -> 0 | AG32: ='План-ДСГ-MDC-S,T'!R51 -> 0
A33: 20 | B33: U40-U68 | C33: ДУШЕВНИ БОЛЕСТИ И ПОРЕМЕТУВАЊА | D33: ='План-ДСГ-MDC-U'!E49 -> 0 | E33: ='План-ДСГ-MDC-U'!F49 -> 0 | F33: ='План-ДСГ-MDC-U'!E50 -> 0 | G33: ='План-ДСГ-MDC-U'!F50 -> 0 | H33: ='План-ДСГ-MDC-U'!E51 -> 0 | I33: ='План-ДСГ-MDC-U'!F51 -> 0 | J33: ='План-ДСГ-MDC-U'!H49 -> 0 | K33: ='План-ДСГ-MDC-U'!I49 -> 0 | L33: ='План-ДСГ-MDC-U'!H50 -> 0 | M33: ='План-ДСГ-MDC-U'!I50 -> 0 | N33: ='План-ДСГ-MDC-U'!H51 -> 0 | O33: ='План-ДСГ-MDC-U'!F51 -> 0 | P33: ='План-ДСГ-MDC-U'!K49 -> 0 | Q33: ='План-ДСГ-MDC-U'!L49 -> 0 | R33: ='План-ДСГ-MDC-U'!K50 -> 0 | S33: ='План-ДСГ-MDC-U'!L50 -> 0 | T33: ='План-ДСГ-MDC-U'!K51 -> 0 | U33: ='План-ДСГ-MDC-U'!L51 -> 0 | V33: ='План-ДСГ-MDC-U'!N49 -> 0 | W33: ='План-ДСГ-MDC-U'!O49 -> 0 | X33: ='План-ДСГ-MDC-U'!N50 -> 0 | Y33: ='План-ДСГ-MDC-U'!O50 -> 0 | Z33: ='План-ДСГ-MDC-U'!N51 -> 0 | AA33: ='План-ДСГ-MDC-U'!O51 -> 0 | AB33: ='План-ДСГ-MDC-U'!Q49 -> 0 | AC33: ='План-ДСГ-MDC-U'!R49 -> 0 | AD33: ='План-ДСГ-MDC-U'!Q50 -> 0 | AE33: ='План-ДСГ-MDC-U'!R50 -> 0 | AF33: ='План-ДСГ-MDC-U'!Q51 -> 0 | AG33: ='План-ДСГ-MDC-U'!R51 -> 0
A34: 21 | B34: V60-V64 | C34: БОЛЕСТИ ПОВРЗАНИ СО АЛКОХОЛ И ДРОГА | D34: ='План-ДСГ-MDC-V'!E49 -> 0 | E34: ='План-ДСГ-MDC-V'!F49 -> 0 | F34: ='План-ДСГ-MDC-V'!E50 -> 0 | G34: ='План-ДСГ-MDC-V'!F50 -> 0 | H34: ='План-ДСГ-MDC-V'!E51 -> 0 | I34: ='План-ДСГ-MDC-V'!F51 -> 0 | J34: ='План-ДСГ-MDC-V'!H49 -> 0 | K34: ='План-ДСГ-MDC-V'!I49 -> 0 | L34: ='План-ДСГ-MDC-V'!H50 -> 0 | M34: ='План-ДСГ-MDC-V'!I50 -> 0 | N34: ='План-ДСГ-MDC-V'!H51 -> 0 | O34: ='План-ДСГ-MDC-V'!I51 -> 0 | P34: ='План-ДСГ-MDC-V'!K49 -> 0 | Q34: ='План-ДСГ-MDC-V'!L49 -> 0 | R34: ='План-ДСГ-MDC-V'!K50 -> 0 | S34: ='План-ДСГ-MDC-V'!L50 -> 0 | T34: ='План-ДСГ-MDC-V'!K51 -> 0 | U34: ='План-ДСГ-MDC-V'!L51 -> 0 | V34: ='План-ДСГ-MDC-V'!N49 -> 0 | W34: ='План-ДСГ-MDC-V'!O49 -> 0 | X34: ='План-ДСГ-MDC-V'!N50 -> 0 | Y34: ='План-ДСГ-MDC-V'!O50 -> 0 | Z34: ='План-ДСГ-MDC-V'!N51 -> 0 | AA34: ='План-ДСГ-MDC-V'!O51 -> 0 | AB34: ='План-ДСГ-MDC-V'!Q49 -> 0 | AC34: ='План-ДСГ-MDC-V'!R49 -> 0 | AD34: ='План-ДСГ-MDC-V'!Q50 -> 0 | AE34: ='План-ДСГ-MDC-V'!R50 -> 0 | AF34: ='План-ДСГ-MDC-V'!Q51 -> 0 | AG34: ='План-ДСГ-MDC-V'!R51 -> 0
A35: 22 | B35: W01-W61 X01-X64 | C35: ПОВРЕДИ,ТРУЕЊЕ И ТОКСИЧНО ДЕЈСТВО НА ЛЕКОВИ | D35: ='План-ДСГ-MDC-W,X'!E49 -> 0 | E35: ='План-ДСГ-MDC-W,X'!F49 -> 0 | F35: ='План-ДСГ-MDC-W,X'!E50 -> 0 | G35: ='План-ДСГ-MDC-W,X'!F50 -> 0 | H35: ='План-ДСГ-MDC-W,X'!E51 -> 0 | I35: ='План-ДСГ-MDC-W,X'!F51 -> 0 | J35: ='План-ДСГ-MDC-W,X'!H49 -> 0 | K35: ='План-ДСГ-MDC-W,X'!I49 -> 0 | L35: ='План-ДСГ-MDC-W,X'!H50 -> 0 | M35: ='План-ДСГ-MDC-W,X'!I50 -> 0 | N35: ='План-ДСГ-MDC-W,X'!H51 -> 0 | O35: ='План-ДСГ-MDC-W,X'!I51 -> 0 | P35: ='План-ДСГ-MDC-W,X'!K49 -> 0 | Q35: ='План-ДСГ-MDC-W,X'!L49 -> 0 | R35: ='План-ДСГ-MDC-W,X'!K50 -> 0 | S35: ='План-ДСГ-MDC-W,X'!L50 -> 0 | T35: ='План-ДСГ-MDC-Y'!K51 -> 0 | U35: ='План-ДСГ-MDC-W,X'!L51 -> 0 | V35: ='План-ДСГ-MDC-W,X'!N49 -> 0 | W35: ='План-ДСГ-MDC-W,X'!O49 -> 0 | X35: ='План-ДСГ-MDC-W,X'!N50 -> 0 | Y35: ='План-ДСГ-MDC-W,X'!O50 -> 0 | Z35: ='План-ДСГ-MDC-W,X'!N51 -> 0 | AA35: ='План-ДСГ-MDC-W,X'!O51 -> 0 | AB35: ='План-ДСГ-MDC-W,X'!Q49 -> 0 | AC35: ='План-ДСГ-MDC-W,X'!R49 -> 0 | AD35: ='План-ДСГ-MDC-W,X'!Q50 -> 0 | AE35: ='План-ДСГ-MDC-W,X'!R50 -> 0 | AF35: ='План-ДСГ-MDC-W,X'!Q51 -> 0 | AG35: ='План-ДСГ-MDC-W,X'!R51 -> 0
A36: 23 | B36: Y01-Y62 | C36: ИЗГОРЕНИЦИ | D36: ='План-ДСГ-MDC-Y'!E49 -> 0 | E36: ='План-ДСГ-MDC-Y'!F49 -> 0 | F36: ='План-ДСГ-MDC-Y'!E50 -> 0 | G36: ='План-ДСГ-MDC-Y'!F50 -> 0 | H36: ='План-ДСГ-MDC-Y'!E51 -> 0 | I36: ='План-ДСГ-MDC-Y'!F51 -> 0 | J36: ='План-ДСГ-MDC-Y'!H49 -> 0 | K36: ='План-ДСГ-MDC-Y'!I49 -> 0 | L36: ='План-ДСГ-MDC-Y'!H50 -> 0 | M36: ='План-ДСГ-MDC-Y'!I50 -> 0 | N36: ='План-ДСГ-MDC-Y'!H51 -> 0 | O36: ='План-ДСГ-MDC-Y'!I51 -> 0 | P36: ='План-ДСГ-MDC-Y'!K49 -> 0 | Q36: ='План-ДСГ-MDC-Y'!L49 -> 0 | R36: ='План-ДСГ-MDC-Y'!K50 -> 0 | S36: ='План-ДСГ-MDC-Y'!L50 -> 0 | T36: ='План-ДСГ-MDC-Y'!K51 -> 0 | U36: ='План-ДСГ-MDC-Y'!L51 -> 0 | V36: ='План-ДСГ-MDC-Y'!N49 -> 0 | W36: ='План-ДСГ-MDC-Y'!O49 -> 0 | X36: ='План-ДСГ-MDC-Y'!N50 -> 0 | Y36: ='План-ДСГ-MDC-Y'!O50 -> 0 | Z36: ='План-ДСГ-MDC-Y'!N51 -> 0 | AA36: ='План-ДСГ-MDC-Y'!O51 -> 0 | AB36: ='План-ДСГ-MDC-Y'!Q49 -> 0 | AC36: ='План-ДСГ-MDC-Y'!R49 -> 0 | AD36: ='План-ДСГ-MDC-Y'!Q50 -> 0 | AE36: ='План-ДСГ-MDC-Y'!R50 -> 0 | AF36: ='План-ДСГ-MDC-Y'!Q51 -> 0 | AG36: ='План-ДСГ-MDC-Y'!R51 -> 0
A37: 24 | B37: Z01-Z65 | C37: ОСТАНАТИ ФАКТОРИ КОИ ВЛИЈААТ НА ЗДРАВЈЕТО | D37: ='План-ДСГ-MDC-Z'!E49 -> 0 | E37: ='План-ДСГ-MDC-Z'!F49 -> 0 | F37: ='План-ДСГ-MDC-Z'!E50 -> 0 | G37: ='План-ДСГ-MDC-Z'!F50 -> 0 | H37: ='План-ДСГ-MDC-Z'!E51 -> 0 | I37: ='План-ДСГ-MDC-Z'!F51 -> 0 | J37: ='План-ДСГ-MDC-Z'!H49 -> 0 | K37: ='План-ДСГ-MDC-Z'!I49 -> 0 | L37: ='План-ДСГ-MDC-Z'!H50 -> 0 | M37: ='План-ДСГ-MDC-Z'!I50 -> 0 | N37: ='План-ДСГ-MDC-Z'!H51 -> 0 | O37: ='План-ДСГ-MDC-Z'!I51 -> 0 | P37: ='План-ДСГ-MDC-Z'!K49 -> 0 | Q37: ='План-ДСГ-MDC-Z'!L49 -> 0 | R37: ='План-ДСГ-MDC-Z'!K50 -> 0 | S37: ='План-ДСГ-MDC-Z'!L50 -> 0 | T37: ='План-ДСГ-MDC-Z'!K51 -> 0 | U37: ='План-ДСГ-MDC-Z'!L51 -> 0 | V37: ='План-ДСГ-MDC-Z'!N49 -> 0 | W37: ='План-ДСГ-MDC-Z'!O49 -> 0 | X37: ='План-ДСГ-MDC-Z'!N50 -> 0 | Y37: ='План-ДСГ-MDC-Z'!O50 -> 0 | Z37: ='План-ДСГ-MDC-Z'!N51 -> 0 | AA37: ='План-ДСГ-MDC-Z'!O51 -> 0 | AB37: ='План-ДСГ-MDC-Z'!Q49 -> 0 | AC37: ='План-ДСГ-MDC-Z'!R49 -> 0 | AD37: ='План-ДСГ-MDC-Z'!Q50 -> 0 | AE37: ='План-ДСГ-MDC-Z'!R50 -> 0 | AF37: ='План-ДСГ-MDC-Z'!Q51 -> 0 | AG37: ='План-ДСГ-MDC-Z'!R51 -> 0
A38: 27
C39: ВКУПНО | D39: =SUM(D14:D38) -> 0 | E39: =SUM(E14:E38) -> 0 | F39: =SUM(F14:F38) -> 0 | G39: =SUM(G14:G38) -> 0 | H39: =SUM(H14:H38) -> 0 | I39: =SUM(I14:I38) -> 0 | J39: =SUM(J14:J38) -> 0 | K39: =SUM(K14:K38) -> 0 | ... AG39: =SUM(AG14:AG38) -> 0
C41: ДСГ здравствени услуги по тип на нега (сите главни дијагностички категории/ сите ДСГ групи)
C42: тип на нега | D42: План за 2026 | J42: 2025 (Реализација јануари- септември и проекција до декември) | L42: 2024
D43: I полугодие | F43: II полугодие | H43: Вкупно
D44: бр. на случаи | E44: % од бр. на случаи | F44: бр. на случаи | G44: % од бр. на случаи | H44: бр. на случаи | I44: % од бр. на случаи | J44: бр. на случаи | K44: % од бр. на случаи | L44: бр. на случаи | M44: % од бр. на случаи
C45: Хируршки ДСГ групи | D45: =SUM(D14:D38) -> 0 | E45: =D45/(D45+D46+D47) -> #DIV/0! | F45: =SUM(J14:J38) -> 0 | G45: =F45/(F45+F46+F47) -> #DIV/0! | H45: =SUM(P14:P38) -> 0 | I45: =H45/(H45+H46+H47) -> #DIV/0! | J45: =SUM(V14:V38) -> 0 | K45: =J45/(J45+J46+J47) -> #DIV/0! | L45: =SUM(AB14:AB38) -> 0 | M45: =L45/(L45+L46+L47) -> #DIV/0!
C46: Интернистички ДСГ групи | D46: =SUM(F14:F38) -> 0 | E46: =D46/(D46+D47+D45) -> #DIV/0! | F46: =SUM(L14:L38) -> 0 | G46: =F46/(F46+F47+F45) -> #DIV/0! | H46: =SUM(R14:R38) -> 0 | I46: =H46/(H46+H47+H45) -> #DIV/0! | J46: =SUM(X14:X38) -> 0 | K46: =J46/(J46+J47+J45) -> #DIV/0! | L46: =SUM(AD14:AD38) -> 0 | M46: =L46/(L46+L47+L45) -> #DIV/0!
C47: Останати ДСГ групи | D47: =SUM(H14:H38) -> 0 | E47: =D47/(D45+D46+D47) -> #DIV/0! | F47: =SUM(N14:N38) -> 0 | G47: =F47/(F45+F46+F47) -> #DIV/0! | H47: =SUM(T14:T38) -> 0 | I47: =H47/(H45+H46+H47) -> #DIV/0! | J47: =SUM(Z14:Z38) -> 0 | K47: =J47/(J45+J46+J47) -> #DIV/0! | L47: =SUM(AF14:AF38) -> 0 | M47: =L47/(L45+L46+L47) -> #DIV/0!
C48: ВКУПНО ДСГ услуги | D48: =SUM(D45:D47) -> 0 | F48: =SUM(F45:F47) -> 0 | H48: =SUM(H45:H47) -> 0 | J48: =SUM(J45:J47) -> 0 | L48: =SUM(L45:L47) -> 0
A50: Во _____________________на _________________ година. | D50: Составил,_______________________
I52: Д и р е к т о р,
I53: ______________
