Workbook

Sheet ПЛ 2-С
B1: ЈЗУ и ПЗУ | K1: ПЛ 2 - С (oстанати)
C3: Здравствена установа:
B5: П Л А Н
B6: ЗА ЗАВРШЕНИ ПАКЕТИ ОД ОБЛАСТА НА НЕВРОХИРУРГИЈА И ИНТЕРВЕНТНА РАДИОЛОГИЈА
B7: по видот и обемот на здравствени услуги на осигурените лица за | G7: година.
C8: за ДЕЈНОСТА
E10: 2025 година | F10: 2026 година | I10: 2027 година
A11: Р.бр. | B11: Шифра на пакет | C11: Назив на здравствена услуга | D11: референтна цена | E11: годишно | F11: I полугодие | G11: II полугодие | H11: Вкупен износ | I11: Број на случаи / пациенти | L11: Вкупен износ
E12: реализиран вкупен износ | F12: реализиран вкупен износ | G12: проекција вкупен износ | I12: I полугодие | J12: II полугодие | K12: Вкупно
A13: 1 | B13: 2 | C13: 3 | D13: 4 | E13: 5 | F13: 6 | G13: 7 | H13: 8 (6+7) | I13: 9 | J13: 10 | K13: 11 (9+10) | L13: 12 (4*11)
A14: 1 | B14: НРА1 | C14: =IF(N14>2, VLOOKUP(B14,ref_ceni!$B$5:$D$36,2,FALSE),"") -> Емболизација на мозочни анавризми од 1-3 Коили | D14: =IF(N14>0,VLOOKUP(B14,ref_ceni!$B$5:$D$36,3,FALSE),"") -> 389700 | H14: =F14+G14 -> 0 | K14: =I14+J14 -> 0 | L14: =IF(N14>= 2,K14*D14,0) -> 0 | N14: =LEN(B14) -> 4
A15: 2 | B15: НРА2 | C15: =IF(N15>2, VLOOKUP(B15,ref_ceni!$B$5:$D$36,2,FALSE),"") -> Емболизација на мозочни анавризми од 4-6 Коили | D15: =IF(N15>0,VLOOKUP(B15,ref_ceni!$B$5:$D$36,3,FALSE),"") -> 647300 | H15: =F15+G15 -> 0 | K15: =I15+J15 -> 0 | L15: =IF(N15>= 2,K15*D15,0) -> 0 | N15: =LEN(B15) -> 4
A16: 3 | B16: НРА3 | C16: =IF(N16>2, VLOOKUP(B16,ref_ceni!$B$5:$D$36,2,FALSE),"") -> Емболизација на мозочни анавризми од 7-9 Коили | D16: =IF(N16>0,VLOOKUP(B16,ref_ceni!$B$5:$D$36,3,FALSE),"") -> 904800 | H16: =F16+G16 -> 0 | K16: =I16+J16 -> 0 | L16: =IF(N16>= 2,K16*D16,0) -> 0 | N16: =LEN(B16) -> 4
A17: 4 | B17: НРА4 | C17: =IF(N17>2, VLOOKUP(B17,ref_ceni!$B$5:$D$36,2,FALSE),"") -> Емболизација на мозочни анавризми од 10-12 Коили | D17: =IF(N17>0,VLOOKUP(B17,ref_ceni!$B$5:$D$36,3,FALSE),"") -> 1162400 | H17: =F17+G17 -> 0 | K17: =I17+J17 -> 0 | L17: =IF(N17>= 2,K17*D17,0) -> 0 | N17: =LEN(B17) -> 4
A18: 5 | B18: НРА5 | C18: =IF(N18>2, VLOOKUP(B18,ref_ceni!$B$5:$D$36,2,FALSE),"") -> Емболизација на мозочни анавризми над 12 Коили | D18: =IF(N18>0,VLOOKUP(B18,ref_ceni!$B$5:$D$36,3,FALSE),"") -> 1334100 | H18: =F18+G18 -> 0 | K18: =I18+J18 -> 0 | L18: =IF(N18>= 2,K18*D18,0) -> 0 | N18: =LEN(B18) -> 4
A19: 6 | B19: НРА6 | C19: =IF(N19>2, VLOOKUP(B19,ref_ceni!$B$5:$D$36,2,FALSE),"") -> Поставување на насочувач на проток (flow diverter) во мозочни крвни садови | D19: =IF(N19>0,VLOOKUP(B19,ref_ceni!$B$5:$D$36,3,FALSE),"") -> 818100 | H19: =F19+G19 -> 0 | K19: =I19+J19 -> 0 | L19: =IF(N19>= 2,K19*D19,0) -> 0 | N19: =LEN(B19) -> 4
A20: 7 | B20: НРА7 | C20: =IF(N20>2, VLOOKUP(B20,ref_ceni!$B$5:$D$36,2,FALSE),"") -> Поставување на стент во мозочни крвни садови | D20: =IF(N20>0,VLOOKUP(B20,ref_ceni!$B$5:$D$36,3,FALSE),"") -> 273000 | H20: =F20+G20 -> 0 | K20: =I20+J20 -> 0 | L20: =IF(N20>= 2,K20*D20,0) -> 0 | N20: =LEN(B20) -> 4
A21: 8 | B21: НРА8 | C21: =IF(N21>2, VLOOKUP(B21,ref_ceni!$B$5:$D$36,2,FALSE),"") -> Механичка тромбектомија при акутен исхемичен мозочен удар (со еден стент ретривер) | D21: =IF(N21>0,VLOOKUP(B21,ref_ceni!$B$5:$D$36,3,FALSE),"") -> 566375 | H21: =F21+G21 -> 0 | K21: =I21+J21 -> 0 | L21: =IF(N21>= 2,K21*D21,0) -> 0 | N21: =LEN(B21) -> 4
A22: 9 | B22: НРА9 | C22: =IF(N22>2, VLOOKUP(B22,ref_ceni!$B$5:$D$36,2,FALSE),"") -> Механичка тромбектомија при акутен исхемичен мозочен удар (со два стент ретривери) | D22: =IF(N22>0,VLOOKUP(B22,ref_ceni!$B$5:$D$36,3,FALSE),"") -> 834375 | H22: =F22+G22 -> 0 | K22: =I22+J22 -> 0 | L22: =IF(N22>= 2,K22*D22,0) -> 0 | N22: =LEN(B22) -> 4
C23: Вкупно | E23: =SUM(E14:E22) -> 0 | F23: =SUM(F14:F22) -> 0 | G23: =SUM(G14:G22) -> 0 | H23: =SUM(H14:H22) -> 0 | I23: =SUM(I14:I22) -> 0 | J23: =SUM(J14:J22) -> 0 | K23: =SUM(K14:K22) -> 0 | L23: =SUM(L14:L22) -> 0
B27: Во | D27: година. | H27: Д и р е к т о р
B29: Составил:

Sheet ref_ceni
A2: РЕФЕРЕНТНИ ЦЕНИ ЗА НЕВРОХИРУРГИЈА И ИНТЕРВЕНТНА РАДИОЛОГИЈА
A4: Р.бр. | B4: Шифра | C4: Вид на здравствена услуга | D4: референтна цена | E4: СЛУЖБЕН ВЕСНИК | F4: забелешка
A5: 4 | C5: Пакети на завршени здравствени услуги од болничка з.з. од областа на неврохирургија и интервентна радиологија
B6: НРА1 | C6: Емболизација на мозочни анавризми од 1-3 Коили | D6: 389700 | E6: бр. 107 од 06.06.2016 | F6: Забелешка: Пакетот НРА7 може да се комбинира со еден од пакетите од НРА1 до НРА5. Во примена од 14.06.2016 година
B7: НРА2 | C7: Емболизација на мозочни анавризми од 4-6 Коили | D7: 647300 | E7: бр. 107 од 06.06.2016
B8: НРА3 | C8: Емболизација на мозочни анавризми од 7-9 Коили | D8: 904800 | E8: бр. 107 од 06.06.2016
B9: НРА4 | C9: Емболизација на мозочни анавризми од 10-12 Коили | D9: 1162400 | E9: бр. 107 од 06.06.2016
B10: НРА5 | C10: Емболизација на мозочни анавризми над 12 Коили | D10: 1334100 | E10: бр. 107 од 06.06.2016
B11: НРА6 | C11: Поставување на насочувач на проток (flow diverter) во мозочни крвни садови | D11: 818100 | E11: бр. 107 од 06.06.2016
B12: НРА7 | C12: Поставување на стент во мозочни крвни садови | D12: 273000 | E12: бр. 107 од 06.06.2016
B13: НРА8 | C13: Механичка тромбектомија при акутен исхемичен мозочен удар (со еден стент ретривер) | D13: 566375 | E13: бр. 70 од 04.04.2019 | F13: во примена од 05.04.2019
B14: НРА9 | C14: Механичка тромбектомија при акутен исхемичен мозочен удар (со два стент ретривери) | D14: 834375 | E14: бр. 70 од 04.04.2019
