Workbook

Sheet ПЛ-2 СС
C1: ЈЗУ и ПЗУ | K1: ПЛ 2 - СС
C3: Здравствена установа:
B5: П Л А Н
B6: по видот и обемот на здравствени услуги на осигурените лица за | H6: година.
B8: ЗА СПЕЦИЈАЛИСТИЧКО-КОНСУЛТАТИВНA СТОМАТОЛОШКА ЗДРАВСТВЕНA ЗАШТИТА
C9: за ДЕЈНОСТА
E11: 2025 година | F11: 2026 година | I11: 2027 година
A12: Р.бр. | B12: Шифра на пакет | C12: НАЗИВ НА ЗДРАВСТВЕНА УСЛУГА / ПАКЕТ | D12: референтна цена | E12: годишно | F12: I полугодие | G12: II полугодие | H12: Вкупен износ | I12: Број на случаи / пациенти | L12: Вкупен износ
E13: реализиран вкупен износ | F13: реализиран вкупен износ | G13: проекција вкупен износ | I13: I полугодие | J13: II полугодие | K13: Вкупно
A14: 1 | B14: 2 | C14: 3 | D14: 4 | E14: 5 | F14: 6 | G14: 7 | H14: 8 (6+7) | I14: 9 | J14: 10 | K14: 11 (9+10) | L14: 12 (4*11)
A15: 1 | C15: =IF(N15>2, VLOOKUP(B15,ref_ceni!$B$7:$D$211,2,FALSE),"") | D15: =IF(N15>0,VLOOKUP(B15,ref_ceni!$B$7:$D$211,3,FALSE),"") | H15: =F15+G15 -> 0 | K15: =I15+J15 -> 0 | L15: =IF(N15>= 2,K15*D15,0) -> 0 | N15: =LEN(B15) -> 0
A16: 2 | C16: =IF(N16>2, VLOOKUP(B16,ref_ceni!$B$7:$D$211,2,FALSE),"") | D16: =IF(N16>0,VLOOKUP(B16,ref_ceni!$B$7:$D$211,3,FALSE),"") | H16: =F16+G16 -> 0 | K16: =I16+J16 -> 0 | L16: =IF(N16>= 2,K16*D16,0) -> 0 | N16: =LEN(B16) -> 0
A17: 3 | C17: =IF(N17>2, VLOOKUP(B17,ref_ceni!$B$7:$D$211,2,FALSE),"") | D17: =IF(N17>0,VLOOKUP(B17,ref_ceni!$B$7:$D$211,3,FALSE),"") | H17: =F17+G17 -> 0 | K17: =I17+J17 -> 0 | L17: =IF(N17>= 2,K17*D17,0) -> 0 | N17: =LEN(B17) -> 0
A18: 4 | C18: =IF(N18>2, VLOOKUP(B18,ref_ceni!$B$7:$D$211,2,FALSE),"") | D18: =IF(N18>0,VLOOKUP(B18,ref_ceni!$B$7:$D$211,3,FALSE),"") | H18: =F18+G18 -> 0 | K18: =I18+J18 -> 0 | L18: =IF(N18>= 2,K18*D18,0) -> 0 | N18: =LEN(B18) -> 0
A19: 5 | C19: =IF(N19>2, VLOOKUP(B19,ref_ceni!$B$7:$D$211,2,FALSE),"") | D19: =IF(N19>0,VLOOKUP(B19,ref_ceni!$B$7:$D$211,3,FALSE),"") | H19: =F19+G19 -> 0 | K19: =I19+J19 -> 0 | L19: =IF(N19>= 2,K19*D19,0) -> 0 | N19: =LEN(B19) -> 0
A20: 6 | C20: =IF(N20>2, VLOOKUP(B20,ref_ceni!$B$7:$D$211,2,FALSE),"") | D20: =IF(N20>0,VLOOKUP(B20,ref_ceni!$B$7:$D$211,3,FALSE),"") | H20: =F20+G20 -> 0 | K20: =I20+J20 -> 0 | L20: =IF(N20>= 2,K20*D20,0) -> 0 | N20: =LEN(B20) -> 0
A21: 7 | C21: =IF(N21>2, VLOOKUP(B21,ref_ceni!$B$7:$D$211,2,FALSE),"") | D21: =IF(N21>0,VLOOKUP(B21,ref_ceni!$B$7:$D$211,3,FALSE),"") | H21: =F21+G21 -> 0 | K21: =I21+J21 -> 0 | L21: =IF(N21>= 2,K21*D21,0) -> 0 | N21: =LEN(B21) -> 0
A22: 8 | C22: =IF(N22>2, VLOOKUP(B22,ref_ceni!$B$7:$D$211,2,FALSE),"") | D22: =IF(N22>0,VLOOKUP(B22,ref_ceni!$B$7:$D$211,3,FALSE),"") | H22: =F22+G22 -> 0 | K22: =I22+J22 -> 0 | L22: =IF(N22>= 2,K22*D22,0) -> 0 | N22: =LEN(B22) -> 0
A23: 9 | C23: =IF(N23>2, VLOOKUP(B23,ref_ceni!$B$7:$D$211,2,FALSE),"") | D23: =IF(N23>0,VLOOKUP(B23,ref_ceni!$B$7:$D$211,3,FALSE),"") | H23: =F23+G23 -> 0 | K23: =I23+J23 -> 0 | L23: =IF(N23>= 2,K23*D23,0) -> 0 | N23: =LEN(B23) -> 0
A24: 10 | C24: =IF(N24>2, VLOOKUP(B24,ref_ceni!$B$7:$D$211,2,FALSE),"") | D24: =IF(N24>0,VLOOKUP(B24,ref_ceni!$B$7:$D$211,3,FALSE),"") | H24: =F24+G24 -> 0 | K24: =I24+J24 -> 0 | L24: =IF(N24>= 2,K24*D24,0) -> 0 | N24: =LEN(B24) -> 0
A25: 11 | C25: =IF(N25>2, VLOOKUP(B25,ref_ceni!$B$7:$D$211,2,FALSE),"") | D25: =IF(N25>0,VLOOKUP(B25,ref_ceni!$B$7:$D$211,3,FALSE),"") | H25: =F25+G25 -> 0 | K25: =I25+J25 -> 0 | L25: =IF(N25>= 2,K25*D25,0) -> 0 | N25: =LEN(B25) -> 0
A26: 12 | C26: =IF(N26>2, VLOOKUP(B26,ref_ceni!$B$7:$D$211,2,FALSE),"") | D26: =IF(N26>0,VLOOKUP(B26,ref_ceni!$B$7:$D$211,3,FALSE),"") | H26: =F26+G26 -> 0 | K26: =I26+J26 -> 0 | L26: =IF(N26>= 2,K26*D26,0) -> 0 | N26: =LEN(B26) -> 0
... A44: 30 | C44: =IF(N44>2, VLOOKUP(B44,ref_ceni!$B$7:$D$211,2,FALSE),"") | D44: =IF(N44>0,VLOOKUP(B44,ref_ceni!$B$7:$D$211,3,FALSE),"") | H44: =F44+G44 -> 0 | K44: =I44+J44 -> 0 | L44: =IF(N44>= 2,K44*D44,0) -> 0 | N44: =LEN(B44) -> 0
C45: Вкупно | E45: =SUM(E15:E44) -> 0 | F45: =SUM(F15:F44) -> 0 | G45: =SUM(G15:G44) -> 0 | H45: =SUM(H15:H44) -> 0 | I45: =SUM(I15:I44) -> 0 | J45: =SUM(J15:J44) -> 0 | K45: =SUM(K15:K44) -> 0 | L45: =SUM(L15:L44) -> 0
B49: Во | D49: година. | H49: Д и р е к т о р
B51: Составил:

Sheet ref_ceni
A2: РЕФЕРЕНТНИ ЦЕНИ НА ЗДРАВСТЕВНИ УСЛУГИ ВО СТОМАТОЛОШКА СПЕЦИЈАЛИСТИЧКО - КОНСУЛТАТИВНA ЗДРАВСТВЕНА ЗАШТИТА
A4: Р.БР | B4: шифра | C4: Назив на завршената услуга | D4: РЕФЕРЕНТНА ЦЕНА | E4: СЛУЖБЕН ВЕСНИК | F4: забелешка
A5: 1 | C5: ЦЕНИ НА ЗАВРШЕНИ УСЛУГИ ВО ОРАЛНА ХИРУРГИЈА
B6: ОРА01 | C6: Вадење длабоко скршен заб | D6: 1550 | E6: бр. 277 од 25.12.2023 | F6: во примена од 02.01.2024
B7: ОРА02 | C7: Вадење на заб или ендоосален имплант со остеотомија | D7: 2345 | E7: бр. 277 од 25.12.2023 | F7: во примена од 02.01.2024
B8: ОРА03 | C8: Вадење на ретиниран, импактиран или длабоко положен заб со остеотомија | D8: 3286 | E8: бр. 277 од 25.12.2023 | F8: во примена од 02.01.2024
B9: ОРА04 | C9: Хируршка ревизија на рана | D9: 1757 | E9: бр. 277 од 25.12.2023 | F9: во примена од 02.01.2024
B10: ОРА05 | C10: Инцизија (флегмона) | D10: 1935 | E10: бр. 277 од 25.12.2023 | F10: во примена од 02.01.2024
B11: ОРА06 | C11: Циркумцизија и ексцизија на лигавица | D11: 1394 | E11: бр. 277 од 25.12.2023 | F11: во примена од 02.01.2024
B12: ОРА07 | C12: Ексцизија на голем израсток на лигавица (фиброн епулис) | D12: 2068 | E12: бр. 277 од 25.12.2023 | F12: во примена од 02.01.2024
B13: ОРА08 | C13: Туберпластика | D13: 3106 | E13: бр. 277 од 25.12.2023 | F13: во примена од 02.01.2024
B14: ОРА09 | C14: Хемиресекција | D14: 2531 | E14: бр. 277 од 25.12.2023 | F14: во примена од 02.01.2024
B15: ОРА10 | C15: Реимплантација на заб | D15: 2368 | E15: бр. 277 од 25.12.2023 | F15: во примена од 02.01.2024
B16: ОРА11 | C16: Трансплантација на заб | D16: 2585 | E16: бр. 277 од 25.12.2023 | F16: во примена од 02.01.2024
B17: ОРА12 | C17: Имплантација | D17: 1881 | E17: бр. 277 од 25.12.2023 | F17: во примена од 02.01.2024
... B53: ОРА48 | C53: Отстранување на одонтом | D53: 2380 | E53: бр. 277 од 25.12.2023 | F53: во примена од 02.01.2024
A54: 2 | C54: ЦЕНИ НА ЗАВРШЕНИ УСЛУГИ ВО ПРОТЕТИКА
B55: PRO01 | C55: Тотална протеза од акрилат горна | D55: 11117 | E55: бр. 277 од 25.12.2023 | F55: во примена од 02.01.2024
B56: PRO02 | C56: Тотална протеза од акрилат долна | D56: 11117 | E56: бр. 277 од 25.12.2023 | F56: во примена од 02.01.2024
B57: PRO03 | C57: Парцијална протеза од акрилат горна | D57: 11349 | E57: бр. 277 од 25.12.2023 | F57: во примена од 02.01.2024
B58: PRO04 | C58: Парцијална протеза од акрилат долна | D58: 11349 | E58: бр. 277 од 25.12.2023 | F58: во примена од 02.01.2024
B59: PRO05 | C59: Едноделна леана фасетирана коронка | D59: 2136 | E59: бр. 277 од 25.12.2023 | F59: во примена од 02.01.2024
B60: PRO06 | C60: Репаратура на протеза (парцијална и тотална) од акрилат без отисок | D60: 2176 | E60: бр. 277 од 25.12.2023 | F60: во примена од 02.01.2024
B61: PRO07 | C61: Репаратура на протеза од акрилат со отисок | D61: 3909 | E61: бр. 277 од 25.12.2023 | F61: во примена од 02.01.2024
B62: PRO08 | C62: Репаратура по МОМЕ | D62: 4920 | E62: бр. 277 од 25.12.2023 | F62: во примена од 02.01.2024
B63: PRO09 | C63: Репаратура по МОМЕ со дефект | D63: 5905 | E63: бр. 277 од 25.12.2023 | F63: во примена од 02.01.2024
B64: PRO10 | C64: Продолжување на протеза (индиректна метода) | D64: 3588 | E64: бр. 277 од 25.12.2023 | F64: во примена од 02.01.2024
B65: PRO11 | C65: Корекција на протеза | D65: 1688 | E65: бр. 277 од 25.12.2023 | F65: во примена од 02.01.2024
B66: PRO12 | C66: Леана надоградба | D66: 3726 | E66: бр. 277 од 25.12.2023 | F66: во примена од 02.01.2024
... B68: PRO14 | C68: Продолжување на протеза (директна метода) | D68: 2290 | E68: бр. 277 од 25.12.2023 | F68: во примена од 02.01.2024
A69: 3 | C69: ЦЕНИ НА ЗАВРШЕНИ УСЛУГИ ВО ОРТОДОНЦИЈА
B70: ORT01 | C70: Активен горен апарат | D70: 8776 | E70: бр. 277 од 25.12.2023 | F70: во примена од 02.01.2024
B71: ORT02 | C71: Активен апарат долен | D71: 8776 | E71: бр. 277 од 25.12.2023 | F71: во примена од 02.01.2024
B72: ORT03 | C72: Пасивен подвижен апарат - моноблок | D72: 9995 | E72: бр. 277 од 25.12.2023 | F72: во примена од 02.01.2024
B73: ORT04 | C73: пасивен ортодонтски апарат - пропулзор | D73: 9939 | E73: бр. 277 од 25.12.2023 | F73: во примена од 02.01.2024
B74: ORT05 | C74: Коса рамнина (индиректна метода) | D74: 7468 | E74: бр. 277 од 25.12.2023 | F74: во примена од 02.01.2024
B75: ORT06 | C75: Функционален апарат по Frankel, Balters, Grude | D75: 10980 | E75: бр. 277 од 25.12.2023 | F75: во примена од 02.01.2024
B76: ORT07 | C76: Брадодржалка со капа | D76: 4214 | E76: бр. 277 од 25.12.2023 | F76: во примена од 02.01.2024
B77: ORT08 | C77: Совети за вежби со помагала и миофункционални вежби | D77: 1326 | E77: бр. 277 од 25.12.2023 | F77: во примена од 02.01.2024
B78: ORT10 | C78: Репаратура со отисок | D78: 2711 | E78: бр. 277 од 25.12.2023 | F78: во примена од 02.01.2024
B79: ORT11 | C79: Студио модел за дијагностика | E79: бр. 164 од 07.08.2025 | F79: престанува да важи од 15.08.2025
B80: ORT12 | C80: Селективно состружување и/или регулација на оклузија | D80: 2072 | E80: бр. 277 од 25.12.2023 | F80: во примена од 02.01.2024
B81: ORT13 | C81: Ретенционен апарат | D81: 4551 | E81: бр. 277 од 25.12.2023 | F81: во примена од 02.01.2024
B82: ORT14 | C82: Реадаптација на подвижни апарати | D82: 739 | E82: бр. 277 од 25.12.2023 | F82: во примена од 02.01.2024
B83: ORT15 | C83: Вестибуларна плоча - индивидуална | D83: 4821 | E83: бр. 277 од 25.12.2023 | F83: во примена од 02.01.2024
B84: ORT16 | C84: Вестибуларна плоча - конфекциска | D84: 3309 | E84: бр. 277 од 25.12.2023 | F84: во примена од 02.01.2024
B85: ORT17 | C85: Оптуратор | D85: 3120 | E85: бр. 277 од 25.12.2023 | F85: во примена од 02.01.2024
B86: ORT18 | C86: Специјалистички ортодонтски преглед | D86: 670 | E86: бр. 277 од 25.12.2023 | F86: во примена од 02.01.2024
B87: ORT19 | C87: Специјалистички ортодонтски контролен преглед | D87: 400 | E87: бр. 277 од 25.12.2023 | F87: во примена од 02.01.2024
A88: Р.БР | B88: Шифра | C88: НАЗИВ НА ПАКЕТИ НА ЗДРАВСТВЕНИ УСЛУГИ ЗА СТОМАТОЛОШКИ КЛИНИЧКИ ЦЕНТАР | D88: РЕФЕРЕНТНА ЦЕНА | E88: СЛУЖБЕН ВЕСНИК | F88: забелешка
A89: 1 | C89: Пакети на завршени специјалистичко - консултативни услуги од областа на детска стоматологија ЗА СТОМАТОЛОШКИ КЛИНИЧКИ ЦЕНТАР
B90: ДСТ01 | C90: Специјалистички преглед со утврдување на дијагноза за циркуларен кариес, чистење на меки и тврди наслаги кај сите заби и полирање и флуоризација кај деца до 3 годишна возраст | D90: 1350 | E90: бр.87 од 23.04.2026 | F90: во примена од 01.05.2026
B91: ДСТ02 | C91: Специјалистички преглед со залевање на фисури кај деца до 3 годишна возраст до 8 заба | D91: 1430 | E91: бр.87 од 23.04.2026 | F91: во примена од 01.05.2026
B92: ДСТ03 | C92: Специјалистички преглед за утврдување на неправилности во развојот и структурата на забите и/или заболување на пародонтот, отстранување на меки и тврди наслаги и анализа на панорамикс | D92: 1280 | E92: бр.87 од 23.04.2026 | F92: во примена од 01.05.2026
B93: ДСТ04 | C93: Реставрација на еден заб при неправилност во форма, големина и структура при општо или системско заболување/траума без експонирана пулпа | D93: 1670 | E93: бр.87 од 23.04.2026 | F93: во примена од 01.05.2026
B94: ДСТ05А | C94: Специјалистички преглед и конзервативен третман на кариес на млечен заб (пломбирање) со и без третман на кариес профунда | D94: 1450 | E94: бр.87 од 23.04.2026 | F94: во примена од 01.05.2026
B95: ДСТ05Б | C95: Специјалистички преглед и конзервативен третман на кариес на млечен заб (пломбирање) со и без третман на кариес профунда за специфични случаи | D95: 1680 | E95: бр.87 од 23.04.2026 | F95: во примена од 01.05.2026
B96: ДСТ06А | C96: Специјалистички преглед со ендодонтски третман на млечен заб со примена на витална метода, односно со мортална метода, односно при пулпити со чистење на кариес и апликација на средство за девитализација и ПРИВРЕМЕНО затворање на забот | D96: 1400 | E96: бр.87 од 23.04.2026 | F96: во примена од 01.05.2026
B97: ДСТ06Б | C97: Специјалистички преглед со ендодонтски третман на млечен заб со примена на витална метода, односно со мортална метода, односно при пулпити, со трепанација, екстирпација т.е ампутација, чистење и ширење на канали, канално полнење т.е ампутациона паста и ДЕФИНИТИВНО затворање (пломбирање) на забот | D97: 1650 | E97: бр.87 од 23.04.2026 | F97: во примена од 01.05.2026
B98: ДСТ07 | C98: Ендодонтски третман на заб со незавршен раст на корен со пломбирање или контрола и ревизија на полнењето и пломбирање на заб со незавршен раст на корен | D98: 2570 | E98: бр.87 од 23.04.2026 | F98: во примена од 01.05.2026
B99: ДСТ08 | C99: Третман на авулзија/екструзија на заб со незавршен раст на корен (по 2 часа од траумата) со два контролни прегледа и отстранување на шината | D99: 3100 | E99: бр.87 од 23.04.2026 | F99: во примена од 01.05.2026
B100: ДСТ09 | C100: Екстракција на заб кај пациент со општо или системско заболување до 18 години | D100: 1700 | E100: бр.87 од 23.04.2026 | F100: во примена од 01.05.2026
B101: ДСТ10 | C101: Пломбирање на заби кај лица со посебни потреби до 3 заба | D101: 2900 | E101: бр.87 од 23.04.2026 | F101: во примена од 01.05.2026
... B118: ДСТ24 | C118: Третман на фрактура на млечен заб | D118: 1660 | E118: бр.87 од 23.04.2026 | F118: во примена од 01.05.2026
A119: 2 | C119: Пакети и услуги од специјалистичко консултативната забоздравствена заштита од областа на орална патологија и пародонтологија (болести на устата и парадонтот) ЗА СТОМАТОЛОШКИ КЛИНИЧКИ ЦЕНТАР
B120: БУС01 | C120: Специјалистички преглед утврдување на заболување на парадонтот и негови компликации (наод и мислење) | D120: 1140 | E120: бр.87 од 23.04.2026 | F120: во примена од 01.05.2026
B121: БУС02 | C121: Обработка (длабока киретажа) на парадонтален џеб по регија до 6 заба со чистење на забен камен | D121: 1240 | E121: бр.87 од 23.04.2026 | F121: во примена од 01.05.2026
B122: БУС03 | C122: Обработка (длабока киретажа) на парадонтален џеб по регија до 14 заба со чистење на забен камен | D122: 1580 | E122: бр.87 од 23.04.2026 | F122: во примена од 01.05.2026
B123: БУС04 | C123: Обработка (длабока киретажа) на парадонтален џеб по регија над 14 заба со чистење на забен камен | D123: 2870 | E123: бр.87 од 23.04.2026 | F123: во примена од 01.05.2026
B124: БУС05 | C124: Хируршки зафат на хипетрофична гингива (гингивектомија) со контрола | D124: 1440 | E124: бр.87 од 23.04.2026 | F124: во примена од 01.05.2026
B125: БУС06 | C125: Хируршки зафат за продлабочување на вестибулум (периостална сепарација) со контрола и вадење на конци | D125: 1800 | E125: бр.87 од 23.04.2026 | F125: во примена од 01.05.2026
B126: БУС07 | C126: Основен специјалистички пакет за преглед, мислење и третман на локални промени на ниво на орална лигавица | D126: 1140 | E126: бр.87 од 23.04.2026 | F126: во примена од 01.05.2026
B127: БУС10 | C127: Специјалистички преглед и мислење за орални фокуси и фокални инфекции, анализа на РТГ снимка, Гелен-ов тест | D127: 1140 | E127: бр.87 од 23.04.2026 | F127: во примена од 01.05.2026
B128: БУС11 | C128: Хируршки зафат FLAP (по регија) со контрола | D128: 3300 | E128: бр.87 од 23.04.2026 | F128: во примена од 01.05.2026
B129: БУС12 | C129: Проширен пакет за преглед, мислење и третман на заболување на оралната лигавица со анализа на брис за цитологија, анализа на резултат од алерголошки испитувања и контролен преглед (две посети) | D129: 1460 | E129: бр.87 од 23.04.2026 | F129: во примена од 01.05.2026
B130: БУС13 | C130: Хируршки зафат за земање на материјал за биопсија со контролен преглед (две посети) | D130: 1940 | E130: бр.87 од 23.04.2026 | F130: во примена од 01.05.2026
B131: БУС14 | C131: Терапија на орална лигавица со отстранување на тврди и меки наслаги, остри забни ивици, рани контакти на оклузија и артикулација и контрола (две посети) | D131: 1680 | E131: бр.87 од 23.04.2026 | F131: во примена од 01.05.2026
... B137: БУС20 | C137: Ексцизија на промени нa орална лигавица со каутеризација | D137: 1670 | E137: бр.87 од 23.04.2026 | F137: во примена од 01.05.2026
A138: 3 | C138: Пакети на завршени специјалистичко - консултативни услуги од областа на болести на заби и ендодонтот - ЗА СТОМАТОЛОШКИ КЛИНИЧКИ ЦЕНТАР
B139: БЗ01 | C139: Ендодонтска терапија на еднокорен заб | D139: 1840 | E139: бр.87 од 23.04.2026 | F139: во примена од 01.05.2026
B140: БЗ02 | C140: Ендодонтска терапија на повеќекорен заб | D140: 2090 | E140: бр.87 од 23.04.2026 | F140: во примена од 01.05.2026
B141: БЗ03 | C141: Терапија на интерен гранулом | D141: 2210 | E141: бр.87 од 23.04.2026 | F141: во примена од 01.05.2026
B142: БЗ04 | C142: Ендодонтска терапија на компликации од протетска рехабилитација | D142: 2220 | E142: бр.87 од 23.04.2026 | F142: во примена од 01.05.2026
B143: БЗ05 | C143: Ендодонтски третман на периапикални лезии | D143: 2580 | E143: бр.87 од 23.04.2026 | F143: во примена од 01.05.2026
B144: БЗ06 | C144: Ретретман на ендодонтски третирани заби | D144: 2550 | E144: бр.87 од 23.04.2026 | F144: во примена од 01.05.2026
B145: БЗ07 | C145: Третман на рест пулпит | D145: 2180 | E145: бр.87 од 23.04.2026 | F145: во примена од 01.05.2026
B146: БЗ08 | C146: Подготовка на заб за интраканален имплант | D146: 2170 | E146: бр.87 од 23.04.2026 | F146: во примена од 01.05.2026
B147: БЗ08А | C147: Демонтирање на постоечко радикуларно колче | D147: 1580 | E147: бр.87 од 23.04.2026 | F147: во примена од 01.05.2026
B148: БЗ09 | C148: Поставување на парапулпални колчиња кај витални заби со дефинитивно полнење | D148: 1880 | E148: бр.87 од 23.04.2026 | F148: во примена од 01.05.2026
B149: БЗ10 | C149: Специјалистичко консултативен преглед | D149: 990 | E149: бр.87 од 23.04.2026 | F149: во примена од 01.05.2026
B150: БЗ11 | C150: Специјалистички контролен преглед | D150: 940 | E150: бр.87 од 23.04.2026 | F150: во примена од 01.05.2026
... B152: БЗ13 | C152: Третман на фрактура со експонирана пулпа (три фази) | D152: 1830 | E152: бр.87 од 23.04.2026 | F152: во примена од 01.05.2026
