Workbook

Sheet Почетна страна
B2: П Л А Н
B3: на видот и обемот на ДСГ здравствени услуги и пакети за завршени здравствени услуги во болничка здравствена заштита (акутни болнички случаи кои не се искажуваат според ДС методата) на осигурените лица
B5: Главна дијагностичка категорија (ДСГ групи: A01-A42) ТРАНСПЛАНТАЦИИ, ЕКСПЛАНТАЦИЈА, МЕХАНИЧКА ВЕНТИЛАЦИЈА И СЛ.
B6: Главна дијагностичка категорија (ДСГ групи: B01-B81) БОЛЕСТИ И ПОРЕМЕТУВАЊА НА НЕРВНИОТ СИСТЕМ
B7: Главна дијагностичка категорија (ДСГ групи: C01-C63, Пакети ХОМ1-ХОМ14) БОЛЕСТИ И ПОРЕМЕТУВАЊА НА ОКОТО
B8: Главна дијагностичка категорија (ДСГ групи: D01-D67) БОЛЕСТИ И ПОРЕМЕТУВАЊА НА УВО НОС И ГРЛО
B9: Главна дијагностичка категорија (ДСГ групи: E01-E75, ТБЦ1-ТБЦ3) БОЛЕСТИ И ПОРЕМЕТУВАЊА НА РЕСПИРАТОРЕН СИСТЕМ
B10: Главна дијагностичка категорија (ДСГ групи: F01-F75, РТС1-РТС2, БЛК1-БЛК11) БОЛЕСТИ И ПОРЕМЕТУВАЊА НА ЦИРКУЛАТОРЕН СИСТЕМ
B11: Главна дијагностичка категорија (ДСГ групи: G01-G70, БЛГ1) БОЛЕСТИ И ПОРЕМЕТУВАЊА НА ДИГЕСТИВЕН СИСТЕМ
B12: Главна дијагностичка категорија (ДСГ групи: H01-H64) БОЛЕСТИ И ПОРЕМЕТУВАЊЕ НА ХЕПАТОБИЛИЈАРЕН СИСТЕМ И ПАНКРЕАС
B13: Главна дијагностичка категорија (ДСГ групи: I01-I79, БЛО1-БЛО2) БОЛЕСТИ И ПОРЕМЕТУВАЊА НА МУСКУЛНО-КОСКЕН И СВРЗЕН СИСТЕМ
B14: Главна дијагностичка категорија (ДСГ групи: J01-J68, ХПД1-ХПД6) БОЛЕСТИ И ПОРЕМЕТУВАЊА НА КОЖАТА ПОТКОЖНОТО ТКИВО И ДОЈКАТА
... B28: Главна дијагностичка категорија (ДСГ групи: Z01-Z65) ОСТАНАТИ ФАКТОРИ КОИ ВЛИЈААТ НА ЗДРАВЈЕТО

Sheet План-ДСГ-MDC-A
A1: Универзитетски клиники, клинички болници, општи болници, специјални болници | M1: ПЛ 3 - ДСГ MDC-A | Q1: Врати се на почетна страна
C3: Здравствена установа:
C5: П Л А Н
C6: на видот и обемот на ДСГ здравствени услуги и пакети за завршени здравствени услуги во болничка здравствена заштита (акутни болнички случаи кои не се искажуваат според ДС методата) на осигурените лица за
I7: година.
C9: Главна дијагностичка категорија (PRE-MDC: A01-A42) ТРАНСПЛАНТАЦИИ, ЕКСПЛАНТАЦИЈА, МЕХАНИЧКА ВЕНТИЛАЦИЈА И СЛ.
A11: Ред. Број | B11: Шифра на ДСГ услуга | C11: Назив на ДСГ услуга | D11: Референтнa ценa | E11: План за 2027 година | M11: 2026 година (Реализација јануари- септември и проекција до декември) | P11: Реализација за 2025 година
E12: I полугодие | G12: II полугодие | J12: Вкупно
E13: бр. на случаи | F13: износ по ДСГ | G13: бр. на случаи | H13: износ по ДСГ | J13: бр. на услуги | K13: износ по ДСГ | M13: Вкупен бр. на услуги | N13: Вкупен износ по ДСГ | P13: Вкупен бр. на услуги | Q13: Вкупен износ по ДСГ
A14: 1 | B14: 2 | C14: 3 | D14: 4 | E14: 5 | F14: 6 | G14: 7 | H14: 8 | J14: 9 (5+7) | K14: 10 (4*9) | M14: 11 | N14: 12 (4*11) | P14: 13 | Q14: 14 (4*13)
A15: 1 | B15: A01Z | C15: Трансплантација на црн дроб | D15: 2721300 | F15: =E15*D15 -> 0 | I15: =G15*D15 -> 0 | J15: =E15+G15 -> 0 | L15: =J15*D15 -> 0 | O15: =M15*D15 -> 0 | R15: =P15*D15 -> 0
A16: 2 | B16: A03Z | C16: Трансплантација на бел дроб или на срце/бел дроб | D16: 594410 | F16: =E16*D16 -> 0 | I16: =G16*D16 -> 0 | J16: =E16+G16 -> 0 | L16: =J16*D16 -> 0 | O16: =M16*D16 -> 0 | R16: =P16*D16 -> 0
A17: 3 | B17: A05Z | C17: Трансплантација на срце | D17: 2349500 | F17: =E17*D17 -> 0 | I17: =G17*D17 -> 0 | J17: =E17+G17 -> 0 | L17: =J17*D17 -> 0 | O17: =M17*D17 -> 0 | R17: =P17*D17 -> 0
A18: 4 | B18: A06A | C18: Трахеостомија и вентилација поголема од 96 часа | D18: 350750 | F18: =E18*D18 -> 0 | I18: =G18*D18 -> 0 | J18: =E18+G18 -> 0 | L18: =J18*D18 -> 0 | O18: =M18*D18 -> 0 | R18: =P18*D18 -> 0
A19: 5 | B19: A06B | C19: Трахеостомија и вентилација помала од 96 часа | D19: 40388 | F19: =E19*D19 -> 0 | I19: =G19*D19 -> 0 | J19: =E19+G19 -> 0 | L19: =J19*D19 -> 0 | O19: =M19*D19 -> 0 | R19: =P19*D19 -> 0
A20: 6 | B20: A07Z | C20: Алогенична трансплантација на коскена срж од сроден донор | D20: 983700 | F20: =E20*D20 -> 0 | I20: =G20*D20 -> 0 | J20: =E20+G20 -> 0 | L20: =J20*D20 -> 0 | O20: =M20*D20 -> 0 | R20: =P20*D20 -> 0
A21: 7 | B21: A08A | C21: Автологна транасплантација на коскена срж со катастрофални КК | D21: 818174 | F21: =E21*D21 -> 0 | I21: =G21*D21 -> 0 | J21: =E21+G21 -> 0 | L21: =J21*D21 -> 0 | O21: =M21*D21 -> 0 | R21: =P21*D21 -> 0
A22: 8 | B22: A08B | C22: Автологна транасплантација на коскена срж без катастрофални КК | D22: 559100 | F22: =E22*D22 -> 0 | I22: =G22*D22 -> 0 | J22: =E22+G22 -> 0 | L22: =J22*D22 -> 0 | O22: =M22*D22 -> 0 | R22: =P22*D22 -> 0
A23: 9 | B23: A09A | C23: Трансплантација на бубрег со трансплантација на панкреас или со катастрофални КК | D23: 1115995 | F23: =E23*D23 -> 0 | I23: =G23*D23 -> 0 | J23: =E23+G23 -> 0 | L23: =J23*D23 -> 0 | O23: =M23*D23 -> 0 | R23: =P23*D23 -> 0
A24: 10 | B24: A09B | C24: Трансплантација на бубрег без трансплантација на панкреас , без катастрофални КК | D24: 747143 | F24: =E24*D24 -> 0 | I24: =G24*D24 -> 0 | J24: =E24+G24 -> 0 | L24: =J24*D24 -> 0 | O24: =M24*D24 -> 0 | R24: =P24*D24 -> 0
A25: 11 | B25: A10Z | C25: Трансплантација на рожница | D25: 228481 | F25: =E25*D25 -> 0 | I25: =G25*D25 -> 0 | J25: =E25+G25 -> 0 | L25: =J25*D25 -> 0 | O25: =M25*D25 -> 0 | R25: =P25*D25 -> 0
A26: 12 | B26: A11Z | C26: Припрема на донор, мултиорганска експлантација и експлантација на ткиво | D26: 315250 | F26: =E26*D26 -> 0 | I26: =G26*D26 -> 0 | J26: =E26+G26 -> 0 | L26: =J26*D26 -> 0 | O26: =M26*D26 -> 0 | R26: =P26*D26 -> 0
... A34: 20 | B34: A42Z | C34: Серолошка обработка на донорот на органи/ткива | D34: 13581 | F34: =E34*D34 -> 0 | I34: =G34*D34 -> 0 | J34: =E34+G34 -> 0 | L34: =J34*D34 -> 0 | O34: =M34*D34 -> 0 | R34: =P34*D34 -> 0
A35: 21
A36: 22
A37: 23
A38: 24
A39: 25
A40: 26
A41: 27
A42: 28
A43: 29
A44: 30
C45: ВКУПНО | E45: =SUM(E15:E44) -> 0 | F45: =SUM(F15:F44) -> 0 | G45: =SUM(G15:G44) -> 0 | H45: =SUM(I15:I44) -> 0 | J45: =SUM(J15:J44) -> 0 | K45: =SUM(L15:L44) -> 0 | M45: =SUM(M15:M44) -> 0 | N45: =SUM(O15:O44) -> 0 | P45: =SUM(P15:P44) -> 0 | Q45: =SUM(R15:R44) -> 0
B47: ДСГ здравствени услуги по тип на нега
B48: Шифра на ДСГ група | C48: тип на нега | E48: План за 2026 година | N48: 2025 година (Реализација јануари- септември и проекција до декември) | Q48: Реализација за 2024 година
E49: I полугодие | H49: II полугодие | K49: Вкупно
E50: бр. на случаи | F50: Износ | G50: % од бр. на случаи | H50: бр. на случаи | I50: Износ | J50: % од бр. на случаи | K50: бр. на случаи | L50: Износ | M50: % од бр. на случаи | N50: бр. на случаи | O50: Износ | P50: % од бр. на случаи | Q50: бр. на случаи | R50: Износ | S50: % од бр. на случаи
B51: A01-A15 | C51: Хируршки ДСГ групи | E51: =SUM(E15:E30) -> 0 | F51: =SUM(F15:F30) -> 0 | G51: =E51/$E$45 -> #DIV/0! | H51: =SUM(G15:G30) -> 0 | I51: =SUM(I15:I30) -> 0 | J51: =H51/$G$45 -> #DIV/0! | K51: =SUM(J15:J30) -> 0 | L51: =SUM(L15:L30) -> 0 | M51: =K51/$J$45 -> #DIV/0! | N51: =SUM(M15:M30) -> 0 | O51: =SUM(O15:O30) -> 0 | P51: =N51/$M$45 -> #DIV/0! | Q51: =SUM(P15:P30) -> 0 | R51: =SUM(R15:R30) -> 0 | S51: =Q51/$P$45 -> #DIV/0!
B52: нема | C52: Медицински (интернистички) ДСГ групи | E52: 0 | F52: 0 | G52: =E52/$E$45 -> #DIV/0! | H52: 0 | I52: 0 | J52: =H52/$G$45 -> #DIV/0! | K52: 0 | L52: 0 | M52: =K52/$J$45 -> #DIV/0! | N52: 0 | O52: 0 | P52: =N52/$M$45 -> #DIV/0! | Q52: 0 | R52: 0 | S52: =Q52/$P$45 -> #DIV/0!
B53: A40-A42 | C53: Останати ДСГ групи | E53: =SUM(E31:E34) -> 0 | F53: =SUM(F31:F34) -> 0 | G53: =E53/$E$45 -> #DIV/0! | H53: =SUM(G31:G34) -> 0 | I53: =SUM(I31:I34) -> 0 | J53: =H53/$G$45 -> #DIV/0! | K53: =SUM(J31:J34) -> 0 | L53: =SUM(L31:L34) -> 0 | M53: =K53/$J$45 -> #DIV/0! | N53: =SUM(M31:M34) -> 0 | O53: =SUM(O31:O34) -> 0 | P53: =N53/$M$45 -> #DIV/0! | Q53: =SUM(P31:P34) -> 0 | R53: =SUM(R31:R34) -> 0 | S53: =Q53/$P$45 -> #DIV/0!
B56: Во | D56: година. | H56: Д и р е к т о р
B58: Составил:

Sheet План-ДСГ-MDC-B
A1: Универзитетски клиники, клинички болници, општи болници, специјални болници | M1: ПЛ 3 - ДСГ MDC-B | Q1: Врати се на почетна страна
C3: Здравствена установа:
C5: П Л А Н
C6: на видот и обемот на ДСГ здравствени услуги и пакети за завршени здравствени услуги во болничка здравствена заштита (акутни болнички случаи кои не се искажуваат според ДС методата) на осигурените лица за
I7: година.
C9: Главна дијагностичка категорија (MDC: B01-B81) БОЛЕСТИ И ПОРЕМЕТУВАЊА НА НЕРВНИОТ СИСТЕМ
A11: Ред. Број | B11: Шифра на ДСГ услуга | C11: Назив на ДСГ услуга | D11: Референтнa ценa | E11: План за 2027 година | M11: 2026 година (Реализација јануари- септември и проекција до декември) | P11: Реализација за 2025 година
E12: I полугодие | G12: II полугодие | J12: Вкупно
E13: бр. на случаи | F13: износ по ДСГ | G13: бр. на случаи | H13: износ по ДСГ | J13: бр. на услуги | K13: износ по ДСГ | M13: Вкупен бр. на услуги | N13: Вкупен износ по ДСГ | P13: Вкупен бр. на услуги | Q13: Вкупен износ по ДСГ
A14: 1 | B14: 2 | C14: 3 | D14: 4 | E14: 5 | F14: 6 | G14: 7 | H14: 8 | J14: 9 (5+7) | K14: 10 (4*9) | M14: 11 | N14: 12 (4*11) | P14: 13 | Q14: 14 (4*13)
A15: 1 | B15: B01Z | C15: Ревизија на вентрикуларен шант | D15: 60008 | F15: =E15*D15 -> 0 | I15: =G15*D15 -> 0 | J15: =E15+G15 -> 0 | L15: =J15*D15 -> 0 | O15: =M15*D15 -> 0 | R15: =P15*D15 -> 0
A16: 2 | B16: B02A | C16: Краниотомија со катастрофални КК | D16: 132210 | F16: =E16*D16 -> 0 | I16: =G16*D16 -> 0 | J16: =E16+G16 -> 0 | L16: =J16*D16 -> 0 | O16: =M16*D16 -> 0 | R16: =P16*D16 -> 0
A17: 3 | B17: B02B | C17: Краниотомија со тешки или умерени КК | D17: 105967 | F17: =E17*D17 -> 0 | I17: =G17*D17 -> 0 | J17: =E17+G17 -> 0 | L17: =J17*D17 -> 0 | O17: =M17*D17 -> 0 | R17: =P17*D17 -> 0
A18: 4 | B18: B02C | C18: Краниотомија без КК | D18: 102121 | F18: =E18*D18 -> 0 | I18: =G18*D18 -> 0 | J18: =E18+G18 -> 0 | L18: =J18*D18 -> 0 | O18: =M18*D18 -> 0 | R18: =P18*D18 -> 0
A19: 5 | B19: B03A | C19: Спинални процедури со катастрофални или тешки КК | D19: 106722 | F19: =E19*D19 -> 0 | I19: =G19*D19 -> 0 | J19: =E19+G19 -> 0 | L19: =J19*D19 -> 0 | O19: =M19*D19 -> 0 | R19: =P19*D19 -> 0
A20: 6 | B20: B03B | C20: Спинални процедури без катастрофални или тешки КК | D20: 54172 | F20: =E20*D20 -> 0 | I20: =G20*D20 -> 0 | J20: =E20+G20 -> 0 | L20: =J20*D20 -> 0 | O20: =M20*D20 -> 0 | R20: =P20*D20 -> 0
A21: 7 | B21: B04A | C21: Екстракранијални васкуларни процедури со катастрофални или тешки КК | D21: 143119 | F21: =E21*D21 -> 0 | I21: =G21*D21 -> 0 | J21: =E21+G21 -> 0 | L21: =J21*D21 -> 0 | O21: =M21*D21 -> 0 | R21: =P21*D21 -> 0
A22: 8 | B22: B04B | C22: Екстракранијални васкуларни процедури без катастрофални или тешки КК | D22: 136464 | F22: =E22*D22 -> 0 | I22: =G22*D22 -> 0 | J22: =E22+G22 -> 0 | L22: =J22*D22 -> 0 | O22: =M22*D22 -> 0 | R22: =P22*D22 -> 0
A23: 9 | B23: B05Z | C23: Ослободување од Карпал Тунел синдром | D23: 9179 | F23: =E23*D23 -> 0 | I23: =G23*D23 -> 0 | J23: =E23+G23 -> 0 | L23: =J23*D23 -> 0 | O23: =M23*D23 -> 0 | R23: =P23*D23 -> 0
A24: 10 | B24: B06A | C24: Процедури за церебрална одземеност, мускулна дистрофија, невропатија со катастрофални или тешки КК | D24: 83947 | F24: =E24*D24 -> 0 | I24: =G24*D24 -> 0 | J24: =E24+G24 -> 0 | L24: =J24*D24 -> 0 | O24: =M24*D24 -> 0 | R24: =P24*D24 -> 0
A25: 11 | B25: B06B | C25: Процедури за церебрална одземеност, мускулна дистрофија, невропатија без катастрофални или тешки КК | D25: 34500 | F25: =E25*D25 -> 0 | I25: =G25*D25 -> 0 | J25: =E25+G25 -> 0 | L25: =J25*D25 -> 0 | O25: =M25*D25 -> 0 | R25: =P25*D25 -> 0
A26: 12 | B26: B07A | C26: Процедури на периферни и кранијални нерви и други процедури на нервен систем со КК | D26: 55162 | F26: =E26*D26 -> 0 | I26: =G26*D26 -> 0 | J26: =E26+G26 -> 0 | L26: =J26*D26 -> 0 | O26: =M26*D26 -> 0 | R26: =P26*D26 -> 0
... A67: 53 | B67: B81B | C67: Други пореметувања на нервниот систем без катастрофални или тешки КК | D67: 19191 | F67: =E67*D67 -> 0 | I67: =G67*D67 -> 0 | J67: =E67+G67 -> 0 | L67: =J67*D67 -> 0 | O67: =M67*D67 -> 0 | R67: =P67*D67 -> 0
C69: ВКУПНО | E69: =SUM(E15:E68) -> 0 | F69: =SUM(F15:F68) -> 0 | G69: =SUM(G15:G68) -> 0 | H69: =SUM(I15:I68) -> 0 | J69: =SUM(J15:J68) -> 0 | K69: =SUM(L15:L68) -> 0 | M69: =SUM(M15:M68) -> 0 | N69: =SUM(O15:O68) -> 0 | P69: =SUM(P15:P68) -> 0 | Q69: =SUM(R15:R68) -> 0
B71: ДСГ здравствени услуги по тип на нега
B72: Шифра на ДСГ група | C72: тип на нега | E72: План за 2026 година | N72: 2025 година (Реализација јануари- септември и проекција до декември) | Q72: Реализација за 2024 година
E73: I полугодие | H73: II полугодие | K73: Вкупно
E74: бр. на случаи | F74: Износ | G74: % од бр. на случаи | H74: бр. на случаи | I74: Износ | J74: % од бр. на случаи | K74: бр. на случаи | L74: Износ | M74: % од бр. на случаи | N74: бр. на случаи | O74: Износ | P74: % од бр. на случаи | Q74: бр. на случаи | R74: Износ | S74: % од бр. на случаи
B75: B01-B07 | C75: Хируршки ДСГ групи | E75: =SUM(E15:E27) -> 0 | F75: =SUM(F15:F27) -> 0 | G75: =E75/$E$69 -> #DIV/0! | H75: =SUM(G15:G27) -> 0 | I75: =SUM(I15:I27) -> 0 | J75: =H75/$G$69 -> #DIV/0! | K75: =SUM(J15:J27) -> 0 | L75: =SUM(L15:L27) -> 0 | M75: =K75/$J$69 -> #DIV/0! | N75: =SUM(M15:M27) -> 0 | O75: =SUM(O15:O27) -> 0 | P75: =N75/$M$69 -> #DIV/0! | Q75: =SUM(P15:P27) -> 0 | R75: =SUM(R15:R27) -> 0 | S75: =Q75/$P$69 -> #DIV/0!
B76: B60-B81 | C76: Медицински (интернистички) ДСГ групи | E76: =SUM(E30:E68) -> 0 | F76: =SUM(F30:F68) -> 0 | G76: =E76/$E$69 -> #DIV/0! | H76: =SUM(G30:G68) -> 0 | I76: =SUM(I30:I68) -> 0 | J76: =H76/$G$69 -> #DIV/0! | K76: =SUM(J30:J68) -> 0 | L76: =SUM(L30:L68) -> 0 | M76: =K76/$J$69 -> #DIV/0! | N76: =SUM(M30:M68) -> 0 | O76: =SUM(O30:O68) -> 0 | P76: =N76/$M$69 -> #DIV/0! | Q76: =SUM(P30:P68) -> 0 | R76: =SUM(R30:R68) -> 0 | S76: =Q76/$P$69 -> #DIV/0!
B77: B40-B41 | C77: Останати ДСГ групи | E77: =SUM(E28:E29) -> 0 | F77: =SUM(F28:F29) -> 0 | G77: =E77/$E$69 -> #DIV/0! | H77: =SUM(G28:G29) -> 0 | I77: =SUM(I28:I29) -> 0 | J77: =H77/$G$69 -> #DIV/0! | K77: =SUM(J28:J29) -> 0 | L77: =SUM(L28:L29) -> 0 | M77: =K77/$J$69 -> #DIV/0! | N77: =SUM(M28:M29) -> 0 | O77: =SUM(O28:O29) -> 0 | P77: =N77/$M$69 -> #DIV/0! | Q77: =SUM(P28:P29) -> 0 | R77: =SUM(R28:R29) -> 0 | S77: =Q77/$P$69 -> #DIV/0!
B80: Во | D80: година. | H80: Д и р е к т о р
B82: Составил:

Sheet План-ДСГ-MDC-C
A1: Универзитетски клиники, клинички болници, општи болници, специјални болници | M1: ПЛ 3 - ДСГ MDC-C | Q1: Врати се на почетна страна
C3: Здравствена установа:
C5: П Л А Н
C6: на видот и обемот на ДСГ здравствени услуги и пакети за завршени здравствени услуги во болничка здравствена заштита (акутни болнички случаи кои не се искажуваат според ДС методата) на осигурените лица за
I7: година.
C9: Главна дијагностичка категорија (MDC: C01-C63, ХОМ1-ХОМ14) БОЛЕСТИ И ПОРЕМЕТУВАЊА НА ОКОТО
A11: Ред. Број | B11: Шифра на ДСГ услуга | C11: Назив на ДСГ услуга | D11: Референтнa ценa | E11: План за 2027 година | M11: 2026 година (Реализација јануари- септември и проекција до декември) | P11: Реализација за 2025 година
E12: I полугодие | G12: II полугодие | J12: Вкупно
E13: бр. на случаи | F13: износ по ДСГ | G13: бр. на случаи | H13: износ по ДСГ | J13: бр. на услуги | K13: износ по ДСГ | M13: Вкупен бр. на услуги | N13: Вкупен износ по ДСГ | P13: Вкупен бр. на услуги | Q13: Вкупен износ по ДСГ
A14: 1 | B14: 2 | C14: 3 | D14: 4 | E14: 5 | F14: 6 | G14: 7 | H14: 8 | J14: 9 (5+7) | K14: 10 (4*9) | M14: 11 | N14: 12 (4*11) | P14: 13 | Q14: 14 (4*13)
A15: 1 | B15: C01Z | C15: Процедури за пенетрирачки повреди на око | D15: 31593 | F15: =E15*D15 -> 0 | I15: =G15*D15 -> 0 | J15: =E15+G15 -> 0 | L15: =J15*D15 -> 0 | O15: =M15*D15 -> 0 | R15: =P15*D15 -> 0
A16: 2 | B16: C02Z | C16: Процедури за отстранување на очно јаболко и процедури на орбитата | D16: 25278 | F16: =E16*D16 -> 0 | I16: =G16*D16 -> 0 | J16: =E16+G16 -> 0 | L16: =J16*D16 -> 0 | O16: =M16*D16 -> 0 | R16: =P16*D16 -> 0
A17: 3 | B17: C03Z | C17: Процедури на мрежницата | D17: 27727 | F17: =E17*D17 -> 0 | I17: =G17*D17 -> 0 | J17: =E17+G17 -> 0 | L17: =J17*D17 -> 0 | O17: =M17*D17 -> 0 | R17: =P17*D17 -> 0
A18: 4 | B18: C04Z | C18: Големи процедури на рожницата, белката и конјуктивата | D18: 24808 | F18: =E18*D18 -> 0 | I18: =G18*D18 -> 0 | J18: =E18+G18 -> 0 | L18: =J18*D18 -> 0 | O18: =M18*D18 -> 0 | R18: =P18*D18 -> 0
A19: 5 | B19: C05Z | C19: Дакриоцисториностомија | D19: 23376 | F19: =E19*D19 -> 0 | I19: =G19*D19 -> 0 | J19: =E19+G19 -> 0 | L19: =J19*D19 -> 0 | O19: =M19*D19 -> 0 | R19: =P19*D19 -> 0
A20: 6 | B20: C10Z | C20: Процедури за страбизам | D20: 19690 | F20: =E20*D20 -> 0 | I20: =G20*D20 -> 0 | J20: =E20+G20 -> 0 | L20: =J20*D20 -> 0 | O20: =M20*D20 -> 0 | R20: =P20*D20 -> 0
A21: 7 | B21: C11Z | C21: Процедури на очниот капак | D21: 13326 | F21: =E21*D21 -> 0 | I21: =G21*D21 -> 0 | J21: =E21+G21 -> 0 | L21: =J21*D21 -> 0 | O21: =M21*D21 -> 0 | R21: =P21*D21 -> 0
A22: 8 | B22: C12Z | C22: Други процедури на рожницата, белката и конјуктивата | D22: 9957 | F22: =E22*D22 -> 0 | I22: =G22*D22 -> 0 | J22: =E22+G22 -> 0 | L22: =J22*D22 -> 0 | O22: =M22*D22 -> 0 | R22: =P22*D22 -> 0
A23: 9 | B23: C13Z | C23: Процедури на солзните жлезди и канали | D23: 7634 | F23: =E23*D23 -> 0 | I23: =G23*D23 -> 0 | J23: =E23+G23 -> 0 | L23: =J23*D23 -> 0 | O23: =M23*D23 -> 0 | R23: =P23*D23 -> 0
A24: 10 | B24: C14Z | C24: Други процедури на окото | D24: 6901 | F24: =E24*D24 -> 0 | I24: =G24*D24 -> 0 | J24: =E24+G24 -> 0 | L24: =J24*D24 -> 0 | O24: =M24*D24 -> 0 | R24: =P24*D24 -> 0
A25: 11 | B25: C15A | C25: Сложени процедури на глауком и катаракта | D25: 17279 | F25: =E25*D25 -> 0 | I25: =G25*D25 -> 0 | J25: =E25+G25 -> 0 | L25: =J25*D25 -> 0 | O25: =M25*D25 -> 0 | R25: =P25*D25 -> 0
A26: 12 | B26: C15B | C26: Сложени процедури на глауком и катаракта, истиот ден | D26: 10773 | F26: =E26*D26 -> 0 | I26: =G26*D26 -> 0 | J26: =E26+G26 -> 0 | L26: =J26*D26 -> 0 | O26: =M26*D26 -> 0 | R26: =P26*D26 -> 0
... A48: 34 | B48: ХОМ14 | C48: Радиална и лимбална кератoтомија на две очи | D48: 25000 | F48: =E48*D48 -> 0 | I48: =G48*D48 -> 0 | J48: =E48+G48 -> 0 | L48: =J48*D48 -> 0 | O48: =M48*D48 -> 0 | R48: =P48*D48 -> 0
C50: ВКУПНО | E50: =SUM(E15:E49) -> 0 | F50: =SUM(F15:F49) -> 0 | G50: =SUM(G15:G49) -> 0 | H50: =SUM(I15:I49) -> 0 | J50: =SUM(J15:J49) -> 0 | K50: =SUM(L15:L49) -> 0 | M50: =SUM(M15:M49) -> 0 | N50: =SUM(O15:O49) -> 0 | P50: =SUM(P15:P49) -> 0 | Q50: =SUM(R15:R49) -> 0
B52: ДСГ здравствени услуги по тип на нега
A53: Шифра на ДСГ група | C53: тип на нега | E53: План за 2026 година | N53: 2025 година (Реализација јануари- септември и проекција до декември) | Q53: Реализација за 2024 година
E54: I полугодие | H54: II полугодие | K54: Вкупно
E55: бр. на случаи | F55: Износ | G55: % од бр. на случаи | H55: бр. на случаи | I55: Износ | J55: % од бр. на случаи | K55: бр. на случаи | L55: Износ | M55: % од бр. на случаи | N55: бр. на случаи | O55: Износ | P55: % од бр. на случаи | Q55: бр. на случаи | R55: Износ | S55: % од бр. на случаи
A56: C01-C17, ХОМ01-ХОМ07, ХОМ09-ХОМ14 | C56: Хируршки ДСГ групи | E56: =SUM(E15:E30)+E37+E38+E39+E40+E41+E43+E44+E45+E46+E47+E48 -> 0 | F56: =SUM(F15:F30)+F37+F38+F39+F40+F41+F43+F44+F45+F46+F47+F48 -> 0 | G56: =E56/$E$50 -> #DIV/0! | H56: =SUM(G15:G30)+G37+G38+G39+G40+G41+G43+G44+G45+G46+G47+G48 -> 0 | I56: =SUM(I15:I30)+I37+I38+I39+I40+I41+I43+I44+I45+I46+I47+I48 -> 0 | J56: =H56/$G$50 -> #DIV/0! | K56: =SUM(J15:J30)+J37+J38+J39+J40+J41+J43+J44+J45+J46+J47+J48 -> 0 | L56: =SUM(L15:L30)+L37+L38+L39+L40+L41+L43+L44+L45+L46+L47+L48 -> 0 | M56: =K56/$J$50 -> #DIV/0! | N56: =SUM(M15:M30)+M37+M38+M39+M40+M41+M43+M44+M45+M46+M47+M48 -> 0 | O56: =SUM(O15:O30)+O37+O38+O39+O40+O41+O43+O44+O45+O46+O47+O48 -> 0 | P56: =N56/$M$50 -> #DIV/0! | Q56: =SUM(P15:P30)+P37+P38+P39+P40+P41+P43+P44+P45+P46+P47+P48 -> 0 | R56: =SUM(R15:R30)+R37+R38+R39+R40+R41+R43+R44+R45+R46+R47+R48 -> 0 | S56: =Q56/$P$50 -> #DIV/0!
A57: C60-C63, ХОМ08 | C57: Медицински (интернистички) ДСГ групи | E57: =SUM(E31:E36)+E42 -> 0 | F57: =SUM(F31:F36)+F42 -> 0 | G57: =E57/$E$50 -> #DIV/0! | H57: =SUM(G31:G36)+G42 -> 0 | I57: =SUM(I31:I36)+I42 -> 0 | J57: =H57/$G$50 -> #DIV/0! | K57: =SUM(J31:J36)+J42 -> 0 | L57: =SUM(L31:L36)+L42 -> 0 | M57: =K57/$J$50 -> #DIV/0! | N57: =SUM(M31:M36)+M42 -> 0 | O57: =SUM(O31:O36)+O42 -> 0 | P57: =N57/$M$50 -> #DIV/0! | Q57: =SUM(P31:P36)+P42 -> 0 | R57: =SUM(R31:R36)+R42 -> 0 | S57: =Q57/$P$50 -> #DIV/0!
A58: нема | C58: Останати ДСГ групи | E58: 0 | F58: 0 | G58: =E58/$E$50 -> #DIV/0! | H58: 0 | I58: 0 | J58: =H58/$G$50 -> #DIV/0! | K58: 0 | L58: 0 | M58: =K58/$J$50 -> #DIV/0! | N58: 0 | O58: 0 | P58: =N58/$M$50 -> #DIV/0! | Q58: 0 | R58: 0 | S58: =Q58/$P$50 -> #DIV/0!
B61: Во | D61: година. | H61: Д и р е к т о р
B63: Составил:

Sheet План-ДСГ-MDC-D
A1: Универзитетски клиники, клинички болници, општи болници, специјални болници | M1: ПЛ 3 - ДСГ MDC-D | Q1: Врати се на почетна страна
C3: Здравствена установа:
C5: П Л А Н
C6: на видот и обемот на ДСГ здравствени услуги и пакети за завршени здравствени услуги во болничка здравствена заштита (акутни болнички случаи кои не се искажуваат според ДС методата) на осигурените лица за
I7: година.
C9: Главна дијагностичка категорија (MDC: D01-D67) БОЛЕСТИ И ПОРЕМЕТУВАЊА НА УВО НОС И ГРЛО
A11: Ред. Број | B11: Шифра на ДСГ услуга | C11: Назив на ДСГ услуга | D11: Референтнa ценa | E11: План за 2027 година | M11: 2026 година (Реализација јануари- септември и проекција до декември) | P11: Реализација за 2025 година
E12: I полугодие | G12: II полугодие | J12: Вкупно
E13: бр. на случаи | F13: износ по ДСГ | G13: бр. на случаи | H13: износ по ДСГ | J13: бр. на услуги | K13: износ по ДСГ | M13: Вкупен бр. на услуги | N13: Вкупен износ по ДСГ | P13: Вкупен бр. на услуги | Q13: Вкупен износ по ДСГ
A14: 1 | B14: 2 | C14: 3 | D14: 4 | E14: 5 | F14: 6 | G14: 7 | H14: 8 | J14: 9 (5+7) | K14: 10 (4*9) | M14: 11 | N14: 12 (4*11) | P14: 13 | Q14: 14 (4*13)
A15: 1 | B15: D01Z | C15: Вградување на кохлеарен имплант | D15: 636400 | F15: =E15*D15 -> 0 | I15: =G15*D15 -> 0 | J15: =E15+G15 -> 0 | L15: =J15*D15 -> 0 | O15: =M15*D15 -> 0 | R15: =P15*D15 -> 0
A16: 2 | B16: D02A | C16: Процедури на глава и врат со катастрофални и тешки КК | D16: 87139 | F16: =E16*D16 -> 0 | I16: =G16*D16 -> 0 | J16: =E16+G16 -> 0 | L16: =J16*D16 -> 0 | O16: =M16*D16 -> 0 | R16: =P16*D16 -> 0
A17: 3 | B17: D02B | C17: Процедури на глава и врат со малигна болест или умерени КК | D17: 48223 | F17: =E17*D17 -> 0 | I17: =G17*D17 -> 0 | J17: =E17+G17 -> 0 | L17: =J17*D17 -> 0 | O17: =M17*D17 -> 0 | R17: =P17*D17 -> 0
A18: 4 | B18: D02C | C18: Процедури на глава и врат без малигна болест и без КК | D18: 28080 | F18: =E18*D18 -> 0 | I18: =G18*D18 -> 0 | J18: =E18+G18 -> 0 | L18: =J18*D18 -> 0 | O18: =M18*D18 -> 0 | R18: =P18*D18 -> 0
A19: 5 | B19: D03Z | C19: Хируршка репарација на расцепена уста или непце | D19: 37168 | F19: =E19*D19 -> 0 | I19: =G19*D19 -> 0 | J19: =E19+G19 -> 0 | L19: =J19*D19 -> 0 | O19: =M19*D19 -> 0 | R19: =P19*D19 -> 0
A20: 6 | B20: D04A | C20: Максиларна хирургија со КК | D20: 55445 | F20: =E20*D20 -> 0 | I20: =G20*D20 -> 0 | J20: =E20+G20 -> 0 | L20: =J20*D20 -> 0 | O20: =M20*D20 -> 0 | R20: =P20*D20 -> 0
A21: 7 | B21: D04B | C21: Максиларна хирургија без КК | D21: 45215 | F21: =E21*D21 -> 0 | I21: =G21*D21 -> 0 | J21: =E21+G21 -> 0 | L21: =J21*D21 -> 0 | O21: =M21*D21 -> 0 | R21: =P21*D21 -> 0
A22: 8 | B22: D05Z | C22: Процедури на паротидна жлезда | D22: 45675 | F22: =E22*D22 -> 0 | I22: =G22*D22 -> 0 | J22: =E22+G22 -> 0 | L22: =J22*D22 -> 0 | O22: =M22*D22 -> 0 | R22: =P22*D22 -> 0
A23: 9 | B23: D06Z | C23: Процедури на синусусите, мастоидот и сложени процедури на средното уво | D23: 27039 | F23: =E23*D23 -> 0 | I23: =G23*D23 -> 0 | J23: =E23+G23 -> 0 | L23: =J23*D23 -> 0 | O23: =M23*D23 -> 0 | R23: =P23*D23 -> 0
A24: 10 | B24: D09Z | C24: Разни процедури на уво, нос, уста и грло | D24: 17494 | F24: =E24*D24 -> 0 | I24: =G24*D24 -> 0 | J24: =E24+G24 -> 0 | L24: =J24*D24 -> 0 | O24: =M24*D24 -> 0 | R24: =P24*D24 -> 0
A25: 11 | B25: D10Z | C25: Процедури на носот | D25: 22280 | F25: =E25*D25 -> 0 | I25: =G25*D25 -> 0 | J25: =E25+G25 -> 0 | L25: =J25*D25 -> 0 | O25: =M25*D25 -> 0 | R25: =P25*D25 -> 0
A26: 12 | B26: D11Z | C26: Тонзилектомија и/или аденоидектомија | D26: 14208 | F26: =E26*D26 -> 0 | I26: =G26*D26 -> 0 | J26: =E26+G26 -> 0 | L26: =J26*D26 -> 0 | O26: =M26*D26 -> 0 | R26: =P26*D26 -> 0
... A42: 28 | B42: D67B | C42: Орални и дентални пореметувања освен ектракции и поправки, истиот ден | D42: 3304 | F42: =E42*D42 -> 0 | I42: =G42*D42 -> 0 | J42: =E42+G42 -> 0 | L42: =J42*D42 -> 0 | O42: =M42*D42 -> 0 | R42: =P42*D42 -> 0
C44: ВКУПНО | E44: =SUM(E15:E43) -> 0 | F44: =SUM(F15:F43) -> 0 | G44: =SUM(G15:G43) -> 0 | H44: =SUM(I15:I43) -> 0 | J44: =SUM(J15:J43) -> 0 | K44: =SUM(L15:L43) -> 0 | M44: =SUM(M15:M43) -> 0 | N44: =SUM(O15:O43) -> 0 | P44: =SUM(P15:P43) -> 0 | Q44: =SUM(R15:R43) -> 0
B46: ДСГ здравствени услуги по тип на нега
B47: Шифра на ДСГ група | C47: тип на нега | E47: План за 2026 година | N47: 2025 година (Реализација јануари- септември и проекција до декември) | Q47: Реализација за 2024 година
E48: I полугодие | H48: II полугодие | K48: Вкупно
E49: бр. на случаи | F49: Износ | G49: % од бр. на случаи | H49: бр. на случаи | I49: Износ | J49: % од бр. на случаи | K49: бр. на случаи | L49: Износ | M49: % од бр. на случаи | N49: бр. на случаи | O49: Износ | P49: % од бр. на случаи | Q49: бр. на случаи | R49: Износ | S49: % од бр. на случаи
B50: D01-D14 | C50: Хируршки ДСГ групи | E50: =SUM(E15:E29) -> 0 | F50: =SUM(F15:F29) -> 0 | G50: =E50/$E$44 -> #DIV/0! | H50: =SUM(G15:G29) -> 0 | I50: =SUM(I15:I29) -> 0 | J50: =H50/$G$44 -> #DIV/0! | K50: =SUM(J15:J29) -> 0 | L50: =SUM(L15:L29) -> 0 | M50: =K50/$J$44 -> #DIV/0! | N50: =SUM(M15:M29) -> 0 | O50: =SUM(O15:O29) -> 0 | P50: =N50/$M$44 -> #DIV/0! | Q50: =SUM(P15:P29) -> 0 | R50: =SUM(R15:R29) -> 0 | S50: =Q50/$P$44 -> #DIV/0!
B51: B60-B67 | C51: Медицински (интернистички) ДСГ групи | E51: =SUM(E31:E42) -> 0 | F51: =SUM(F31:F42) -> 0 | G51: =E51/$E$44 -> #DIV/0! | H51: =SUM(G31:G42) -> 0 | I51: =SUM(I31:I42) -> 0 | J51: =H51/$G$44 -> #DIV/0! | K51: =SUM(J31:J42) -> 0 | L51: =SUM(L31:L42) -> 0 | M51: =K51/$J$44 -> #DIV/0! | N51: =SUM(M31:M42) -> 0 | O51: =SUM(O31:O42) -> 0 | P51: =N51/$M$44 -> #DIV/0! | Q51: =SUM(P31:P42) -> 0 | R51: =SUM(R31:R42) -> 0 | S51: =Q51/$P$44 -> #DIV/0!
B52: D40 | C52: Останати ДСГ групи | E52: =SUM(E30) -> 0 | F52: =SUM(F30) -> 0 | G52: =E52/$E$44 -> #DIV/0! | H52: =SUM(G30) -> 0 | I52: =SUM(I30) -> 0 | J52: =H52/$G$44 -> #DIV/0! | K52: =SUM(J30) -> 0 | L52: =SUM(L30) -> 0 | M52: =K52/$J$44 -> #DIV/0! | N52: =SUM(M30) -> 0 | O52: =SUM(O30) -> 0 | P52: =N52/$M$44 -> #DIV/0! | Q52: =SUM(P30) -> 0 | R52: =SUM(R30) -> 0 | S52: =Q52/$P$44 -> #DIV/0!
B55: Во | D55: година. | H55: Д и р е к т о р
B57: Составил:

Sheet План-ДСГ-MDC-E
A1: Универзитетски клиники, клинички болници, општи болници, специјални болници | M1: ПЛ 3 - ДСГ MDC-E | Q1: Врати се на почетна страна
C3: Здравствена установа:
C5: П Л А Н
C6: на видот и обемот на ДСГ здравствени услуги и пакети за завршени здравствени услуги во болничка здравствена заштита (акутни болнички случаи кои не се искажуваат според ДС методата) на осигурените лица за
I7: година.
C9: Главна дијагностичка категорија (MDC: E01-E75, ТБЦ1-ТБЦ3) БОЛЕСТИ И ПОРЕМЕТУВАЊА НА РЕСПИРАТОРЕН СИСТЕМ
A11: Ред. Број | B11: Шифра на ДСГ услуга | C11: Назив на ДСГ услуга | D11: Референтнa ценa | E11: План за 2027 година | M11: 2026 година (Реализација јануари- септември и проекција до декември) | P11: Реализација за 2025 година
E12: I полугодие | G12: II полугодие | J12: Вкупно
E13: бр. на случаи | F13: износ по ДСГ | G13: бр. на случаи | H13: износ по ДСГ | J13: бр. на услуги | K13: износ по ДСГ | M13: Вкупен бр. на услуги | N13: Вкупен износ по ДСГ | P13: Вкупен бр. на услуги | Q13: Вкупен износ по ДСГ
A14: 1 | B14: 2 | C14: 3 | D14: 4 | E14: 5 | F14: 6 | G14: 7 | H14: 8 | J14: 9 (5+7) | K14: 10 (4*9) | M14: 11 | N14: 12 (4*11) | P14: 13 | Q14: 14 (4*13)
A15: 1 | B15: E01A | C15: Големи процедури на градниот кош со катастрофални КК | D15: 164531 | F15: =E15*D15 -> 0 | I15: =G15*D15 -> 0 | J15: =E15+G15 -> 0 | L15: =J15*D15 -> 0 | O15: =M15*D15 -> 0 | R15: =P15*D15 -> 0
A16: 2 | B16: E01B | C16: Големи процедури на градниот кош без катастрофални КК | D16: 95728 | F16: =E16*D16 -> 0 | I16: =G16*D16 -> 0 | J16: =E16+G16 -> 0 | L16: =J16*D16 -> 0 | O16: =M16*D16 -> 0 | R16: =P16*D16 -> 0
A17: 3 | B17: E02A | C17: Други процедури на респираторниот систем во операциона сала со катастрофални КК | D17: 82893 | F17: =E17*D17 -> 0 | I17: =G17*D17 -> 0 | J17: =E17+G17 -> 0 | L17: =J17*D17 -> 0 | O17: =M17*D17 -> 0 | R17: =P17*D17 -> 0
A18: 4 | B18: E02B | C18: Други процедури на респираторниот систем во операциона сала со тешки КК | D18: 51583 | F18: =E18*D18 -> 0 | I18: =G18*D18 -> 0 | J18: =E18+G18 -> 0 | L18: =J18*D18 -> 0 | O18: =M18*D18 -> 0 | R18: =P18*D18 -> 0
A19: 5 | B19: E02C | C19: Други процедури на респираторниот систем во операциона сала без катастрофални или тешки КК | D19: 34150 | F19: =E19*D19 -> 0 | I19: =G19*D19 -> 0 | J19: =E19+G19 -> 0 | L19: =J19*D19 -> 0 | O19: =M19*D19 -> 0 | R19: =P19*D19 -> 0
A20: 6 | B20: E40Z | C20: Дијагноза на респираторниот систем со помош на респираторна подршка | D20: 129627 | F20: =E20*D20 -> 0 | I20: =G20*D20 -> 0 | J20: =E20+G20 -> 0 | L20: =J20*D20 -> 0 | O20: =M20*D20 -> 0 | R20: =P20*D20 -> 0
A21: 7 | B21: E41Z | C21: Дијагноза на респираторниот систем со неинвазивна вентилација | D21: 50763 | F21: =E21*D21 -> 0 | I21: =G21*D21 -> 0 | J21: =E21+G21 -> 0 | L21: =J21*D21 -> 0 | O21: =M21*D21 -> 0 | R21: =P21*D21 -> 0
A22: 8 | B22: E60A | C22: Цистична фиброза со катастрофални или тешки КК | D22: 94547 | F22: =E22*D22 -> 0 | I22: =G22*D22 -> 0 | J22: =E22+G22 -> 0 | L22: =J22*D22 -> 0 | O22: =M22*D22 -> 0 | R22: =P22*D22 -> 0
A23: 9 | B23: E60B | C23: Цистична фиброза без катастрофални или тешки КК | D23: 58068 | F23: =E23*D23 -> 0 | I23: =G23*D23 -> 0 | J23: =E23+G23 -> 0 | L23: =J23*D23 -> 0 | O23: =M23*D23 -> 0 | R23: =P23*D23 -> 0
A24: 10 | B24: E61A | C24: Белодробна емболија со катастрофални или тешки КК | D24: 47340 | F24: =E24*D24 -> 0 | I24: =G24*D24 -> 0 | J24: =E24+G24 -> 0 | L24: =J24*D24 -> 0 | O24: =M24*D24 -> 0 | R24: =P24*D24 -> 0
A25: 11 | B25: E61B | C25: Белодробна емболија без катастрофални или тешки КК | D25: 33722 | F25: =E25*D25 -> 0 | I25: =G25*D25 -> 0 | J25: =E25+G25 -> 0 | L25: =J25*D25 -> 0 | O25: =M25*D25 -> 0 | R25: =P25*D25 -> 0
A26: 12 | B26: E62A | C26: Респираторни инфекции/воспаленија со катастрофални КК | D26: 47058 | F26: =E26*D26 -> 0 | I26: =G26*D26 -> 0 | J26: =E26+G26 -> 0 | L26: =J26*D26 -> 0 | O26: =M26*D26 -> 0 | R26: =P26*D26 -> 0
... A59: 45 | B59: ТБЦ3 | C59: Акутна туберкулоза со завршено лекување за повеќе од 62 дена | D59: 83922 | F59: =E59*D59 -> 0 | I59: =G59*D59 -> 0 | J59: =E59+G59 -> 0 | L59: =J59*D59 -> 0 | O59: =M59*D59 -> 0 | R59: =P59*D59 -> 0
C61: ВКУПНО | E61: =SUM(E15:E60) -> 0 | F61: =SUM(F15:F60) -> 0 | G61: =SUM(G15:G60) -> 0 | H61: =SUM(I15:I60) -> 0 | J61: =SUM(J15:J60) -> 0 | K61: =SUM(L15:L60) -> 0 | M61: =SUM(M15:M60) -> 0 | N61: =SUM(O15:O60) -> 0 | P61: =SUM(P15:P60) -> 0 | Q61: =SUM(R15:R60) -> 0
B63: ДСГ здравствени услуги по тип на нега
B64: Шифра на ДСГ група | C64: тип на нега | E64: План за 2026 година | N64: 2025 година (Реализација јануари- септември и проекција до декември) | Q64: Реализација за 2024 година
E65: I полугодие | H65: II полугодие | K65: Вкупно
E66: бр. на случаи | F66: Износ | G66: % од бр. на случаи | H66: бр. на случаи | I66: Износ | J66: % од бр. на случаи | K66: бр. на случаи | L66: Износ | M66: % од бр. на случаи | N66: бр. на случаи | O66: Износ | P66: % од бр. на случаи | Q66: бр. на случаи | R66: Износ | S66: % од бр. на случаи
B67: E01-E02 | C67: Хируршки ДСГ групи | E67: =SUM(E15:E19) -> 0 | F67: =SUM(F15:F19) -> 0 | G67: =E67/$E$61 -> #DIV/0! | H67: =SUM(G15:G19) -> 0 | I67: =SUM(I15:I19) -> 0 | J67: =H67/$G$61 -> #DIV/0! | K67: =SUM(J15:J19) -> 0 | L67: =SUM(L15:L19) -> 0 | M67: =K67/$J$61 -> #DIV/0! | N67: =SUM(M15:M19) -> 0 | O67: =SUM(O15:O19) -> 0 | P67: =N67/$M$61 -> #DIV/0! | Q67: =SUM(P15:P19) -> 0 | R67: =SUM(R15:R19) -> 0 | S67: =Q67/$P$61 -> #DIV/0!
B68: E60-E75, ТБЦ1-ТБЦ3 | C68: Медицински (интернистички) ДСГ групи | E68: =SUM(E22:E60) -> 0 | F68: =SUM(F22:F60) -> 0 | G68: =E68/$E$61 -> #DIV/0! | H68: =SUM(G22:G60) -> 0 | I68: =SUM(I22:I60) -> 0 | J68: =H68/$G$61 -> #DIV/0! | K68: =SUM(J22:J60) -> 0 | L68: =SUM(L22:L60) -> 0 | M68: =K68/$J$61 -> #DIV/0! | N68: =SUM(M22:M60) -> 0 | O68: =SUM(O22:O60) -> 0 | P68: =N68/$M$61 -> #DIV/0! | Q68: =SUM(P22:P60) -> 0 | R68: =SUM(R22:R60) -> 0 | S68: =Q68/$P$61 -> #DIV/0!
B69: Е40-Е41 | C69: Останати ДСГ групи | E69: =SUM(E20:E21) -> 0 | F69: =SUM(F20:F21) -> 0 | G69: =E69/$E$61 -> #DIV/0! | H69: =SUM(G20:G21) -> 0 | I69: =SUM(I20:I21) -> 0 | J69: =H69/$G$61 -> #DIV/0! | K69: =SUM(J20:J21) -> 0 | L69: =SUM(L20:L21) -> 0 | M69: =K69/$J$61 -> #DIV/0! | N69: =SUM(M20:M21) -> 0 | O69: =SUM(O20:O21) -> 0 | P69: =N69/$M$61 -> #DIV/0! | Q69: =SUM(P20:P21) -> 0 | R69: =SUM(R20:R21) -> 0 | S69: =Q69/$P$61 -> #DIV/0!
B73: Во | D73: година. | H73: Д и р е к т о р
B75: Составил:

Sheet План-ДСГ-MDC-F
A1: Универзитетски клиники, клинички болници, општи болници, специјални болници | M1: ПЛ 3 - ДСГ MDC-F | Q1: Врати се на почетна страна
C3: Здравствена установа:
C5: П Л А Н
C6: на видот и обемот на ДСГ здравствени услуги и пакети за завршени здравствени услуги во болничка здравствена заштита (акутни болнички случаи кои не се искажуваат според ДС методата) на осигурените лица за
I7: година.
C9: Главна дијагностичка категорија (MDC: F01-F75, РТС1-РТС2, БЛК1-БЛК11) БОЛЕСТИ И ПОРЕМЕТУВАЊА НА ЦИРКУЛАТОРЕН СИСТЕМ
A11: Ред. Број | B11: Шифра на ДСГ услуга | C11: Назив на ДСГ услуга | D11: Референтнa ценa | E11: План за 2027 година | M11: 2026 година (Реализација јануари- септември и проекција до декември) | P11: Реализација за 2025 година
E12: I полугодие | G12: II полугодие | J12: Вкупно
E13: бр. на случаи | F13: износ по ДСГ | G13: бр. на случаи | H13: износ по ДСГ | J13: бр. на услуги | K13: износ по ДСГ | M13: Вкупен бр. на услуги | N13: Вкупен износ по ДСГ | P13: Вкупен бр. на услуги | Q13: Вкупен износ по ДСГ
A14: 1 | B14: 2 | C14: 3 | D14: 4 | E14: 5 | F14: 6 | G14: 7 | H14: 8 | J14: 9 (5+7) | K14: 10 (4*9) | M14: 11 | N14: 12 (4*11) | P14: 13 | Q14: 14 (4*13)
A15: 1 | B15: F01A | C15: Имплантација или замена на AICD ( автоматски имплантабилен кардијален дефибрилатор ), вкупен систем со катастрофални или тешки КК | D15: 397990 | F15: =E15*D15 -> 0 | I15: =G15*D15 -> 0 | J15: =E15+G15 -> 0 | L15: =J15*D15 -> 0 | O15: =M15*D15 -> 0 | R15: =P15*D15 -> 0
A16: 2 | B16: F01B | C16: Имплантација или замена на AICD ( автоматски имплантабилен кардијален дефибрилатор ), вкупен систем без катастрофални или тешки КК | D16: 277216 | F16: =E16*D16 -> 0 | I16: =G16*D16 -> 0 | J16: =E16+G16 -> 0 | L16: =J16*D16 -> 0 | O16: =M16*D16 -> 0 | R16: =P16*D16 -> 0
A17: 3 | B17: F02Z | C17: Имплантација или замена на дел од AICD ( автоматски имплантабилен кардијален дефибрилатор ). | D17: 99878 | F17: =E17*D17 -> 0 | I17: =G17*D17 -> 0 | J17: =E17+G17 -> 0 | L17: =J17*D17 -> 0 | O17: =M17*D17 -> 0 | R17: =P17*D17 -> 0
A18: 4 | B18: F03Z | C18: Процедура на срцева валвула со пумпа за кардиопулмонално премостување ,со инвазивно испитување на срцето | D18: 538925 | F18: =E18*D18 -> 0 | I18: =G18*D18 -> 0 | J18: =E18+G18 -> 0 | L18: =J18*D18 -> 0 | O18: =M18*D18 -> 0 | R18: =P18*D18 -> 0
A19: 5 | B19: F04A | C19: Процедура на срцева валвула со пумпа за кардиопулмонално премостување без инвазивно испитување на срцето , со катастрофални КК | D19: 494015 | F19: =E19*D19 -> 0 | I19: =G19*D19 -> 0 | J19: =E19+G19 -> 0 | L19: =J19*D19 -> 0 | O19: =M19*D19 -> 0 | R19: =P19*D19 -> 0
A20: 6 | B20: F04B | C20: Процедура на срцева валвула со пумпа за кардиопулмонално премостување без инвазивно испитување на срцето , без катастрофални КК | D20: 424350 | F20: =E20*D20 -> 0 | I20: =G20*D20 -> 0 | J20: =E20+G20 -> 0 | L20: =J20*D20 -> 0 | O20: =M20*D20 -> 0 | R20: =P20*D20 -> 0
A21: 7 | B21: F05A | C21: Коронарен бајпас со инвазивно испитување на срцето со катастрофални КК | D21: 403840 | F21: =E21*D21 -> 0 | I21: =G21*D21 -> 0 | J21: =E21+G21 -> 0 | L21: =J21*D21 -> 0 | O21: =M21*D21 -> 0 | R21: =P21*D21 -> 0
A22: 8 | B22: F05B | C22: Коронарен бајпас со инвазивно испитување на срцето ,без катастрофални КК | D22: 353625 | F22: =E22*D22 -> 0 | I22: =G22*D22 -> 0 | J22: =E22+G22 -> 0 | L22: =J22*D22 -> 0 | O22: =M22*D22 -> 0 | R22: =P22*D22 -> 0
A23: 9 | B23: F06A | C23: Коронарен бајпас без инвазивно испитување на срцето со катастрофални или тешки КК | D23: 352728 | F23: =E23*D23 -> 0 | I23: =G23*D23 -> 0 | J23: =E23+G23 -> 0 | L23: =J23*D23 -> 0 | O23: =M23*D23 -> 0 | R23: =P23*D23 -> 0
A24: 10 | B24: F06B | C24: Коронарен бајпас без инвазивно испитување на срцето без катастрофални или тешки КК | D24: 332408 | F24: =E24*D24 -> 0 | I24: =G24*D24 -> 0 | J24: =E24+G24 -> 0 | L24: =J24*D24 -> 0 | O24: =M24*D24 -> 0 | R24: =P24*D24 -> 0
A25: 11 | B25: F07A | C25: Други кардиоторакални/васкуларни процедури со пумпа за кардиопулмонално премостување (CPB пумпа) со катастрофални КК | D25: 407800 | F25: =E25*D25 -> 0 | I25: =G25*D25 -> 0 | J25: =E25+G25 -> 0 | L25: =J25*D25 -> 0 | O25: =M25*D25 -> 0 | R25: =P25*D25 -> 0
A26: 12 | B26: F07B | C26: Други кардиоторакални/васкуларни процедури со пумпа за кардиопулмонално премостување (CPB пумпа) без катастрофални КК | D26: 407800 | F26: =E26*D26 -> 0 | I26: =G26*D26 -> 0 | J26: =E26+G26 -> 0 | L26: =J26*D26 -> 0 | O26: =M26*D26 -> 0 | R26: =P26*D26 -> 0
... A98: 84 | B98: БЛК11 | C98: Криоаблација на пулмонални вени при атријална фибрилација | D98: 491000 | F98: =E98*D98 -> 0 | I98: =G98*D98 -> 0 | J98: =E98+G98 -> 0 | L98: =J98*D98 -> 0 | O98: =M98*D98 -> 0 | R98: =P98*D98 -> 0
A99: 85
C100: ВКУПНО | E100: =SUM(E15:E99) -> 0 | F100: =SUM(F15:F99) -> 0 | G100: =SUM(G15:G99) -> 0 | H100: =SUM(I15:I99) -> 0 | J100: =SUM(J15:J99) -> 0 | K100: =SUM(L15:L99) -> 0 | M100: =SUM(M15:M99) -> 0 | N100: =SUM(O15:O99) -> 0 | P100: =SUM(P15:P99) -> 0 | Q100: =SUM(R15:R99) -> 0
B102: ДСГ здравствени услуги по тип на нега
A103: Шифра на ДСГ група | C103: тип на нега | E103: План за 2026 година | N103: 2025 година (Реализација јануари- септември и проекција до декември) | Q103: Реализација за 2024 година
E104: I полугодие | H104: II полугодие | K104: Вкупно
E105: бр. на случаи | F105: Износ | G105: % од бр. на случаи | H105: бр. на случаи | I105: Износ | J105: % од бр. на случаи | K105: бр. на случаи | L105: Износ | M105: % од бр. на случаи | N105: бр. на случаи | O105: Износ | P105: % од бр. на случаи | Q105: бр. на случаи | R105: Износ | S105: % од бр. на случаи
A106: F01-F23, РТС1-РТС2, БК1-БЛК11 | C106: Хируршки ДСГ групи | E106: =SUM(E15:E48)+E86+E87+E88+E89+E90+E91+E92+E93+E94+E95+E96+E97+E98 -> 0 | F106: =SUM(F15:F48)+F86+F87+F88+F89+F90+F91+F92+F93+F94+F95+F96+F97+F98 -> 0 | G106: =E106/$E$100 -> #DIV/0! | H106: =SUM(G15:G48)+G86+G87+G88+G89+G90+G91+G92+G93+G94+G95+G96+G97+G98 -> 0 | I106: =SUM(I15:I48)+I86+I87+I88+I89+I90+I91+I92+I93+I94+I95+I96+I97+I98 -> 0 | J106: =H106/$G$100 -> #DIV/0! | K106: =SUM(J15:J48)+J86+J87+J88+J89+J90+J91+J92+J93+J94+J95+J96+J97+J98 -> 0 | L106: =SUM(L15:L48)+L86+L87+L88+L89+L90+L91+L92+L93+L94+L95+L96+L97+L98 -> 0 | M106: =K106/$J$100 -> #DIV/0! | N106: =SUM(M15:M48)+M86+M87+M88+M89+M90+M91+M92+M93+M94+M95+M96+M97+M98 -> 0 | O106: =SUM(O15:O48)+O86+O87+O88+O89+O90+O91+O92+O93+O94+O95+O96+O97+O98 -> 0 | P106: =N106/$M$100 -> #DIV/0! | Q106: =SUM(P15:P48)+P86+P87+P88+P89+P90+P91+P92+P93+P94+P95+P96+P97+P98 -> 0 | R106: =SUM(R15:R48)+R86+R87+R88+R89+R90+R91+R92+R93+R94+R95+R96+R97+R98 -> 0 | S106: =Q106/$P$100 -> #DIV/0!
A107: F60-F75 | C107: Медицински (интернистички) ДСГ групи | E107: =SUM(E56:E85) -> 0 | F107: =SUM(F56:F85) -> 0 | G107: =E107/$E$100 -> #DIV/0! | H107: =SUM(G56:G85) -> 0 | I107: =SUM(I56:I85) -> 0 | J107: =H107/$G$100 -> #DIV/0! | K107: =SUM(J56:J85) -> 0 | L107: =SUM(L56:L85) -> 0 | M107: =K107/$J$100 -> #DIV/0! | N107: =SUM(M56:M85) -> 0 | O107: =SUM(O56:O85) -> 0 | P107: =N107/$M$100 -> #DIV/0! | Q107: =SUM(P56:P85) -> 0 | R107: =SUM(R56:R85) -> 0 | S107: =Q107/$P$100 -> #DIV/0!
A108: F40-F43 | C108: Останати ДСГ групи | E108: =SUM(E49:E55) -> 0 | F108: =SUM(F49:F55) -> 0 | G108: =E108/$E$100 -> #DIV/0! | H108: =SUM(G49:G55) -> 0 | I108: =SUM(I49:I55) -> 0 | J108: =H108/$G$100 -> #DIV/0! | K108: =SUM(J49:J55) -> 0 | L108: =SUM(L49:L55) -> 0 | M108: =K108/$J$100 -> #DIV/0! | N108: =SUM(M49:M55) -> 0 | O108: =SUM(O49:O55) -> 0 | P108: =N108/$M$100 -> #DIV/0! | Q108: =SUM(P49:P55) -> 0 | R108: =SUM(R49:R55) -> 0 | S108: =Q108/$P$100 -> #DIV/0!
B111: Во | D111: година. | H111: Д и р е к т о р
B113: Составил:

Sheet План-ДСГ-MDC-G
A1: Универзитетски клиники, клинички болници, општи болници, специјални болници | M1: ПЛ 3 - ДСГ MDC-G | Q1: Врати се на почетна страна
C3: Здравствена установа:
C5: П Л А Н
C6: на видот и обемот на ДСГ здравствени услуги и пакети за завршени здравствени услуги во болничка здравствена заштита (акутни болнички случаи кои не се искажуваат според ДС методата) на осигурените лица за
I7: година.
A9: Главна дијагностичка категорија (MDC: G01-G70, БЛГ1) БОЛЕСТИ И ПОРЕМЕТУВАЊА НА ДИГЕСТИВЕН СИСТЕМ
A11: Ред. Број | B11: Шифра на ДСГ услуга | C11: Назив на ДСГ услуга | D11: Референтнa ценa | E11: План за 2027 година | M11: 2026 година (Реализација јануари- септември и проекција до декември) | P11: Реализација за 2025 година
E12: I полугодие | G12: II полугодие | J12: Вкупно
E13: бр. на случаи | F13: износ по ДСГ | G13: бр. на случаи | H13: износ по ДСГ | J13: бр. на услуги | K13: износ по ДСГ | M13: Вкупен бр. на услуги | N13: Вкупен износ по ДСГ | P13: Вкупен бр. на услуги | Q13: Вкупен износ по ДСГ
A14: 1 | B14: 2 | C14: 3 | D14: 4 | E14: 5 | F14: 6 | G14: 7 | H14: 8 | J14: 9 (5+7) | K14: 10 (4*9) | M14: 11 | N14: 12 (4*11) | P14: 13 | Q14: 14 (4*13)
A15: 1 | B15: G01A | C15: Ректална ресекција со катастрофални КК | D15: 211773 | F15: =E15*D15 -> 0 | I15: =G15*D15 -> 0 | J15: =E15+G15 -> 0 | L15: =J15*D15 -> 0 | O15: =M15*D15 -> 0 | R15: =P15*D15 -> 0
A16: 2 | B16: G01B | C16: Ректална ресекција без катастрофални КК | D16: 126974 | F16: =E16*D16 -> 0 | I16: =G16*D16 -> 0 | J16: =E16+G16 -> 0 | L16: =J16*D16 -> 0 | O16: =M16*D16 -> 0 | R16: =P16*D16 -> 0
A17: 3 | B17: G02A | C17: Големи процедури на тенкото и дебелото црево со катастрофални КК | D17: 143348 | F17: =E17*D17 -> 0 | I17: =G17*D17 -> 0 | J17: =E17+G17 -> 0 | L17: =J17*D17 -> 0 | O17: =M17*D17 -> 0 | R17: =P17*D17 -> 0
A18: 4 | B18: G02B | C18: Големи процедури на тенкото и дебелото црево без катастрофални КК | D18: 118910 | F18: =E18*D18 -> 0 | I18: =G18*D18 -> 0 | J18: =E18+G18 -> 0 | L18: =J18*D18 -> 0 | O18: =M18*D18 -> 0 | R18: =P18*D18 -> 0
A19: 5 | B19: G03A | C19: Процедури на желудник, езофагус и дванаесетпалачно црево со малигнa болест | D19: 184000 | F19: =E19*D19 -> 0 | I19: =G19*D19 -> 0 | J19: =E19+G19 -> 0 | L19: =J19*D19 -> 0 | O19: =M19*D19 -> 0 | R19: =P19*D19 -> 0
A20: 6 | B20: G03B | C20: Процедури на желудник, езофагус и дванаесетпалачно црево без малигна болест со катастрофални или тешки КК | D20: 103911 | F20: =E20*D20 -> 0 | I20: =G20*D20 -> 0 | J20: =E20+G20 -> 0 | L20: =J20*D20 -> 0 | O20: =M20*D20 -> 0 | R20: =P20*D20 -> 0
A21: 7 | B21: G03C | C21: Процедури на желудник, езофагус и дванаесетпалачно црево без малигна болест без катастрофални или тешки КК | D21: 85911 | F21: =E21*D21 -> 0 | I21: =G21*D21 -> 0 | J21: =E21+G21 -> 0 | L21: =J21*D21 -> 0 | O21: =M21*D21 -> 0 | R21: =P21*D21 -> 0
A22: 8 | B22: G04A | C22: Перитонеална адхезиолиза, возраст >49 со КК | D22: 78191 | F22: =E22*D22 -> 0 | I22: =G22*D22 -> 0 | J22: =E22+G22 -> 0 | L22: =J22*D22 -> 0 | O22: =M22*D22 -> 0 | R22: =P22*D22 -> 0
A23: 9 | B23: G04B | C23: Перитонеална адхезиолиза, возраст >49 или со КК | D23: 72179 | F23: =E23*D23 -> 0 | I23: =G23*D23 -> 0 | J23: =E23+G23 -> 0 | L23: =J23*D23 -> 0 | O23: =M23*D23 -> 0 | R23: =P23*D23 -> 0
A24: 10 | B24: G04C | C24: Перитонеална адхезиолиза, возраст <50 без КК | D24: 47388 | F24: =E24*D24 -> 0 | I24: =G24*D24 -> 0 | J24: =E24+G24 -> 0 | L24: =J24*D24 -> 0 | O24: =M24*D24 -> 0 | R24: =P24*D24 -> 0
A25: 11 | B25: G05A | C25: Mали процедури на тенкото и дебелото црево со КК | D25: 77860 | F25: =E25*D25 -> 0 | I25: =G25*D25 -> 0 | J25: =E25+G25 -> 0 | L25: =J25*D25 -> 0 | O25: =M25*D25 -> 0 | R25: =P25*D25 -> 0
A26: 12 | B26: G05B | C26: Mали процедури на тенкото и дебелото црево без КК | D26: 56848 | F26: =E26*D26 -> 0 | I26: =G26*D26 -> 0 | J26: =E26+G26 -> 0 | L26: =J26*D26 -> 0 | O26: =M26*D26 -> 0 | R26: =P26*D26 -> 0
... A67: 53 | B67: БЛГ 1 | C67: Радиофреквентна биполарна аблација на езофагус | D67: 153870 | F67: =E67*D67 -> 0 | I67: =G67*D67 -> 0 | J67: =E67+G67 -> 0 | L67: =J67*D67 -> 0 | O67: =M67*D67 -> 0 | R67: =P67*D67 -> 0
C69: ВКУПНО | E69: =SUM(E15:E68) -> 0 | F69: =SUM(F15:F68) -> 0 | G69: =SUM(G15:G68) -> 0 | H69: =SUM(I15:I68) -> 0 | J69: =SUM(J15:J68) -> 0 | K69: =SUM(L15:L68) -> 0 | M69: =SUM(M15:M68) -> 0 | N69: =SUM(O15:O68) -> 0 | P69: =SUM(P15:P68) -> 0 | Q69: =SUM(R15:R68) -> 0
B71: ДСГ здравствени услуги по тип на нега
B72: Шифра на ДСГ група | C72: тип на нега | E72: План за 2026 година | N72: 2025 година (Реализација јануари- септември и проекција до декември) | Q72: Реализација за 2024 година
E73: I полугодие | H73: II полугодие | K73: Вкупно
E74: бр. на случаи | F74: Износ | G74: % од бр. на случаи | H74: бр. на случаи | I74: Износ | J74: % од бр. на случаи | K74: бр. на случаи | L74: Износ | M74: % од бр. на случаи | N74: бр. на случаи | O74: Износ | P74: % од бр. на случаи | Q74: бр. на случаи | R74: Износ | S74: % од бр. на случаи
B75: G01-G12 | C75: Хируршки ДСГ групи | E75: =SUM(E15:E37) -> 0 | F75: =SUM(F15:F37) -> 0 | G75: =E75/$E$69 -> #DIV/0! | H75: =SUM(G15:G37) -> 0 | I75: =SUM(I15:I37) -> 0 | J75: =H75/$G$69 -> #DIV/0! | K75: =SUM(J15:J37) -> 0 | L75: =SUM(L15:L37) -> 0 | M75: =K75/$J$69 -> #DIV/0! | N75: =SUM(M15:M37) -> 0 | O75: =SUM(O15:O37) -> 0 | P75: =N75/$M$69 -> #DIV/0! | Q75: =SUM(P15:P37) -> 0 | R75: =SUM(R15:R37) -> 0 | S75: =Q75/$P$69 -> #DIV/0!
B76: G60-G70, БЛГ1 | C76: Медицински (интернистички) ДСГ групи | E76: =SUM(E49:E67) -> 0 | F76: =SUM(F49:F67) -> 0 | G76: =E76/$E$69 -> #DIV/0! | H76: =SUM(G49:G67) -> 0 | I76: =SUM(I49:I67) -> 0 | J76: =H76/$G$69 -> #DIV/0! | K76: =SUM(J49:J67) -> 0 | L76: =SUM(L49:L67) -> 0 | M76: =K76/$J$69 -> #DIV/0! | N76: =SUM(M49:M67) -> 0 | O76: =SUM(O49:O67) -> 0 | P76: =N76/$M$69 -> #DIV/0! | Q76: =SUM(P49:P67) -> 0 | R76: =SUM(R49:R67) -> 0 | S76: =Q76/$P$69 -> #DIV/0!
B77: G42-G46 | C77: Останати ДСГ групи | E77: =SUM(E38:E48) -> 0 | F77: =SUM(F38:F48) -> 0 | G77: =E77/$E$69 -> #DIV/0! | H77: =SUM(G38:G48) -> 0 | I77: =SUM(I38:I48) -> 0 | J77: =H77/$G$69 -> #DIV/0! | K77: =SUM(J38:J48) -> 0 | L77: =SUM(L38:L48) -> 0 | M77: =K77/$J$69 -> #DIV/0! | N77: =SUM(M38:M48) -> 0 | O77: =SUM(O38:O48) -> 0 | P77: =N77/$M$69 -> #DIV/0! | Q77: =SUM(P38:P48) -> 0 | R77: =SUM(R38:R48) -> 0 | S77: =Q77/$P$69 -> #DIV/0!
B81: Во | D81: година. | H81: Д и р е к т о р
B83: Составил:

Sheet План-ДСГ-MDC-H
A1: Универзитетски клиники, клинички болници, општи болници, специјални болници | M1: ПЛ 3 - ДСГ MDC-H | Q1: Врати се на почетна страна
C3: Здравствена установа:
C5: П Л А Н
C6: на видот и обемот на ДСГ здравствени услуги и пакети за завршени здравствени услуги во болничка здравствена заштита (акутни болнички случаи кои не се искажуваат според ДС методата) на осигурените лица за
I7: година.
C9: Главна дијагностичка категорија (MDC: H01-H64) БОЛЕСТИ И ПОРЕМЕТУВАЊЕ НА ХЕПАТОБИЛИЈАРЕН СИСТЕМ И ПАНКРЕАС
A11: Ред. Број | B11: Шифра на ДСГ услуга | C11: Назив на ДСГ услуга | D11: Референтнa ценa | E11: План за 2027 година | M11: 2026 година (Реализација јануари- септември и проекција до декември) | P11: Реализација за 2025 година
E12: I полугодие | G12: II полугодие | J12: Вкупно
E13: бр. на случаи | F13: износ по ДСГ | G13: бр. на случаи | H13: износ по ДСГ | J13: бр. на услуги | K13: износ по ДСГ | M13: Вкупен бр. на услуги | N13: Вкупен износ по ДСГ | P13: Вкупен бр. на услуги | Q13: Вкупен износ по ДСГ
A14: 1 | B14: 2 | C14: 3 | D14: 4 | E14: 5 | F14: 6 | G14: 7 | H14: 8 | J14: 9 (5+7) | K14: 10 (4*9) | M14: 11 | N14: 12 (4*11) | P14: 13 | Q14: 14 (4*13)
A15: 1 | B15: H01A | C15: Процедури на панкреас, црн дроб и шант со катастрофални КК | D15: 185512 | F15: =E15*D15 -> 0 | I15: =G15*D15 -> 0 | J15: =E15+G15 -> 0 | L15: =J15*D15 -> 0 | O15: =M15*D15 -> 0 | R15: =P15*D15 -> 0
A16: 2 | B16: H01B | C16: Процедури на панкреас, црн дроб и шант без катастрофални КК | D16: 169500 | F16: =E16*D16 -> 0 | I16: =G16*D16 -> 0 | J16: =E16+G16 -> 0 | L16: =J16*D16 -> 0 | O16: =M16*D16 -> 0 | R16: =P16*D16 -> 0
A17: 3 | B17: H02A | C17: Големи процедури на билијарниот тракт со малигни болести или катастрофални КК | D17: 120786 | F17: =E17*D17 -> 0 | I17: =G17*D17 -> 0 | J17: =E17+G17 -> 0 | L17: =J17*D17 -> 0 | O17: =M17*D17 -> 0 | R17: =P17*D17 -> 0
A18: 4 | B18: H02B | C18: Големи процедури на билијарниот тракт без малигни болести со тешки или умерени КК | D18: 104617 | F18: =E18*D18 -> 0 | I18: =G18*D18 -> 0 | J18: =E18+G18 -> 0 | L18: =J18*D18 -> 0 | O18: =M18*D18 -> 0 | R18: =P18*D18 -> 0
A19: 5 | B19: H02C | C19: Големи процедури на билијарниот тракт без малигни болести без КК | D19: 73439 | F19: =E19*D19 -> 0 | I19: =G19*D19 -> 0 | J19: =E19+G19 -> 0 | L19: =J19*D19 -> 0 | O19: =M19*D19 -> 0 | R19: =P19*D19 -> 0
A20: 6 | B20: H05A | C20: Хепатобилијарни дијагностички процедури со катастрофални или тешки КК | D20: 82281 | F20: =E20*D20 -> 0 | I20: =G20*D20 -> 0 | J20: =E20+G20 -> 0 | L20: =J20*D20 -> 0 | O20: =M20*D20 -> 0 | R20: =P20*D20 -> 0
A21: 7 | B21: H05B | C21: Хепатобилијарни дијагностички процедури без катастрофални или тешки КК | D21: 53996 | F21: =E21*D21 -> 0 | I21: =G21*D21 -> 0 | J21: =E21+G21 -> 0 | L21: =J21*D21 -> 0 | O21: =M21*D21 -> 0 | R21: =P21*D21 -> 0
A22: 8 | B22: H06Z | C22: Други хепатобилијарни процедури или процедури на панкреас во операциона сала | D22: 84468 | F22: =E22*D22 -> 0 | I22: =G22*D22 -> 0 | J22: =E22+G22 -> 0 | L22: =J22*D22 -> 0 | O22: =M22*D22 -> 0 | R22: =P22*D22 -> 0
A23: 9 | B23: H07A | C23: Отворена холецистектомија со затворенa експлорација на ductus choledocus или со катастрофални КК | D23: 97791 | F23: =E23*D23 -> 0 | I23: =G23*D23 -> 0 | J23: =E23+G23 -> 0 | L23: =J23*D23 -> 0 | O23: =M23*D23 -> 0 | R23: =P23*D23 -> 0
A24: 10 | B24: H07B | C24: Отворена холецистектомија со затворенa експлорација на ductus choledocus без катастрофални КК | D24: 36567 | F24: =E24*D24 -> 0 | I24: =G24*D24 -> 0 | J24: =E24+G24 -> 0 | L24: =J24*D24 -> 0 | O24: =M24*D24 -> 0 | R24: =P24*D24 -> 0
A25: 11 | B25: H08A | C25: Лапароскопска холецистектомија со затворенa експлорација на ductus choledocus или со (катастрофални или тешки КК) | D25: 55904 | F25: =E25*D25 -> 0 | I25: =G25*D25 -> 0 | J25: =E25+G25 -> 0 | L25: =J25*D25 -> 0 | O25: =M25*D25 -> 0 | R25: =P25*D25 -> 0
A26: 12 | B26: H08B | C26: Лапароскопска холецистектомија без затворенa експлорација на ductus choledocus без катастрофални или тешки КК | D26: 44986 | F26: =E26*D26 -> 0 | I26: =G26*D26 -> 0 | J26: =E26+G26 -> 0 | L26: =J26*D26 -> 0 | O26: =M26*D26 -> 0 | R26: =P26*D26 -> 0
... A43: 29 | B43: H64B | C43: Пореметувања на билијарниот тракт без КК | D43: 15917 | F43: =E43*D43 -> 0 | I43: =G43*D43 -> 0 | J43: =E43+G43 -> 0 | L43: =J43*D43 -> 0 | O43: =M43*D43 -> 0 | R43: =P43*D43 -> 0
C45: ВКУПНО | E45: =SUM(E15:E44) -> 0 | F45: =SUM(F15:F44) -> 0 | G45: =SUM(G15:G44) -> 0 | H45: =SUM(I15:I44) -> 0 | J45: =SUM(J15:J44) -> 0 | K45: =SUM(L15:L44) -> 0 | M45: =SUM(M15:M44) -> 0 | N45: =SUM(O15:O44) -> 0 | P45: =SUM(P15:P44) -> 0 | Q45: =SUM(R15:R44) -> 0
B47: ДСГ здравствени услуги по тип на нега
B48: Шифра на ДСГ група | C48: тип на нега | E48: План за 2026 година | N48: 2025 година (Реализација јануари- септември и проекција до декември) | Q48: Реализација за 2024 година
E49: I полугодие | H49: II полугодие | K49: Вкупно
E50: бр. на случаи | F50: Износ | G50: % од бр. на случаи | H50: бр. на случаи | I50: Износ | J50: % од бр. на случаи | K50: бр. на случаи | L50: Износ | M50: % од бр. на случаи | N50: бр. на случаи | O50: Износ | P50: % од бр. на случаи | Q50: бр. на случаи | R50: Износ | S50: % од бр. на случаи
B51: B01-B07 | C51: Хируршки ДСГ групи | E51: =SUM(E15:E26) -> 0 | F51: =SUM(F15:F26) -> 0 | G51: =E51/$E$45 -> #DIV/0! | H51: =SUM(G15:G26) -> 0 | I51: =SUM(I15:I26) -> 0 | J51: =H51/$G$45 -> #DIV/0! | K51: =SUM(J15:J26) -> 0 | L51: =SUM(L15:L26) -> 0 | M51: =K51/$J$45 -> #DIV/0! | N51: =SUM(M15:M26) -> 0 | O51: =SUM(O15:O26) -> 0 | P51: =N51/$M$45 -> #DIV/0! | Q51: =SUM(P15:P26) -> 0 | R51: =SUM(R15:R26) -> 0 | S51: =Q51/$P$45 -> #DIV/0!
B52: B60-B81 | C52: Медицински (интернистички) ДСГ групи | E52: =SUM(E33:E44) -> 0 | F52: =SUM(F33:F44) -> 0 | G52: =E52/$E$45 -> #DIV/0! | H52: =SUM(G33:G44) -> 0 | I52: =SUM(I33:I44) -> 0 | J52: =H52/$G$45 -> #DIV/0! | K52: =SUM(J33:J44) -> 0 | L52: =SUM(L33:L44) -> 0 | M52: =K52/$J$45 -> #DIV/0! | N52: =SUM(M33:M44) -> 0 | O52: =SUM(O33:O44) -> 0 | P52: =N52/$M$45 -> #DIV/0! | Q52: =SUM(P33:P44) -> 0 | R52: =SUM(R33:R44) -> 0 | S52: =Q52/$P$45 -> #DIV/0!
B53: B40-B41 | C53: Останати ДСГ групи | E53: =SUM(E27:E32) -> 0 | F53: =SUM(F27:F32) -> 0 | G53: =E53/$E$45 -> #DIV/0! | H53: =SUM(G27:G32) -> 0 | I53: =SUM(I27:I32) -> 0 | J53: =H53/$G$45 -> #DIV/0! | K53: =SUM(J27:J32) -> 0 | L53: =SUM(L27:L32) -> 0 | M53: =K53/$J$45 -> #DIV/0! | N53: =SUM(M27:M32) -> 0 | O53: =SUM(O27:O32) -> 0 | P53: =N53/$M$45 -> #DIV/0! | Q53: =SUM(P27:P32) -> 0 | R53: =SUM(R27:R32) -> 0 | S53: =Q53/$P$45 -> #DIV/0!
B57: Во | D57: година. | H57: Д и р е к т о р
B59: Составил:

Sheet План-ДСГ-MDC-I
A1: Универзитетски клиники, клинички болници, општи болници, специјални болници | M1: ПЛ 3 - ДСГ MDC-I | Q1: Врати се на почетна страна
C3: Здравствена установа:
C5: П Л А Н
C6: на видот и обемот на ДСГ здравствени услуги и пакети за завршени здравствени услуги во болничка здравствена заштита (акутни болнички случаи кои не се искажуваат според ДС методата) на осигурените лица за
I7: година.
C9: Главна дијагностичка категорија (MDC: I01-I79, БЛО1-БЛО2) БОЛЕСТИ И ПОРЕМЕТУВАЊА НА МУСКУЛНО-КОСКЕН И СВРЗЕН СИСТЕМ
A11: Ред. Број | B11: Шифра на ДСГ услуга | C11: Назив на ДСГ услуга | D11: Референтнa ценa | E11: План за 2027 година | M11: 2026 година (Реализација јануари- септември и проекција до декември) | P11: Реализација за 2025 година
E12: I полугодие | G12: II полугодие | J12: Вкупно
E13: бр. на случаи | F13: износ по ДСГ | G13: бр. на случаи | H13: износ по ДСГ | J13: бр. на услуги | K13: износ по ДСГ | M13: Вкупен бр. на услуги | N13: Вкупен износ по ДСГ | P13: Вкупен бр. на услуги | Q13: Вкупен износ по ДСГ
A14: 1 | B14: 2 | C14: 3 | D14: 4 | E14: 5 | F14: 6 | G14: 7 | H14: 8 | J14: 9 (5+7) | K14: 10 (4*9) | M14: 11 | N14: 12 (4*11) | P14: 13 | Q14: 14 (4*13)
A15: 1 | B15: I01Z | C15: Билатерални или повеќекратни процедури на големите зглобови на долните екстремитети | D15: 175254 | F15: =E15*D15 -> 0 | I15: =G15*D15 -> 0 | J15: =E15+G15 -> 0 | L15: =J15*D15 -> 0 | O15: =M15*D15 -> 0 | R15: =P15*D15 -> 0
A16: 2 | B16: I02A | C16: Микроваскуларен трансфер на ткиво (кожен графт со катастрофални или тешки КК), освен на рака | D16: 110720 | F16: =E16*D16 -> 0 | I16: =G16*D16 -> 0 | J16: =E16+G16 -> 0 | L16: =J16*D16 -> 0 | O16: =M16*D16 -> 0 | R16: =P16*D16 -> 0
A17: 3 | B17: I02B | C17: Кожен графт без катастрофални или тешки КК, освен на рака | D17: 56624 | F17: =E17*D17 -> 0 | I17: =G17*D17 -> 0 | J17: =E17+G17 -> 0 | L17: =J17*D17 -> 0 | O17: =M17*D17 -> 0 | R17: =P17*D17 -> 0
A18: 4 | B18: I03A | C18: Ревизија на колк со катастрофални или тешки КК | D18: 303890 | F18: =E18*D18 -> 0 | I18: =G18*D18 -> 0 | J18: =E18+G18 -> 0 | L18: =J18*D18 -> 0 | O18: =M18*D18 -> 0 | R18: =P18*D18 -> 0
A19: 5 | B19: I03B | C19: Замена на колк со катастрофални или тешки КК или ревизија на колк без катастофални или тешки КК | D19: 235820 | F19: =E19*D19 -> 0 | I19: =G19*D19 -> 0 | J19: =E19+G19 -> 0 | L19: =J19*D19 -> 0 | O19: =M19*D19 -> 0 | R19: =P19*D19 -> 0
A20: 6 | B20: I03C | C20: Замена на колк без катастрофални или тешки КК | D20: 189840 | F20: =E20*D20 -> 0 | I20: =G20*D20 -> 0 | J20: =E20+G20 -> 0 | L20: =J20*D20 -> 0 | O20: =M20*D20 -> 0 | R20: =P20*D20 -> 0
A21: 7 | B21: I04Z | C21: Замена на колено и повторно спојување | D21: 123846 | F21: =E21*D21 -> 0 | I21: =G21*D21 -> 0 | J21: =E21+G21 -> 0 | L21: =J21*D21 -> 0 | O21: =M21*D21 -> 0 | R21: =P21*D21 -> 0
A22: 8 | B22: I05Z | C22: Други репласмани на големите зглобови и процедури за повторно спојување на ектремитети | D22: 98222 | F22: =E22*D22 -> 0 | I22: =G22*D22 -> 0 | J22: =E22+G22 -> 0 | L22: =J22*D22 -> 0 | O22: =M22*D22 -> 0 | R22: =P22*D22 -> 0
A23: 9 | B23: I06Z | C23: ’Рбетна фузија со деформитет | D23: 735000 | F23: =E23*D23 -> 0 | I23: =G23*D23 -> 0 | J23: =E23+G23 -> 0 | L23: =J23*D23 -> 0 | O23: =M23*D23 -> 0 | R23: =P23*D23 -> 0
A24: 10 | B24: I07Z | C24: Ампутација | D24: 106298 | F24: =E24*D24 -> 0 | I24: =G24*D24 -> 0 | J24: =E24+G24 -> 0 | L24: =J24*D24 -> 0 | O24: =M24*D24 -> 0 | R24: =P24*D24 -> 0
A25: 11 | B25: I08A | C25: Други процедури на колк и фемур со катастрофални или тешки КК | D25: 168420 | F25: =E25*D25 -> 0 | I25: =G25*D25 -> 0 | J25: =E25+G25 -> 0 | L25: =J25*D25 -> 0 | O25: =M25*D25 -> 0 | R25: =P25*D25 -> 0
A26: 12 | B26: I08B | C26: Други процедури на колк и фемур без катастрофални или тешки КК | D26: 122480 | F26: =E26*D26 -> 0 | I26: =G26*D26 -> 0 | J26: =E26+G26 -> 0 | L26: =J26*D26 -> 0 | O26: =M26*D26 -> 0 | R26: =P26*D26 -> 0
... A95: 81 | B95: БЛО2 | C95: Рбетна фузија на три и повеќе нивоа | D95: 210000 | F95: =E95*D95 -> 0 | I95: =G95*D95 -> 0 | J95: =E95+G95 -> 0 | L95: =J95*D95 -> 0 | O95: =M95*D95 -> 0 | R95: =P95*D95 -> 0
A96: 82
C97: ВКУПНО | E97: =SUM(E15:E96) -> 0 | F97: =SUM(F15:F96) -> 0 | G97: =SUM(G15:G96) -> 0 | H97: =SUM(I15:I96) -> 0 | J97: =SUM(J15:J96) -> 0 | K97: =SUM(L15:L96) -> 0 | M97: =SUM(M15:M96) -> 0 | N97: =SUM(O15:O96) -> 0 | P97: =SUM(P15:P96) -> 0 | Q97: =SUM(R15:R96) -> 0
B99: ДСГ здравствени услуги по тип на нега
A100: Шифра на ДСГ група | C100: тип на нега | E100: План за 2026 година | N100: 2025 година (Реализација јануари- септември и проекција до декември) | Q100: Реализација за 2024 година
E101: I полугодие | H101: II полугодие | K101: Вкупно
E102: бр. на случаи | F102: Износ | G102: % од бр. на случаи | H102: бр. на случаи | I102: Износ | J102: % од бр. на случаи | K102: бр. на случаи | L102: Износ | M102: % од бр. на случаи | N102: бр. на случаи | O102: Износ | P102: % од бр. на случаи | Q102: бр. на случаи | R102: Износ | S102: % од бр. на случаи
A103: I01-I30, БЛО1-БЛO2 | C103: Хируршки ДСГ групи | E103: =SUM(E15:E54)+E94+E95 -> 0 | F103: =SUM(F15:F54)+F94+F95 -> 0 | G103: =E103/$E$97 -> #DIV/0! | H103: =SUM(G15:G54)+G94+G95 -> 0 | I103: =SUM(I15:I54)+I94+I95 -> 0 | J103: =H103/$G$97 -> #DIV/0! | K103: =SUM(J15:J54)+J94+J95 -> 0 | L103: =SUM(L15:L54)+L94+L95 -> 0 | M103: =K103/$J$97 -> #DIV/0! | N103: =SUM(M15:M54)+M94+M95 -> 0 | O103: =SUM(O15:O54)+O94+O95 -> 0 | P103: =N103/$M$97 -> #DIV/0! | Q103: =SUM(P15:P54)+P94+P95 -> 0 | R103: =SUM(R15:R54)+R94+R95 -> 0 | S103: =Q103/$P$97 -> #DIV/0!
A104: I60-I78 | C104: Медицински (интернистички) ДСГ групи | E104: =SUM(E55:E93) -> 0 | F104: =SUM(F55:F93) -> 0 | G104: =E104/$E$97 -> #DIV/0! | H104: =SUM(G55:G93) -> 0 | I104: =SUM(I55:I93) -> 0 | J104: =H104/$G$97 -> #DIV/0! | K104: =SUM(J55:J93) -> 0 | L104: =SUM(L55:L93) -> 0 | M104: =K104/$J$97 -> #DIV/0! | N104: =SUM(M55:M93) -> 0 | O104: =SUM(O55:O93) -> 0 | P104: =N104/$M$97 -> #DIV/0! | Q104: =SUM(P55:P93) -> 0 | R104: =SUM(R55:R93) -> 0 | S104: =Q104/$P$97 -> #DIV/0!
A105: нема | C105: Останати ДСГ групи | E105: 0 | F105: 0 | G105: =E105/$E$97 -> #DIV/0! | H105: 0 | I105: 0 | J105: =H105/$G$97 -> #DIV/0! | K105: 0 | L105: 0 | M105: =K105/$J$97 -> #DIV/0! | N105: 0 | O105: 0 | P105: =N105/$M$97 -> #DIV/0! | Q105: 0 | R105: 0 | S105: =Q105/$P$97 -> #DIV/0!
B110: Во | D110: година. | H110: Д и р е к т о р
B112: Составил:

Sheet План-ДСГ-MDC-J
A1: Универзитетски клиники, клинички болници, општи болници, специјални болници | M1: ПЛ 3 - ДСГ MDC-J | Q1: Врати се на почетна страна
C3: Здравствена установа:
C5: П Л А Н
C6: на видот и обемот на ДСГ здравствени услуги и пакети за завршени здравствени услуги во болничка здравствена заштита (акутни болнички случаи кои не се искажуваат според ДС методата) на осигурените лица за
I7: година.
C9: Главна дијагностичка категорија (MDC: J01-J68, ХПД1-ХПД6) БОЛЕСТИ И ПОРЕМЕТУВАЊА НА КОЖАТА ПОТКОЖНОТО ТКИВО И ДОЈКАТА
A11: Ред. Број | B11: Шифра на ДСГ услуга | C11: Назив на ДСГ услуга | D11: Референтнa ценa | E11: План за 2027 година | M11: 2026 година (Реализација јануари- септември и проекција до декември) | P11: Реализација за 2025 година
E12: I полугодие | G12: II полугодие | J12: Вкупно
E13: бр. на случаи | F13: износ по ДСГ | G13: бр. на случаи | H13: износ по ДСГ | J13: бр. на услуги | K13: износ по ДСГ | M13: Вкупен бр. на услуги | N13: Вкупен износ по ДСГ | P13: Вкупен бр. на услуги | Q13: Вкупен износ по ДСГ
A14: 1 | B14: 2 | C14: 3 | D14: 4 | E14: 5 | F14: 6 | G14: 7 | H14: 8 | J14: 9 (5+7) | K14: 10 (4*9) | M14: 11 | N14: 12 (4*11) | P14: 13 | Q14: 14 (4*13)
A15: 1 | B15: J01Z | C15: Микроваскуларен пренос на ткиво за пореметувања на кожата, подкожното ткиво и дојките | D15: 123532 | F15: =E15*D15 -> 0 | I15: =G15*D15 -> 0 | J15: =E15+G15 -> 0 | L15: =J15*D15 -> 0 | O15: =M15*D15 -> 0 | R15: =P15*D15 -> 0
A16: 2 | B16: J06A | C16: Големи процедури за малигни состојби на дојките | D16: 41635 | F16: =E16*D16 -> 0 | I16: =G16*D16 -> 0 | J16: =E16+G16 -> 0 | L16: =J16*D16 -> 0 | O16: =M16*D16 -> 0 | R16: =P16*D16 -> 0
A17: 3 | B17: J06B | C17: Големи процедури за немалигни состојби на дојките | D17: 25606 | F17: =E17*D17 -> 0 | I17: =G17*D17 -> 0 | J17: =E17+G17 -> 0 | L17: =J17*D17 -> 0 | O17: =M17*D17 -> 0 | R17: =P17*D17 -> 0
A18: 4 | B18: J07A | C18: Мали процедури за малигни состојби на дојките | D18: 26241 | F18: =E18*D18 -> 0 | I18: =G18*D18 -> 0 | J18: =E18+G18 -> 0 | L18: =J18*D18 -> 0 | O18: =M18*D18 -> 0 | R18: =P18*D18 -> 0
A19: 5 | B19: J07B | C19: Мали процедури за немалигни состојби на дојките | D19: 24905 | F19: =E19*D19 -> 0 | I19: =G19*D19 -> 0 | J19: =E19+G19 -> 0 | L19: =J19*D19 -> 0 | O19: =M19*D19 -> 0 | R19: =P19*D19 -> 0
A20: 6 | B20: J08A | C20: Други процедури за кожен графт и/или дебридман со катастрофални или тешки КК | D20: 56337 | F20: =E20*D20 -> 0 | I20: =G20*D20 -> 0 | J20: =E20+G20 -> 0 | L20: =J20*D20 -> 0 | O20: =M20*D20 -> 0 | R20: =P20*D20 -> 0
A21: 7 | B21: J08B | C21: Други процедури за кожен графт и/или дебридман без катастрофални или тешки КК | D21: 21630 | F21: =E21*D21 -> 0 | I21: =G21*D21 -> 0 | J21: =E21+G21 -> 0 | L21: =J21*D21 -> 0 | O21: =M21*D21 -> 0 | R21: =P21*D21 -> 0
A22: 8 | B22: J09Z | C22: Перианални и пилонидални процедури | D22: 17389 | F22: =E22*D22 -> 0 | I22: =G22*D22 -> 0 | J22: =E22+G22 -> 0 | L22: =J22*D22 -> 0 | O22: =M22*D22 -> 0 | R22: =P22*D22 -> 0
A23: 9 | B23: J10Z | C23: Пластични процедури во операциона сала на кожа, субкутано ткиво и дојка | D23: 18216 | F23: =E23*D23 -> 0 | I23: =G23*D23 -> 0 | J23: =E23+G23 -> 0 | L23: =J23*D23 -> 0 | O23: =M23*D23 -> 0 | R23: =P23*D23 -> 0
A24: 10 | B24: J11Z | C24: Други процедури на кожа, субкутано ткиво и дојка | D24: 12075 | F24: =E24*D24 -> 0 | I24: =G24*D24 -> 0 | J24: =E24+G24 -> 0 | L24: =J24*D24 -> 0 | O24: =M24*D24 -> 0 | R24: =P24*D24 -> 0
A25: 11 | B25: J12A | C25: Процедури на долни екстремитети со улцер/целулитис со катастрофални КК | D25: 187601 | F25: =E25*D25 -> 0 | I25: =G25*D25 -> 0 | J25: =E25+G25 -> 0 | L25: =J25*D25 -> 0 | O25: =M25*D25 -> 0 | R25: =P25*D25 -> 0
A26: 12 | B26: J12B | C26: Процедури на долни екстремитети со улцер/целулитис, без катастрофални КК, со репарација со кожен графт/флеп | D26: 48668 | F26: =E26*D26 -> 0 | I26: =G26*D26 -> 0 | J26: =E26+G26 -> 0 | L26: =J26*D26 -> 0 | O26: =M26*D26 -> 0 | R26: =P26*D26 -> 0
... A49: 35 | B49: ХПД6 | C49: Примарна реконструкција на дојка, мастектомија со вградување на имплант, мамопластика, двострано | D49: 100800 | F49: =E49*D49 -> 0 | I49: =G49*D49 -> 0 | J49: =E49+G49 -> 0 | L49: =J49*D49 -> 0 | O49: =M49*D49 -> 0 | R49: =P49*D49 -> 0
A50: 36
C51: ВКУПНО | E51: =SUM(E15:E50) -> 0 | F51: =SUM(F15:F50) -> 0 | G51: =SUM(G15:G50) -> 0 | H51: =SUM(I15:I50) -> 0 | J51: =SUM(J15:J50) -> 0 | K51: =SUM(L15:L50) -> 0 | M51: =SUM(M15:M50) -> 0 | N51: =SUM(O15:O50) -> 0 | P51: =SUM(P15:P50) -> 0 | Q51: =SUM(R15:R50) -> 0
B53: ДСГ здравствени услуги по тип на нега
A54: Шифра на ДСГ група | C54: тип на нега | E54: План за 2026 година | N54: 2025 година (Реализација јануари- септември и проекција до декември) | Q54: Реализација за 2024 година
E55: I полугодие | H55: II полугодие | K55: Вкупно
E56: бр. на случаи | F56: Износ | G56: % од бр. на случаи | H56: бр. на случаи | I56: Износ | J56: % од бр. на случаи | K56: бр. на случаи | L56: Износ | M56: % од бр. на случаи | N56: бр. на случаи | O56: Износ | P56: % од бр. на случаи | Q56: бр. на случаи | R56: Износ | S56: % од бр. на случаи
A57: J01-J14, ХПД1-ХПД6 | C57: Хируршки ДСГ групи | E57: =SUM(E15:E30)+E44+E45+E46+E47+E48+E49 -> 0 | F57: =SUM(F15:F30)+F44+F45+F46+F47+F48+F49 -> 0 | G57: =E57/$E$51 -> #DIV/0! | H57: =SUM(G15:G30)+G44+G45+G46+G47+G48+G49 -> 0 | I57: =SUM(I15:I30)+I44+I45+I46+I47+I48+I49 -> 0 | J57: =H57/$G$51 -> #DIV/0! | K57: =SUM(J15:J30)+J44+J45+J46+J47+J48+J49 -> 0 | L57: =SUM(L15:L30)+L44+L45+L46+L47+L48+L49 -> 0 | M57: =K57/$J$51 -> #DIV/0! | N57: =SUM(M15:M30)+M44+M45+M46+M47+M48+M49 -> 0 | O57: =SUM(O15:O30)+O44+O45+O46+O47+O48+O49 -> 0 | P57: =N57/$M$51 -> #DIV/0! | Q57: =SUM(P15:P30)+P44+P45+P46+P47+P48+P49 -> 0 | R57: =SUM(R15:R30)+R44+R45+R46+R47+R48+R49 -> 0 | S57: =Q57/$P$51 -> #DIV/0!
A58: Ј60-Ј68 | C58: Медицински (интернистички) ДСГ групи | E58: =SUM(E31:E43) -> 0 | F58: =SUM(F31:F43) -> 0 | G58: =E58/$E$51 -> #DIV/0! | H58: =SUM(G31:G43) -> 0 | I58: =SUM(I31:I43) -> 0 | J58: =H58/$G$51 -> #DIV/0! | K58: =SUM(J31:J43) -> 0 | L58: =SUM(L31:L43) -> 0 | M58: =K58/$J$51 -> #DIV/0! | N58: =SUM(M31:M43) -> 0 | O58: =SUM(O31:O43) -> 0 | P58: =N58/$M$51 -> #DIV/0! | Q58: =SUM(P31:P43) -> 0 | R58: =SUM(R31:R43) -> 0 | S58: =Q58/$P$51 -> #DIV/0!
A59: нема | C59: Останати ДСГ групи | E59: 0 | F59: 0 | G59: =E59/$E$51 -> #DIV/0! | H59: 0 | I59: 0 | J59: =H59/$G$51 -> #DIV/0! | K59: 0 | L59: 0 | M59: =K59/$J$51 -> #DIV/0! | N59: 0 | O59: 0 | P59: =N59/$M$51 -> #DIV/0! | Q59: 0 | R59: 0 | S59: =Q59/$P$51 -> #DIV/0!
B64: Во | D64: година. | H64: Д и р е к т о р
B66: Составил:

Sheet План-ДСГ-MDC-K
A1: Универзитетски клиники, клинички болници, општи болници, специјални болници | M1: ПЛ 3 - ДСГ MDC-K | Q1: Врати се на почетна страна
C3: Здравствена установа:
C5: П Л А Н
C6: на видот и обемот на ДСГ здравствени услуги и пакети за завршени здравствени услуги во болничка здравствена заштита (акутни болнички случаи кои не се искажуваат според ДС методата) на осигурените лица за
I7: година.
C9: Главна дијагностичка категорија (MDC: K01-K64) БОЛЕСТИ И ПОРЕМЕТУВАЊА НА ЖЛЕЗДИ СО ВНАТРЕШНО ЛАЧЕЊЕ, ИСХРАНА И МЕТАБОЛИЗАМ
A11: Ред. Број | B11: Шифра на ДСГ услуга | C11: Назив на ДСГ услуга | D11: Референтнa ценa | E11: План за 2027 година | M11: 2026 година (Реализација јануари- септември и проекција до декември) | P11: Реализација за 2025 година
E12: I полугодие | G12: II полугодие | J12: Вкупно
E13: бр. на случаи | F13: износ по ДСГ | G13: бр. на случаи | H13: износ по ДСГ | J13: бр. на услуги | K13: износ по ДСГ | M13: Вкупен бр. на услуги | N13: Вкупен износ по ДСГ | P13: Вкупен бр. на услуги | Q13: Вкупен износ по ДСГ
A14: 1 | B14: 2 | C14: 3 | D14: 4 | E14: 5 | F14: 6 | G14: 7 | H14: 8 | J14: 9 (5+7) | K14: 10 (4*9) | M14: 11 | N14: 12 (4*11) | P14: 13 | Q14: 14 (4*13)
A15: 1 | B15: K01Z | C15: Процедури на дијабетичко стапало | D15: 144493 | F15: =E15*D15 -> 0 | I15: =G15*D15 -> 0 | J15: =E15+G15 -> 0 | L15: =J15*D15 -> 0 | O15: =M15*D15 -> 0 | R15: =P15*D15 -> 0
A16: 2 | B16: K02Z | C16: Процедури на хипофиза | D16: 96760 | F16: =E16*D16 -> 0 | I16: =G16*D16 -> 0 | J16: =E16+G16 -> 0 | L16: =J16*D16 -> 0 | O16: =M16*D16 -> 0 | R16: =P16*D16 -> 0
A17: 3 | B17: K03Z | C17: Процедури на надбубрежните жлезди | D17: 88920 | F17: =E17*D17 -> 0 | I17: =G17*D17 -> 0 | J17: =E17+G17 -> 0 | L17: =J17*D17 -> 0 | O17: =M17*D17 -> 0 | R17: =P17*D17 -> 0
A18: 4 | B18: K04Z | C18: Големи процедури за дебелина | D18: 365000 | F18: =E18*D18 -> 0 | I18: =G18*D18 -> 0 | J18: =E18+G18 -> 0 | L18: =J18*D18 -> 0 | O18: =M18*D18 -> 0 | R18: =P18*D18 -> 0
A19: 5 | B19: K05Z | C19: Процедури на паратироидна жлезда | D19: 49064 | F19: =E19*D19 -> 0 | I19: =G19*D19 -> 0 | J19: =E19+G19 -> 0 | L19: =J19*D19 -> 0 | O19: =M19*D19 -> 0 | R19: =P19*D19 -> 0
A20: 6 | B20: K06Z | C20: Процедури на тироидна жлезда | D20: 38915 | F20: =E20*D20 -> 0 | I20: =G20*D20 -> 0 | J20: =E20+G20 -> 0 | L20: =J20*D20 -> 0 | O20: =M20*D20 -> 0 | R20: =P20*D20 -> 0
A21: 7 | B21: K07Z | C21: Процедури за дебелина | D21: 54204 | F21: =E21*D21 -> 0 | I21: =G21*D21 -> 0 | J21: =E21+G21 -> 0 | L21: =J21*D21 -> 0 | O21: =M21*D21 -> 0 | R21: =P21*D21 -> 0
A22: 8 | B22: K08Z | C22: Тироглосални процедури | D22: 25613 | F22: =E22*D22 -> 0 | I22: =G22*D22 -> 0 | J22: =E22+G22 -> 0 | L22: =J22*D22 -> 0 | O22: =M22*D22 -> 0 | R22: =P22*D22 -> 0
A23: 9 | B23: K09Z | C23: Други ендокринолошки, нутритивни и метаболички процедури во операциона сала | D23: 63400 | F23: =E23*D23 -> 0 | I23: =G23*D23 -> 0 | J23: =E23+G23 -> 0 | L23: =J23*D23 -> 0 | O23: =M23*D23 -> 0 | R23: =P23*D23 -> 0
A24: 10 | B24: K40Z | C24: Ендоскопски или дијагностички процедури за метаболички нарушувања без КК | D24: 22711 | F24: =E24*D24 -> 0 | I24: =G24*D24 -> 0 | J24: =E24+G24 -> 0 | L24: =J24*D24 -> 0 | O24: =M24*D24 -> 0 | R24: =P24*D24 -> 0
A25: 11 | B25: K60A | C25: Дијабетес со катастрофални или тешки КК | D25: 33283 | F25: =E25*D25 -> 0 | I25: =G25*D25 -> 0 | J25: =E25+G25 -> 0 | L25: =J25*D25 -> 0 | O25: =M25*D25 -> 0 | R25: =P25*D25 -> 0
A26: 12 | B26: K60B | C26: Дијабетес без катастрофални или тешки КК | D26: 18552 | F26: =E26*D26 -> 0 | I26: =G26*D26 -> 0 | J26: =E26+G26 -> 0 | L26: =J26*D26 -> 0 | O26: =M26*D26 -> 0 | R26: =P26*D26 -> 0
... A33: 19 | B33: K64B | C33: Ендокрини пореметувања без катастрофални или тешки КК | D33: 17515 | F33: =E33*D33 -> 0 | I33: =G33*D33 -> 0 | J33: =E33+G33 -> 0 | L33: =J33*D33 -> 0 | O33: =M33*D33 -> 0 | R33: =P33*D33 -> 0
A34: 20
A35: 21
A36: 22
A37: 23
A38: 24
A39: 25
A40: 26
A41: 27
A42: 28
A43: 29
A44: 30
C45: ВКУПНО | E45: =SUM(E15:E44) -> 0 | F45: =SUM(F15:F44) -> 0 | G45: =SUM(G15:G44) -> 0 | H45: =SUM(I15:I44) -> 0 | J45: =SUM(J15:J44) -> 0 | K45: =SUM(L15:L44) -> 0 | M45: =SUM(M15:M44) -> 0 | O45: =SUM(O15:O44) -> 0 | P45: =SUM(P15:P44) -> 0 | Q45: =SUM(R15:R44) -> 0
B47: ДСГ здравствени услуги по тип на нега
B48: Шифра на ДСГ група | C48: тип на нега | E48: План за 2026 година | N48: 2025 година (Реализација јануари- септември и проекција до декември) | Q48: Реализација за 2024 година
E49: I полугодие | H49: II полугодие | K49: Вкупно
E50: бр. на случаи | F50: Износ | G50: % од бр. на случаи | H50: бр. на случаи | I50: Износ | J50: % од бр. на случаи | K50: бр. на случаи | L50: Износ | M50: % од бр. на случаи | N50: бр. на случаи | O50: Износ | P50: % од бр. на случаи | Q50: бр. на случаи | R50: Износ | S50: % од бр. на случаи
B51: K01-K09 | C51: Хируршки ДСГ групи | E51: =SUM(E15:E23) -> 0 | F51: =SUM(F15:F23) -> 0 | G51: =E51/$E$45 -> #DIV/0! | H51: =SUM(G15:G23) -> 0 | I51: =SUM(I15:I23) -> 0 | J51: =H51/$G$45 -> #DIV/0! | K51: =SUM(J15:J23) -> 0 | L51: =SUM(L15:L23) -> 0 | M51: =K51/$J$45 -> #DIV/0! | N51: =SUM(M15:M23) -> 0 | O51: =SUM(O15:O23) -> 0 | P51: =N51/$M$45 -> #DIV/0! | Q51: =SUM(P15:P23) -> 0 | R51: =SUM(R15:R23) -> 0 | S51: =Q51/$P$45 -> #DIV/0!
B52: K60-K64 | C52: Медицински (интернистички) ДСГ групи | E52: =SUM(E25:E44) -> 0 | F52: =SUM(F25:F44) -> 0 | G52: =E52/$E$45 -> #DIV/0! | H52: =SUM(G25:G44) -> 0 | I52: =SUM(I25:I44) -> 0 | J52: =H52/$G$45 -> #DIV/0! | K52: =SUM(J25:J44) -> 0 | L52: =SUM(L25:L44) -> 0 | M52: =K52/$J$45 -> #DIV/0! | N52: =SUM(M25:M44) -> 0 | O52: =SUM(O25:O44) -> 0 | P52: =N52/$M$45 -> #DIV/0! | Q52: =SUM(P25:P44) -> 0 | R52: =SUM(R25:R44) -> 0 | S52: =Q52/$P$45 -> #DIV/0!
B53: K40 | C53: Останати ДСГ групи | E53: =E24 -> 0 | F53: =F24 -> 0 | G53: =E53/$E$45 -> #DIV/0! | H53: =G24 -> 0 | I53: =I24 -> 0 | J53: =H53/$G$45 -> #DIV/0! | K53: =J24 -> 0 | L53: =L24 -> 0 | M53: =K53/$J$45 -> #DIV/0! | N53: =M24 -> 0 | O53: =O24 -> 0 | P53: =N53/$M$45 -> #DIV/0! | Q53: =P24 -> 0 | R53: =R24 -> 0 | S53: =Q53/$P$45 -> #DIV/0!
B59: Во | D59: година. | H59: Д и р е к т о р
B61: Составил:

Sheet План-ДСГ-MDC-L
A1: Универзитетски клиники, клинички болници, општи болници, специјални болници | M1: ПЛ 3 - ДСГ MDC-L | Q1: Врати се на почетна страна
C3: Здравствена установа:
C5: П Л А Н
C6: на видот и обемот на ДСГ здравствени услуги и пакети за завршени здравствени услуги во болничка здравствена заштита (акутни болнички случаи кои не се искажуваат според ДС методата) на осигурените лица за
I7: година.
C9: Главна дијагностичка категорија (MDC: L02-L67, БЛУ1-БЛУ3) БОЛЕСТИ И ПОРЕМЕТУВАЊА НА БУБРЕГ И УРИНАРЕН СИСТЕМ
A11: Ред. Број | B11: Шифра на ДСГ услуга | C11: Назив на ДСГ услуга | D11: Референтнa ценa | E11: План за 2027 година | M11: 2026 година (Реализација јануари- септември и проекција до декември) | P11: Реализација за 2025 година
E12: I полугодие | G12: II полугодие | J12: Вкупно
E13: бр. на случаи | F13: износ по ДСГ | G13: бр. на случаи | H13: износ по ДСГ | J13: бр. на услуги | K13: износ по ДСГ | M13: Вкупен бр. на услуги | N13: Вкупен износ по ДСГ | P13: Вкупен бр. на услуги | Q13: Вкупен износ по ДСГ
A14: 1 | B14: 2 | C14: 3 | D14: 4 | E14: 5 | F14: 6 | G14: 7 | H14: 8 | J14: 9 (5+7) | K14: 10 (4*9) | M14: 11 | N14: 12 (4*11) | P14: 13 | Q14: 14 (4*13)
A15: 1 | B15: L02A | C15: Оперативно поставување на перитонален катетер за дијализа со катастрофални или тешки КК | D15: 112885 | F15: =E15*D15 -> 0 | I15: =G15*D15 -> 0 | J15: =E15+G15 -> 0 | L15: =J15*D15 -> 0 | O15: =M15*D15 -> 0 | R15: =P15*D15 -> 0
A16: 2 | B16: L02B | C16: Оперативно поставување на перитонален катетер за дијализа без катастрофални или тешки КК | D16: 87594 | F16: =E16*D16 -> 0 | I16: =G16*D16 -> 0 | J16: =E16+G16 -> 0 | L16: =J16*D16 -> 0 | O16: =M16*D16 -> 0 | R16: =P16*D16 -> 0
A17: 3 | B17: L03A | C17: Големи процедури на бубрези, уретер и мочен меур поради неоплазми со катастрофални или тешки КК | D17: 211157 | F17: =E17*D17 -> 0 | I17: =G17*D17 -> 0 | J17: =E17+G17 -> 0 | L17: =J17*D17 -> 0 | O17: =M17*D17 -> 0 | R17: =P17*D17 -> 0
A18: 4 | B18: L03B | C18: Големи процедури на бубрези, уретер и мочен меур поради неоплазми без катастрофални или тешки КК | D18: 146958 | F18: =E18*D18 -> 0 | I18: =G18*D18 -> 0 | J18: =E18+G18 -> 0 | L18: =J18*D18 -> 0 | O18: =M18*D18 -> 0 | R18: =P18*D18 -> 0
A19: 5 | B19: L04A | C19: Големи процедури на бубрези, уретер и мочен меур поради не-неопластични болести со катастрофални или тешки КК | D19: 115501 | F19: =E19*D19 -> 0 | I19: =G19*D19 -> 0 | J19: =E19+G19 -> 0 | L19: =J19*D19 -> 0 | O19: =M19*D19 -> 0 | R19: =P19*D19 -> 0
A20: 6 | B20: L04B | C20: Големи процедури на бубрези, уретер и мочен меур поради не-неопластични болести со тешки или умерени КК | D20: 63421 | F20: =E20*D20 -> 0 | I20: =G20*D20 -> 0 | J20: =E20+G20 -> 0 | L20: =J20*D20 -> 0 | O20: =M20*D20 -> 0 | R20: =P20*D20 -> 0
A21: 7 | B21: L04C | C21: Големи процедури на бубрези, уретер и мочен меур поради не-неопластични болести без КК | D21: 55052 | F21: =E21*D21 -> 0 | I21: =G21*D21 -> 0 | J21: =E21+G21 -> 0 | L21: =J21*D21 -> 0 | O21: =M21*D21 -> 0 | R21: =P21*D21 -> 0
A22: 8 | B22: L05A | C22: Трансуретрална простатектомија со катастрофални или тешки КК | D22: 79434 | F22: =E22*D22 -> 0 | I22: =G22*D22 -> 0 | J22: =E22+G22 -> 0 | L22: =J22*D22 -> 0 | O22: =M22*D22 -> 0 | R22: =P22*D22 -> 0
A23: 9 | B23: L05B | C23: Трансуретрална простатектомија без катастрофални или тешки КК | D23: 36445 | F23: =E23*D23 -> 0 | I23: =G23*D23 -> 0 | J23: =E23+G23 -> 0 | L23: =J23*D23 -> 0 | O23: =M23*D23 -> 0 | R23: =P23*D23 -> 0
A24: 10 | B24: L06A | C24: Мали процедури на мочен меур со катастрофални или тешки КК | D24: 50459 | F24: =E24*D24 -> 0 | I24: =G24*D24 -> 0 | J24: =E24+G24 -> 0 | L24: =J24*D24 -> 0 | O24: =M24*D24 -> 0 | R24: =P24*D24 -> 0
A25: 11 | B25: L06B | C25: Мали процедури на мочен меур без катастрофални или тешки КК | D25: 30746 | F25: =E25*D25 -> 0 | I25: =G25*D25 -> 0 | J25: =E25+G25 -> 0 | L25: =J25*D25 -> 0 | O25: =M25*D25 -> 0 | R25: =P25*D25 -> 0
A26: 12 | B26: L07A | C26: Трансуретрални процедури освен простатектомија со катастрофални или тешки КК | D26: 47799 | F26: =E26*D26 -> 0 | I26: =G26*D26 -> 0 | J26: =E26+G26 -> 0 | L26: =J26*D26 -> 0 | O26: =M26*D26 -> 0 | R26: =P26*D26 -> 0
... A54: 40 | B54: БЛУ 3 | C54: Вградување на семи ригидна пенилна протеза | D54: 137340 | F54: =E54*D54 -> 0 | I54: =G54*D54 -> 0 | J54: =E54+G54 -> 0 | L54: =J54*D54 -> 0 | O54: =M54*D54 -> 0 | R54: =P54*D54 -> 0
A55: 41
A56: 42
A57: 43
C58: ВКУПНО | E58: =SUM(E15:E57) -> 0 | F58: =SUM(F15:F57) -> 0 | G58: =SUM(G15:G57) -> 0 | H58: =SUM(I15:I57) -> 0 | J58: =SUM(J15:J57) -> 0 | K58: =SUM(L15:L57) -> 0 | M58: =SUM(M15:M57) -> 0 | N58: =SUM(O15:O57) -> 0 | P58: =SUM(P15:P57) -> 0 | Q58: =SUM(R15:R57) -> 0
B60: ДСГ здравствени услуги по тип на нега
B61: Шифра на ДСГ група | C61: тип на нега | E61: План за 2026 година | N61: 2025 година (Реализација јануари- септември и проекција до декември) | Q61: Реализација за 2024 година
E62: I полугодие | H62: II полугодие | K62: Вкупно
E63: бр. на случаи | F63: Износ | G63: % од бр. на случаи | H63: бр. на случаи | I63: Износ | J63: % од бр. на случаи | K63: бр. на случаи | L63: Износ | M63: % од бр. на случаи | N63: бр. на случаи | O63: Износ | P63: % од бр. на случаи | Q63: бр. на случаи | R63: Износ | S63: % од бр. на случаи
B64: L02-L09, БЛУ1-БЛУ3 | C64: Хируршки ДСГ групи | E64: =SUM(E15:E32)+E52+E53+E54 -> 0 | F64: =SUM(F15:F32)+F52+F53+F54 -> 0 | G64: =E64/$E$58 -> #DIV/0! | H64: =SUM(G15:G32)+G52+G53+G54 -> 0 | I64: =SUM(I15:I32)+I52+I53+I54 -> 0 | J64: =H64/$G$58 -> #DIV/0! | K64: =SUM(J15:J32)+J52+J53+J54 -> 0 | L64: =SUM(L15:L32)+L52+L53+L54 -> 0 | M64: =K64/$J$58 -> #DIV/0! | N64: =SUM(M15:M32)+M52+M53+M54 -> 0 | O64: =SUM(O15:O32)+O52+O53+O54 -> 0 | P64: =N64/$M$58 -> #DIV/0! | Q64: =SUM(P15:P32)+P52+P53+P54 -> 0 | R64: =SUM(R15:R32)+R52+R53+R54 -> 0 | S64: =Q64/$P$58 -> #DIV/0!
B65: I60-I78 | C65: Медицински (интернистички) ДСГ групи | E65: =SUM(E36:E51) -> 0 | F65: =SUM(F36:F51) -> 0 | G65: =E65/$E$58 -> #DIV/0! | H65: =SUM(G36:G51) -> 0 | I65: =SUM(I36:I51) -> 0 | J65: =H65/$G$58 -> #DIV/0! | K65: =SUM(J36:J51) -> 0 | L65: =SUM(L36:L51) -> 0 | M65: =K65/$J$58 -> #DIV/0! | N65: =SUM(M36:M51) -> 0 | O65: =SUM(O36:O51) -> 0 | P65: =N65/$M$58 -> #DIV/0! | Q65: =SUM(P36:P51) -> 0 | R65: =SUM(R36:R51) -> 0 | S65: =Q65/$P$58 -> #DIV/0!
B66: L40-L42 | C66: Останати ДСГ групи | E66: =SUM(E33:E35) -> 0 | F66: =SUM(F33:F35) -> 0 | G66: =E66/$E$58 -> #DIV/0! | H66: =SUM(G33:G35) -> 0 | I66: =SUM(I33:I35) -> 0 | J66: =H66/$G$58 -> #DIV/0! | K66: =SUM(J33:J35) -> 0 | L66: =SUM(L33:L35) -> 0 | M66: =K66/$J$58 -> #DIV/0! | N66: =SUM(M33:M35) -> 0 | O66: =SUM(O33:O35) -> 0 | P66: =N66/$M$58 -> #DIV/0! | Q66: =SUM(P33:P35) -> 0 | R66: =SUM(R33:R35) -> 0 | S66: =Q66/$P$58 -> #DIV/0!
B71: Во | D71: година. | H71: Д и р е к т о р
B73: Составил:

Sheet План-ДСГ-MDC-M
A1: Универзитетски клиники, клинички болници, општи болници, специјални болници | M1: ПЛ 3 - ДСГ MDC-M | Q1: Врати се на почетна страна
C3: Здравствена установа:
C5: П Л А Н
C6: на видот и обемот на ДСГ здравствени услуги и пакети за завршени здравствени услуги во болничка здравствена заштита (акутни болнички случаи кои не се искажуваат според ДС методата) на осигурените лица за
I7: година.
C9: Главна дијагностичка категорија (MDC: M01-M64) БОЛЕСТИ И ПОРЕМЕТУВАЊА НА МАШКИ РЕПРОДУКТИВЕН СИСТЕМ
A11: Ред. Број | B11: Шифра на ДСГ услуга | C11: Назив на ДСГ услуга | D11: Референтнa ценa | E11: План за 2027 година | M11: 2026 година (Реализација јануари- септември и проекција до декември) | P11: Реализација за 2025 година
E12: I полугодие | G12: II полугодие | J12: Вкупно
E13: бр. на случаи | F13: износ по ДСГ | G13: бр. на случаи | H13: износ по ДСГ | J13: бр. на услуги | K13: износ по ДСГ | M13: Вкупен бр. на услуги | N13: Вкупен износ по ДСГ | P13: Вкупен бр. на услуги | Q13: Вкупен износ по ДСГ
A14: 1 | B14: 2 | C14: 3 | D14: 4 | E14: 5 | F14: 6 | G14: 7 | H14: 8 | J14: 9 (5+7) | K14: 10 (4*9) | M14: 11 | N14: 12 (4*11) | P14: 13 | Q14: 14 (4*13)
A15: 1 | B15: M01Z | C15: Големи процедури на пелвис кај мажи | D15: 79478 | F15: =E15*D15 -> 0 | I15: =G15*D15 -> 0 | J15: =E15+G15 -> 0 | L15: =J15*D15 -> 0 | O15: =M15*D15 -> 0 | R15: =P15*D15 -> 0
A16: 2 | B16: M02A | C16: Трансуретална простатектомија со катастрофални или тешки КК | D16: 49830 | F16: =E16*D16 -> 0 | I16: =G16*D16 -> 0 | J16: =E16+G16 -> 0 | L16: =J16*D16 -> 0 | O16: =M16*D16 -> 0 | R16: =P16*D16 -> 0
A17: 3 | B17: M02B | C17: Трансуретрална простатектомија без катастрофални или тешки КК | D17: 38819 | F17: =E17*D17 -> 0 | I17: =G17*D17 -> 0 | J17: =E17+G17 -> 0 | L17: =J17*D17 -> 0 | O17: =M17*D17 -> 0 | R17: =P17*D17 -> 0
A18: 4 | B18: M03A | C18: Процедури на пенис со КК | D18: 29126 | F18: =E18*D18 -> 0 | I18: =G18*D18 -> 0 | J18: =E18+G18 -> 0 | L18: =J18*D18 -> 0 | O18: =M18*D18 -> 0 | R18: =P18*D18 -> 0
A19: 5 | B19: M03B | C19: Процедури на пенис без КК | D19: 21839 | F19: =E19*D19 -> 0 | I19: =G19*D19 -> 0 | J19: =E19+G19 -> 0 | L19: =J19*D19 -> 0 | O19: =M19*D19 -> 0 | R19: =P19*D19 -> 0
A20: 6 | B20: M04A | C20: Процедури на тестиси со КК | D20: 27145 | F20: =E20*D20 -> 0 | I20: =G20*D20 -> 0 | J20: =E20+G20 -> 0 | L20: =J20*D20 -> 0 | O20: =M20*D20 -> 0 | R20: =P20*D20 -> 0
A21: 7 | B21: M04B | C21: Процедури на тестиси без КК | D21: 19611 | F21: =E21*D21 -> 0 | I21: =G21*D21 -> 0 | J21: =E21+G21 -> 0 | L21: =J21*D21 -> 0 | O21: =M21*D21 -> 0 | R21: =P21*D21 -> 0
A22: 8 | B22: M05Z | C22: Циркумцизија | D22: 9217 | F22: =E22*D22 -> 0 | I22: =G22*D22 -> 0 | J22: =E22+G22 -> 0 | L22: =J22*D22 -> 0 | O22: =M22*D22 -> 0 | R22: =P22*D22 -> 0
A23: 9 | B23: M06A | C23: Други процедури во операциона сала за малигна болест на машкиот репродуктивен систем | D23: 46573 | F23: =E23*D23 -> 0 | I23: =G23*D23 -> 0 | J23: =E23+G23 -> 0 | L23: =J23*D23 -> 0 | O23: =M23*D23 -> 0 | R23: =P23*D23 -> 0
A24: 10 | B24: M06B | C24: Други процедури во операциона сала на машкиот репродуктивен систем освен за малигна болест | D24: 31959 | F24: =E24*D24 -> 0 | I24: =G24*D24 -> 0 | J24: =E24+G24 -> 0 | L24: =J24*D24 -> 0 | O24: =M24*D24 -> 0 | R24: =P24*D24 -> 0
A25: 11 | B25: M40Z | C25: Цистоуретроскопија без КК | D25: 9813 | F25: =E25*D25 -> 0 | I25: =G25*D25 -> 0 | J25: =E25+G25 -> 0 | L25: =J25*D25 -> 0 | O25: =M25*D25 -> 0 | R25: =P25*D25 -> 0
A26: 12 | B26: M60A | C26: Малигна болест на машкиот репродуктивен систем со катастрофални или тешки КК | D26: 62182 | F26: =E26*D26 -> 0 | I26: =G26*D26 -> 0 | J26: =E26+G26 -> 0 | L26: =J26*D26 -> 0 | O26: =M26*D26 -> 0 | R26: =P26*D26 -> 0
... A33: 19 | B33: M64Z | C33: Други дијагнози на машкиот репродуктивен систем | D33: 13748 | F33: =E33*D33 -> 0 | I33: =G33*D33 -> 0 | J33: =E33+G33 -> 0 | L33: =J33*D33 -> 0 | O33: =M33*D33 -> 0 | R33: =P33*D33 -> 0
A34: 20
A35: 21
A36: 22
A37: 23
A38: 24
A39: 25
A40: 26
A41: 27
A42: 28
A43: 29
A44: 30
C45: ВКУПНО | E45: =SUM(E15:E44) -> 0 | F45: =SUM(F15:F44) -> 0 | G45: =SUM(G15:G44) -> 0 | H45: =SUM(I15:I44) -> 0 | J45: =SUM(J15:J44) -> 0 | K45: =SUM(L15:L44) -> 0 | M45: =SUM(M15:M44) -> 0 | N45: =SUM(O15:O44) -> 0 | P45: =SUM(P15:P44) -> 0 | Q45: =SUM(R15:R44) -> 0
B47: ДСГ здравствени услуги по тип на нега
B48: Шифра на ДСГ група | C48: тип на нега | E48: План за 2026 година | N48: 2025 година (Реализација јануари- септември и проекција до декември) | Q48: Реализација за 2024 година
E49: I полугодие | H49: II полугодие | K49: Вкупно
E50: бр. на случаи | F50: Износ | G50: % од бр. на случаи | H50: бр. на случаи | I50: Износ | J50: % од бр. на случаи | K50: бр. на случаи | L50: Износ | M50: % од бр. на случаи | N50: бр. на случаи | O50: Износ | P50: % од бр. на случаи | Q50: бр. на случаи | R50: Износ | S50: % од бр. на случаи
B51: M01-M06 | C51: Хируршки ДСГ групи | E51: =SUM(E15:E24) -> 0 | F51: =SUM(F15:F24) -> 0 | G51: =E51/$E$45 -> #DIV/0! | H51: =SUM(G15:G24) -> 0 | I51: =SUM(I15:I24) -> 0 | J51: =H51/$G$45 -> #DIV/0! | K51: =SUM(J15:J24) -> 0 | L51: =SUM(L15:L24) -> 0 | M51: =K51/$J$45 -> #DIV/0! | N51: =SUM(M15:M24) -> 0 | O51: =SUM(O15:O24) -> 0 | P51: =N51/$M$45 -> #DIV/0! | Q51: =SUM(P15:P24) -> 0 | R51: =SUM(R15:R24) -> 0 | S51: =Q51/$P$45 -> #DIV/0!
B52: M60-M64 | C52: Медицински (интернистички) ДСГ групи | E52: =SUM(E26:E44) -> 0 | F52: =SUM(F26:F44) -> 0 | G52: =E52/$E$45 -> #DIV/0! | H52: =SUM(G26:G44) -> 0 | I52: =SUM(I26:I44) -> 0 | J52: =H52/$G$45 -> #DIV/0! | K52: =SUM(J26:J44) -> 0 | L52: =SUM(L26:L44) -> 0 | M52: =K52/$J$45 -> #DIV/0! | N52: =SUM(M26:M44) -> 0 | O52: =SUM(O26:O44) -> 0 | P52: =N52/$M$45 -> #DIV/0! | Q52: =SUM(P26:P44) -> 0 | R52: =SUM(R26:R44) -> 0 | S52: =Q52/$P$45 -> #DIV/0!
B53: M40 | C53: Останати ДСГ групи | E53: =E25 -> 0 | F53: =F25 -> 0 | G53: =E53/$E$45 -> #DIV/0! | H53: =G25 -> 0 | I53: =I25 -> 0 | J53: =H53/$G$45 -> #DIV/0! | K53: =J25 -> 0 | L53: =L25 -> 0 | M53: =K53/$J$45 -> #DIV/0! | N53: =M25 -> 0 | O53: =O25 -> 0 | P53: =N53/$M$45 -> #DIV/0! | Q53: =P25 -> 0 | R53: =R25 -> 0 | S53: =Q53/$P$45 -> #DIV/0!
B60: Во | D60: година. | H60: Д и р е к т о р
B62: Составил:

Sheet План-ДСГ-MDC-N
A1: Универзитетски клиники, клинички болници, општи болници, специјални болници | M1: ПЛ 3 - ДСГ MDC-N | Q1: Врати се на почетна страна
C3: Здравствена установа:
C5: П Л А Н
C6: на видот и обемот на ДСГ здравствени услуги и пакети за завршени здравствени услуги во болничка здравствена заштита (акутни болнички случаи кои не се искажуваат според ДС методата) на осигурените лица за
I7: година.
C9: Главна дијагностичка категорија (MDC: N01-N62, БЛГИ01) БОЛЕСТИ И ПОРЕМЕТУВАЊА НА ЖЕНСКИОТ РЕПРОДУКТИВЕН СИСТЕМ
A11: Ред. Број | B11: Шифра на ДСГ услуга | C11: Назив на ДСГ услуга | D11: Референтнa ценa | E11: План за 2027 година | M11: 2026 година (Реализација јануари- септември и проекција до декември) | P11: Реализација за 2025 година
E12: I полугодие | G12: II полугодие | J12: Вкупно
E13: бр. на случаи | F13: износ по ДСГ | G13: бр. на случаи | H13: износ по ДСГ | J13: бр. на услуги | K13: износ по ДСГ | M13: Вкупен бр. на услуги | N13: Вкупен износ по ДСГ | P13: Вкупен бр. на услуги | Q13: Вкупен износ по ДСГ
A14: 1 | B14: 2 | C14: 3 | D14: 4 | E14: 5 | F14: 6 | G14: 7 | H14: 8 | J14: 9 (5+7) | K14: 10 (4*9) | M14: 11 | N14: 12 (4*11) | P14: 13 | Q14: 14 (4*13)
A15: 1 | B15: N01Z | C15: Пелвична евисцерација и радикална вулвектомија | D15: 66094 | F15: =E15*D15 -> 0 | I15: =G15*D15 -> 0 | J15: =E15+G15 -> 0 | L15: =J15*D15 -> 0 | O15: =M15*D15 -> 0 | R15: =P15*D15 -> 0
A16: 2 | B16: N02A | C16: Процедури на матка, јајчници и јајцеводи поради малигнa болест на овариум или малигна болест на јајцевод со КК | D16: 121805 | F16: =E16*D16 -> 0 | I16: =G16*D16 -> 0 | J16: =E16+G16 -> 0 | L16: =J16*D16 -> 0 | O16: =M16*D16 -> 0 | R16: =P16*D16 -> 0
A17: 3 | B17: N02B | C17: Процедури на матка, јајчници и јајцеводи поради малигна болест на овариум или јајцевод без КК | D17: 64667 | F17: =E17*D17 -> 0 | I17: =G17*D17 -> 0 | J17: =E17+G17 -> 0 | L17: =J17*D17 -> 0 | O17: =M17*D17 -> 0 | R17: =P17*D17 -> 0
A18: 4 | B18: N03A | C18: Процедури на матка, јајчници и јајцеводи поради малигна болест освен на јајчниците или јајцеводите со КК | D18: 78622 | F18: =E18*D18 -> 0 | I18: =G18*D18 -> 0 | J18: =E18+G18 -> 0 | L18: =J18*D18 -> 0 | O18: =M18*D18 -> 0 | R18: =P18*D18 -> 0
A19: 5 | B19: N03B | C19: Процедури на матка, јајчници и јајцеводи поради малигна болест освен на јајчниците или јајцеводите без КК | D19: 71827 | F19: =E19*D19 -> 0 | I19: =G19*D19 -> 0 | J19: =E19+G19 -> 0 | L19: =J19*D19 -> 0 | O19: =M19*D19 -> 0 | R19: =P19*D19 -> 0
A20: 6 | B20: N04Z | C20: Хистеректомија поради немалигна болест | D20: 49399 | F20: =E20*D20 -> 0 | I20: =G20*D20 -> 0 | J20: =E20+G20 -> 0 | L20: =J20*D20 -> 0 | O20: =M20*D20 -> 0 | R20: =P20*D20 -> 0
A21: 7 | B21: N05A | C21: Оваректомии и сложени процедури на јајцевод поради немалигни болести со катастрофални или тешки КК | D21: 91854 | F21: =E21*D21 -> 0 | I21: =G21*D21 -> 0 | J21: =E21+G21 -> 0 | L21: =J21*D21 -> 0 | O21: =M21*D21 -> 0 | R21: =P21*D21 -> 0
A22: 8 | B22: N05B | C22: Оваректомија и сложени процедури на јајцевод поради немалигни болести без катастрофални или тешки КК | D22: 38461 | F22: =E22*D22 -> 0 | I22: =G22*D22 -> 0 | J22: =E22+G22 -> 0 | L22: =J22*D22 -> 0 | O22: =M22*D22 -> 0 | R22: =P22*D22 -> 0
A23: 9 | B23: N06Z | C23: Реконструктивни процедури на женскиот репродуктивен систем | D23: 32770 | F23: =E23*D23 -> 0 | I23: =G23*D23 -> 0 | J23: =E23+G23 -> 0 | L23: =J23*D23 -> 0 | O23: =M23*D23 -> 0 | R23: =P23*D23 -> 0
A24: 10 | B24: N07Z | C24: Други процедури на матка, јајчници и јајцеводи поради немалигни болести | D24: 27871 | F24: =E24*D24 -> 0 | I24: =G24*D24 -> 0 | J24: =E24+G24 -> 0 | L24: =J24*D24 -> 0 | O24: =M24*D24 -> 0 | R24: =P24*D24 -> 0
A25: 11 | B25: N08Z | C25: Ендоскопски и лапароскопски процедури на женскиот репродуктивен систем | D25: 20924 | F25: =E25*D25 -> 0 | I25: =G25*D25 -> 0 | J25: =E25+G25 -> 0 | L25: =J25*D25 -> 0 | O25: =M25*D25 -> 0 | R25: =P25*D25 -> 0
A26: 12 | B26: N09Z | C26: Конизација, процедури на вагина, цервикс и вулва | D26: 14181 | F26: =E26*D26 -> 0 | I26: =G26*D26 -> 0 | J26: =E26+G26 -> 0 | L26: =J26*D26 -> 0 | O26: =M26*D26 -> 0 | R26: =P26*D26 -> 0
... A35: 21 | B35: БЛГИ01 | C35: Процедура за стрес уринарна инконтиненција со трансвагинална tension-free лента (TVT – retropubic или TVT-O/transobturator) | D35: 65020 | F35: =E35*D35 -> 0 | I35: =G35*D35 -> 0 | J35: =E35+G35 -> 0 | L35: =J35*D35 -> 0 | O35: =M35*D35 -> 0 | R35: =P35*D35 -> 0
A36: 22
A37: 23
A38: 24
A39: 25
A40: 26
A41: 27
A42: 28
A43: 29
A44: 30
C45: ВКУПНО | E45: =SUM(E15:E44) -> 0 | F45: =SUM(F15:F44) -> 0 | G45: =SUM(G15:G44) -> 0 | H45: =SUM(I15:I44) -> 0 | J45: =SUM(J15:J44) -> 0 | K45: =SUM(L15:L44) -> 0 | M45: =SUM(M15:M44) -> 0 | N45: =SUM(O15:O44) -> 0 | P45: =SUM(P15:P44) -> 0 | Q45: =SUM(R15:R44) -> 0
B47: ДСГ здравствени услуги по тип на нега
B48: Шифра на ДСГ група | C48: тип на нега | E48: План за 2026 година | N48: 2025 година (Реализација јануари- септември и проекција до декември) | Q48: Реализација за 2024 година
E49: I полугодие | H49: II полугодие | K49: Вкупно
E50: бр. на случаи | F50: Износ | G50: % од бр. на случаи | H50: бр. на случаи | I50: Износ | J50: % од бр. на случаи | K50: бр. на случаи | L50: Износ | M50: % од бр. на случаи | N50: бр. на случаи | O50: Износ | P50: % од бр. на случаи | Q50: бр. на случаи | R50: Износ | S50: % од бр. на случаи
B51: N01-N11 | C51: Хируршки ДСГ групи | E51: =SUM(E15:E29) -> 0 | F51: =SUM(F15:F29) -> 0 | G51: =E51/$E$45 -> #DIV/0! | H51: =SUM(G15:G29) -> 0 | I51: =SUM(I15:I29) -> 0 | J51: =H51/$G$45 -> #DIV/0! | K51: =SUM(J15:J29) -> 0 | L51: =SUM(L15:L29) -> 0 | M51: =K51/$J$45 -> #DIV/0! | N51: =SUM(M15:M29) -> 0 | O51: =SUM(O15:O29) -> 0 | P51: =N51/$M$45 -> #DIV/0! | Q51: =SUM(P15:P29) -> 0 | R51: =SUM(R15:R29) -> 0 | S51: =Q51/$P$45 -> #DIV/0!
B52: N60-N62 | C52: Медицински (интернистички) ДСГ групи | E52: =SUM(E30:E44) -> 0 | F52: =SUM(F30:F44) -> 0 | G52: =E52/$E$45 -> #DIV/0! | H52: =SUM(G30:G44) -> 0 | I52: =SUM(I30:I44) -> 0 | J52: =H52/$G$45 -> #DIV/0! | K52: =SUM(J30:J44) -> 0 | L52: =SUM(L30:L44) -> 0 | M52: =K52/$J$45 -> #DIV/0! | N52: =SUM(M30:M44) -> 0 | O52: =SUM(O30:O44) -> 0 | P52: =N52/$M$45 -> #DIV/0! | Q52: =SUM(P30:P44) -> 0 | R52: =SUM(R30:R44) -> 0 | S52: =Q52/$P$45 -> #DIV/0!
B53: нема | C53: Останати ДСГ групи | E53: 0 | F53: 0 | G53: =E53/$E$45 -> #DIV/0! | H53: 0 | I53: 0 | J53: =H53/$G$45 -> #DIV/0! | K53: 0 | L53: 0 | M53: =K53/$J$45 -> #DIV/0! | N53: 0 | O53: 0 | P53: =N53/$M$45 -> #DIV/0! | Q53: 0 | R53: 0 | S53: =Q53/$P$45 -> #DIV/0!
B58: Во | D58: година. | H58: Д и р е к т о р
B60: Составил:

Sheet План-ДСГ-MDC-O
A1: Универзитетски клиники, клинички болници, општи болници, специјални болници | M1: ПЛ 3 - ДСГ MDC-O | Q1: Врати се на почетна страна
C3: Здравствена установа:
C5: П Л А Н
C6: на видот и обемот на ДСГ здравствени услуги и пакети за завршени здравствени услуги во болничка здравствена заштита (акутни болнички случаи кои не се искажуваат според ДС методата) на осигурените лица за
I7: година.
C9: Главна дијагностичка категорија (MDC: O01-O66) БРЕМЕНОСТ, ПОРОДУВАЊЕ И ПУЕРПЕРИУМ
A11: Ред. Број | B11: Шифра на ДСГ услуга | C11: Назив на ДСГ услуга | D11: Референтнa ценa | E11: План за 2027 година | M11: 2026 година (Реализација јануари- септември и проекција до декември) | P11: Реализација за 2025 година
E12: I полугодие | G12: II полугодие | J12: Вкупно
E13: бр. на случаи | F13: износ по ДСГ | G13: бр. на случаи | H13: износ по ДСГ | J13: бр. на услуги | K13: износ по ДСГ | M13: Вкупен бр. на услуги | N13: Вкупен износ по ДСГ | P13: Вкупен бр. на услуги | Q13: Вкупен износ по ДСГ
A14: 1 | B14: 2 | C14: 3 | D14: 4 | E14: 5 | F14: 6 | G14: 7 | H14: 8 | J14: 9 (5+7) | K14: 10 (4*9) | M14: 11 | N14: 12 (4*11) | P14: 13 | Q14: 14 (4*13)
A15: 1 | B15: O01A | C15: Породување со царски рез со катастрофални КК | D15: 62576 | F15: =E15*D15 -> 0 | I15: =G15*D15 -> 0 | J15: =E15+G15 -> 0 | L15: =J15*D15 -> 0 | O15: =M15*D15 -> 0 | R15: =P15*D15 -> 0
A16: 2 | B16: O01B | C16: Породување со царски рез со тешки КК | D16: 48946 | F16: =E16*D16 -> 0 | I16: =G16*D16 -> 0 | J16: =E16+G16 -> 0 | L16: =J16*D16 -> 0 | O16: =M16*D16 -> 0 | R16: =P16*D16 -> 0
A17: 3 | B17: O01C | C17: Породување со царски рез без катастрофални или тешки КК | D17: 39731 | F17: =E17*D17 -> 0 | I17: =G17*D17 -> 0 | J17: =E17+G17 -> 0 | L17: =J17*D17 -> 0 | O17: =M17*D17 -> 0 | R17: =P17*D17 -> 0
A18: 4 | B18: O02A | C18: Вагинално породување со процедура во операциона сала со катастрофални или тешки КК | D18: 25294 | F18: =E18*D18 -> 0 | I18: =G18*D18 -> 0 | J18: =E18+G18 -> 0 | L18: =J18*D18 -> 0 | O18: =M18*D18 -> 0 | R18: =P18*D18 -> 0
A19: 5 | B19: O02B | C19: Вагинално породување со процедура во операциона сала без катастрофални или тешки КК | D19: 19326 | F19: =E19*D19 -> 0 | I19: =G19*D19 -> 0 | J19: =E19+G19 -> 0 | L19: =J19*D19 -> 0 | O19: =M19*D19 -> 0 | R19: =P19*D19 -> 0
A20: 6 | B20: O03Z | C20: Ектопична бременост | D20: 28315 | F20: =E20*D20 -> 0 | I20: =G20*D20 -> 0 | J20: =E20+G20 -> 0 | L20: =J20*D20 -> 0 | O20: =M20*D20 -> 0 | R20: =P20*D20 -> 0
A21: 7 | B21: O04Z | C21: После породување или после абортус со процедури во операциона сала | D21: 13158 | F21: =E21*D21 -> 0 | I21: =G21*D21 -> 0 | J21: =E21+G21 -> 0 | L21: =J21*D21 -> 0 | O21: =M21*D21 -> 0 | R21: =P21*D21 -> 0
A22: 8 | B22: O05Z | C22: Абортус со процедура во операциона сала | D22: 7834 | F22: =E22*D22 -> 0 | I22: =G22*D22 -> 0 | J22: =E22+G22 -> 0 | L22: =J22*D22 -> 0 | O22: =M22*D22 -> 0 | R22: =P22*D22 -> 0
A23: 9 | B23: O60A | C23: Вагинално породување со катастрофални или тешки КК | D23: 22379 | F23: =E23*D23 -> 0 | I23: =G23*D23 -> 0 | J23: =E23+G23 -> 0 | L23: =J23*D23 -> 0 | O23: =M23*D23 -> 0 | R23: =P23*D23 -> 0
A24: 10 | B24: O60B | C24: Вагинално породување без катастрофални или тешки КК | D24: 19880 | F24: =E24*D24 -> 0 | I24: =G24*D24 -> 0 | J24: =E24+G24 -> 0 | L24: =J24*D24 -> 0 | O24: =M24*D24 -> 0 | R24: =P24*D24 -> 0
A25: 11 | B25: O60C | C25: Вагинално породување, единечно, некомплицирано без други состојби | D25: 13361 | F25: =E25*D25 -> 0 | I25: =G25*D25 -> 0 | J25: =E25+G25 -> 0 | L25: =J25*D25 -> 0 | O25: =M25*D25 -> 0 | R25: =P25*D25 -> 0
A26: 12 | B26: O61Z | C26: По породување или по абортус без процедури во операциона сала | D26: 8171 | F26: =E26*D26 -> 0 | I26: =G26*D26 -> 0 | J26: =E26+G26 -> 0 | L26: =J26*D26 -> 0 | O26: =M26*D26 -> 0 | R26: =P26*D26 -> 0
... A31: 17 | B31: O66B | C31: Преднатален и друг акушерски прием, истиот ден | D31: 3739 | F31: =E31*D31 -> 0 | I31: =G31*D31 -> 0 | J31: =E31+G31 -> 0 | L31: =J31*D31 -> 0 | O31: =M31*D31 -> 0 | R31: =P31*D31 -> 0
A32: 18
A33: 19
A34: 20
A35: 21
A36: 22
A37: 23
A38: 24
A39: 25
A40: 26
A41: 27
A42: 28
A43: 29
A44: 30
C45: ВКУПНО | E45: =SUM(E15:E44) -> 0 | F45: =SUM(F15:F44) -> 0 | G45: =SUM(G15:G44) -> 0 | H45: =SUM(I15:I44) -> 0 | J45: =SUM(J15:J44) -> 0 | K45: =SUM(L15:L44) -> 0 | M45: =SUM(M15:M44) -> 0 | N45: =SUM(O15:O44) -> 0 | P45: =SUM(P15:P44) -> 0 | Q45: =SUM(R15:R44) -> 0
B47: ДСГ здравствени услуги по тип на нега
B48: Шифра на ДСГ група | C48: тип на нега | E48: План за 2026 година | N48: 2025 година (Реализација јануари- септември и проекција до декември) | Q48: Реализација за 2024 година
E49: I полугодие | H49: II полугодие | K49: Вкупно
E50: бр. на случаи | F50: Износ | G50: % од бр. на случаи | H50: бр. на случаи | I50: Износ | J50: % од бр. на случаи | K50: бр. на случаи | L50: Износ | M50: % од бр. на случаи | N50: бр. на случаи | O50: Износ | P50: % од бр. на случаи | Q50: бр. на случаи | R50: Износ | S50: % од бр. на случаи
B51: O01-O05 | C51: Хируршки ДСГ групи | E51: =SUM(E15:E22) -> 0 | F51: =SUM(F15:F22) -> 0 | G51: =E51/$E$45 -> #DIV/0! | H51: =SUM(G15:G22) -> 0 | I51: =SUM(I15:I22) -> 0 | J51: =H51/$G$45 -> #DIV/0! | K51: =SUM(J15:J22) -> 0 | L51: =SUM(L15:L22) -> 0 | M51: =K51/$J$45 -> #DIV/0! | N51: =SUM(M15:M22) -> 0 | O51: =SUM(O15:O22) -> 0 | P51: =N51/$M$45 -> #DIV/0! | Q51: =SUM(P15:P22) -> 0 | R51: =SUM(R15:R22) -> 0 | S51: =Q51/$P$45 -> #DIV/0!
B52: O60-O66 | C52: Медицински (интернистички) ДСГ групи | E52: =SUM(E23:E44) -> 0 | F52: =SUM(F23:F44) -> 0 | G52: =E52/$E$45 -> #DIV/0! | H52: =SUM(G23:G44) -> 0 | I52: =SUM(I23:I44) -> 0 | J52: =H52/$G$45 -> #DIV/0! | K52: =SUM(J23:J44) -> 0 | L52: =SUM(L23:L44) -> 0 | M52: =K52/$J$45 -> #DIV/0! | N52: =SUM(M23:M44) -> 0 | O52: =SUM(O23:O44) -> 0 | P52: =N52/$M$45 -> #DIV/0! | Q52: =SUM(P23:P44) -> 0 | R52: =SUM(R23:R44) -> 0 | S52: =Q52/$P$45 -> #DIV/0!
B53: нема | C53: Останати ДСГ групи | E53: 0 | F53: 0 | G53: =E53/$E$45 -> #DIV/0! | H53: 0 | I53: 0 | J53: =H53/$G$45 -> #DIV/0! | K53: 0 | L53: 0 | M53: =K53/$J$45 -> #DIV/0! | N53: 0 | O53: 0 | P53: =N53/$M$45 -> #DIV/0! | Q53: 0 | R53: 0 | S53: =Q53/$P$45 -> #DIV/0!
B57: Во | D57: година. | H57: Д и р е к т о р
B59: Составил:

Sheet План-ДСГ-MDC-P
A1: Универзитетски клиники, клинички болници, општи болници, специјални болници | M1: ПЛ 3 - ДСГ MDC-P | Q1: Врати се на почетна страна
C3: Здравствена установа:
C5: П Л А Н
C6: на видот и обемот на ДСГ здравствени услуги и пакети за завршени здравствени услуги во болничка здравствена заштита (акутни болнички случаи кои не се искажуваат според ДС методата) на осигурените лица за
I7: година.
C9: Главна дијагностичка категорија (MDC: P01-P67) БОЛЕСТИ И ПОРЕМЕТУВАЊА НА НОВОРОДЕНЧИЊА
A11: Ред. Број | B11: Шифра на ДСГ услуга | C11: Назив на ДСГ услуга | D11: Референтнa ценa | E11: План за 2027 година | M11: 2026 година (Реализација јануари- септември и проекција до декември) | P11: Реализација за 2025 година
E12: I полугодие | G12: II полугодие | J12: Вкупно
E13: бр. на случаи | F13: износ по ДСГ | G13: бр. на случаи | H13: износ по ДСГ | J13: бр. на услуги | K13: износ по ДСГ | M13: Вкупен бр. на услуги | N13: Вкупен износ по ДСГ | P13: Вкупен бр. на услуги | Q13: Вкупен износ по ДСГ
A14: 1 | B14: 2 | C14: 3 | D14: 4 | E14: 5 | F14: 6 | G14: 7 | H14: 8 | J14: 9 (5+7) | K14: 10 (4*9) | M14: 11 | N14: 12 (4*11) | P14: 13 | Q14: 14 (4*13)
A15: 1 | B15: P01Z | C15: Новороденче, починато или преместено во друга установа <5 дена од приемот со значајна процедура во операциона сала | D15: 35382 | F15: =E15*D15 -> 0 | I15: =G15*D15 -> 0 | J15: =E15+G15 -> 0 | L15: =J15*D15 -> 0 | O15: =M15*D15 -> 0 | R15: =P15*D15 -> 0
A16: 2 | B16: P02Z | C16: Кардиоторакални/васкуларни процедури на новороденчиња | D16: 1124558.8 | F16: =E16*D16 -> 0 | I16: =G16*D16 -> 0 | J16: =E16+G16 -> 0 | L16: =J16*D16 -> 0 | O16: =M16*D16 -> 0 | R16: =P16*D16 -> 0
A17: 3 | B17: P03Z | C17: Новороденче тежина при прием 1000-1499 g со значајна процедура во операциона сала | D17: 230422 | F17: =E17*D17 -> 0 | I17: =G17*D17 -> 0 | J17: =E17+G17 -> 0 | L17: =J17*D17 -> 0 | O17: =M17*D17 -> 0 | R17: =P17*D17 -> 0
A18: 4 | B18: P04Z | C18: Новороденче тежина при прием 1500-1999 g со значајна процедура во операциона сала | D18: 198743 | F18: =E18*D18 -> 0 | I18: =G18*D18 -> 0 | J18: =E18+G18 -> 0 | L18: =J18*D18 -> 0 | O18: =M18*D18 -> 0 | R18: =P18*D18 -> 0
A19: 5 | B19: P05Z | C19: Новороденче тежина при прием 2000-2499 g со значајна процедура во операциона сала | D19: 152750 | F19: =E19*D19 -> 0 | I19: =G19*D19 -> 0 | J19: =E19+G19 -> 0 | L19: =J19*D19 -> 0 | O19: =M19*D19 -> 0 | R19: =P19*D19 -> 0
A20: 6 | B20: P06A | C20: Новороденче тежина при прием >2499 g со значајна процедура во операциона сала со повеќе големи проблеми | D20: 184343 | F20: =E20*D20 -> 0 | I20: =G20*D20 -> 0 | J20: =E20+G20 -> 0 | L20: =J20*D20 -> 0 | O20: =M20*D20 -> 0 | R20: =P20*D20 -> 0
A21: 7 | B21: P06B | C21: Новороденче тежина при прием >2499 g со значајна процедура во операциона сала без повеќе големи проблеми | D21: 52281 | F21: =E21*D21 -> 0 | I21: =G21*D21 -> 0 | J21: =E21+G21 -> 0 | L21: =J21*D21 -> 0 | O21: =M21*D21 -> 0 | R21: =P21*D21 -> 0
A22: 8 | B22: P60A | C22: Новороденче, починато или преместено во друга установа <5 дена од приемот без значајна процедура во операциона сала, новородено | D22: 9504 | F22: =E22*D22 -> 0 | I22: =G22*D22 -> 0 | J22: =E22+G22 -> 0 | L22: =J22*D22 -> 0 | O22: =M22*D22 -> 0 | R22: =P22*D22 -> 0
A23: 9 | B23: P60B | C23: Новороденче, починато или преместено во друга установа <5 дена од приемот без значајна процедура во операциона сала, не новородено | D23: 15976 | F23: =E23*D23 -> 0 | I23: =G23*D23 -> 0 | J23: =E23+G23 -> 0 | L23: =J23*D23 -> 0 | O23: =M23*D23 -> 0 | R23: =P23*D23 -> 0
A24: 10 | B24: P61Z | C24: Новороденче, тежина при прием <750 g | D24: 450960 | F24: =E24*D24 -> 0 | I24: =G24*D24 -> 0 | J24: =E24+G24 -> 0 | L24: =J24*D24 -> 0 | O24: =M24*D24 -> 0 | R24: =P24*D24 -> 0
A25: 11 | B25: P62Z | C25: Новороденче, тежина при прием 750-999 g | D25: 271029 | F25: =E25*D25 -> 0 | I25: =G25*D25 -> 0 | J25: =E25+G25 -> 0 | L25: =J25*D25 -> 0 | O25: =M25*D25 -> 0 | R25: =P25*D25 -> 0
A26: 12 | B26: P63Z | C26: Новороденче, тежина при прием 1000-1249 g без значајна процедура во операциона сала | D26: 206415 | F26: =E26*D26 -> 0 | I26: =G26*D26 -> 0 | J26: =E26+G26 -> 0 | L26: =J26*D26 -> 0 | O26: =M26*D26 -> 0 | R26: =P26*D26 -> 0
... A39: 25 | B39: P67D | C39: Новороденче, тежина при прием >2499 g без значајна процедура во операциона сала без проблем | D39: 3933 | F39: =E39*D39 -> 0 | I39: =G39*D39 -> 0 | J39: =E39+G39 -> 0 | L39: =J39*D39 -> 0 | O39: =M39*D39 -> 0 | R39: =P39*D39 -> 0
A40: 26
A41: 27
A42: 28
A43: 29
A44: 30
C45: ВКУПНО | E45: =SUM(E15:E44) -> 0 | F45: =SUM(F15:F44) -> 0 | G45: =SUM(G15:G44) -> 0 | H45: =SUM(I15:I44) -> 0 | J45: =SUM(J15:J44) -> 0 | K45: =SUM(L15:L44) -> 0 | M45: =SUM(M15:M44) -> 0 | N45: =SUM(O15:O44) -> 0 | P45: =SUM(P15:P44) -> 0 | Q45: =SUM(R15:R44) -> 0
B47: ДСГ здравствени услуги по тип на нега
B48: Шифра на ДСГ група | C48: тип на нега | E48: План за 2026 година | N48: 2025 година (Реализација јануари- септември и проекција до декември) | Q48: Реализација за 2024 година
E49: I полугодие | H49: II полугодие | K49: Вкупно
E50: бр. на случаи | F50: Износ | G50: % од бр. на случаи | H50: бр. на случаи | I50: Износ | J50: % од бр. на случаи | K50: бр. на случаи | L50: Износ | M50: % од бр. на случаи | N50: бр. на случаи | O50: Износ | P50: % од бр. на случаи | Q50: бр. на случаи | R50: Износ | S50: % од бр. на случаи
B51: P01-P06 | C51: Хируршки ДСГ групи | E51: =SUM(E15:E21) -> 0 | F51: =SUM(F15:F21) -> 0 | G51: =E51/$E$45 -> #DIV/0! | H51: =SUM(G15:G21) -> 0 | I51: =SUM(I15:I21) -> 0 | J51: =H51/$G$45 -> #DIV/0! | K51: =SUM(J15:J21) -> 0 | L51: =SUM(L15:L21) -> 0 | M51: =K51/$J$45 -> #DIV/0! | N51: =SUM(M15:M21) -> 0 | O51: =SUM(O15:O21) -> 0 | P51: =N51/$M$45 -> #DIV/0! | Q51: =SUM(P15:P21) -> 0 | R51: =SUM(R15:R21) -> 0 | S51: =Q51/$P$45 -> #DIV/0!
B52: P60-P67 | C52: Медицински (интернистички) ДСГ групи | E52: =SUM(E22:E44) -> 0 | F52: =SUM(F22:F44) -> 0 | G52: =E52/$E$45 -> #DIV/0! | H52: =SUM(G22:G44) -> 0 | I52: =SUM(I22:I44) -> 0 | J52: =H52/$G$45 -> #DIV/0! | K52: =SUM(J22:J44) -> 0 | L52: =SUM(L22:L44) -> 0 | M52: =K52/$J$45 -> #DIV/0! | N52: =SUM(M22:M44) -> 0 | O52: =SUM(O22:O44) -> 0 | P52: =N52/$M$45 -> #DIV/0! | Q52: =SUM(P22:P44) -> 0 | R52: =SUM(R22:R44) -> 0 | S52: =Q52/$P$45 -> #DIV/0!
B53: нема | C53: Останати ДСГ групи | E53: 0 | F53: 0 | G53: =E53/$E$45 -> #DIV/0! | H53: 0 | I53: 0 | J53: =H53/$G$45 -> #DIV/0! | K53: 0 | L53: 0 | M53: =K53/$J$45 -> #DIV/0! | N53: 0 | O53: 0 | P53: =N53/$M$45 -> #DIV/0! | Q53: 0 | R53: 0 | S53: =Q53/$P$45 -> #DIV/0!
B58: Во | D58: година. | H58: Д и р е к т о р
B60: Составил:

Sheet План-ДСГ-MDC-Q
A1: Универзитетски клиники, клинички болници, општи болници, специјални болници | M1: ПЛ 3 - ДСГ MDC-Q | Q1: Врати се на почетна страна
C3: Здравствена установа:
C5: П Л А Н
C6: на видот и обемот на ДСГ здравствени услуги и пакети за завршени здравствени услуги во болничка здравствена заштита (акутни болнички случаи кои не се искажуваат според ДС методата) на осигурените лица за
I7: година.
C9: Главна дијагностичка категорија (MDC: Q01-Q62) БОЛЕСТИ И ПОРЕМЕТУВАЊА НА КРВТА, КРВОТВОРНИ ОРГАНИ И ИМУНОЛОШКИОТ СИСТЕМ
A11: Ред. Број | B11: Шифра на ДСГ услуга | C11: Назив на ДСГ услуга | D11: Референтнa ценa | E11: План за 2027 година | M11: 2026 година (Реализација јануари- септември и проекција до декември) | P11: Реализација за 2025 година
E12: I полугодие | G12: II полугодие | J12: Вкупно
E13: бр. на случаи | F13: износ по ДСГ | G13: бр. на случаи | H13: износ по ДСГ | J13: бр. на услуги | K13: износ по ДСГ | M13: Вкупен бр. на услуги | N13: Вкупен износ по ДСГ | P13: Вкупен бр. на услуги | Q13: Вкупен износ по ДСГ
A14: 1 | B14: 2 | C14: 3 | D14: 4 | E14: 5 | F14: 6 | G14: 7 | H14: 8 | J14: 9 (5+7) | K14: 10 (4*9) | M14: 11 | N14: 12 (4*11) | P14: 13 | Q14: 14 (4*13)
A15: 1 | B15: Q01Z | C15: Спленектомија | D15: 93784 | F15: =E15*D15 -> 0 | I15: =G15*D15 -> 0 | J15: =E15+G15 -> 0 | L15: =J15*D15 -> 0 | O15: =M15*D15 -> 0 | R15: =P15*D15 -> 0
A16: 2 | B16: Q02A | C16: Други процедури во операциона сала на крвни и крвоформирачки органи со катастрофални или тешки КК | D16: 115559 | F16: =E16*D16 -> 0 | I16: =G16*D16 -> 0 | J16: =E16+G16 -> 0 | L16: =J16*D16 -> 0 | O16: =M16*D16 -> 0 | R16: =P16*D16 -> 0
A17: 3 | B17: Q02B | C17: Други процедури во операциона сала на крвни и крвоформирачки органи без катастрофални или тешки КК | D17: 24487 | F17: =E17*D17 -> 0 | I17: =G17*D17 -> 0 | J17: =E17+G17 -> 0 | L17: =J17*D17 -> 0 | O17: =M17*D17 -> 0 | R17: =P17*D17 -> 0
A18: 4 | B18: Q60A | C18: Ретикулоендотелијални и имунолошки пореметувања со катастрофални или тешки КК | D18: 38142 | F18: =E18*D18 -> 0 | I18: =G18*D18 -> 0 | J18: =E18+G18 -> 0 | L18: =J18*D18 -> 0 | O18: =M18*D18 -> 0 | R18: =P18*D18 -> 0
A19: 5 | B19: Q60B | C19: Ретикулоендотелијални и имунолошки пореметувања со малигна болест, без катастрофални или тешки КК | D19: 28917 | F19: =E19*D19 -> 0 | I19: =G19*D19 -> 0 | J19: =E19+G19 -> 0 | L19: =J19*D19 -> 0 | O19: =M19*D19 -> 0 | R19: =P19*D19 -> 0
A20: 6 | B20: Q60C | C20: Ретикулоендотелијални и имунолошки пореметувања без малигна болест, без катастрофални или тешки КК | D20: 23774 | F20: =E20*D20 -> 0 | I20: =G20*D20 -> 0 | J20: =E20+G20 -> 0 | L20: =J20*D20 -> 0 | O20: =M20*D20 -> 0 | R20: =P20*D20 -> 0
A21: 7 | B21: Q61A | C21: Пореметувања на црвените крвни зрнца со катастрофални КК | D21: 39848 | F21: =E21*D21 -> 0 | I21: =G21*D21 -> 0 | J21: =E21+G21 -> 0 | L21: =J21*D21 -> 0 | O21: =M21*D21 -> 0 | R21: =P21*D21 -> 0
A22: 8 | B22: Q61B | C22: Пореметувања на црвените крвни зрнца со тешки КК | D22: 23768 | F22: =E22*D22 -> 0 | I22: =G22*D22 -> 0 | J22: =E22+G22 -> 0 | L22: =J22*D22 -> 0 | O22: =M22*D22 -> 0 | R22: =P22*D22 -> 0
A23: 9 | B23: Q61C | C23: Пореметувања на црвени крвни зрнца без катастрофални или тешки КК | D23: 13754 | F23: =E23*D23 -> 0 | I23: =G23*D23 -> 0 | J23: =E23+G23 -> 0 | L23: =J23*D23 -> 0 | O23: =M23*D23 -> 0 | R23: =P23*D23 -> 0
A24: 10 | B24: Q62Z | C24: Пореметувања на коагулацијата | D24: 34411 | F24: =E24*D24 -> 0 | I24: =G24*D24 -> 0 | J24: =E24+G24 -> 0 | L24: =J24*D24 -> 0 | O24: =M24*D24 -> 0 | R24: =P24*D24 -> 0
A25: 11
A26: 12
A27: 13
A28: 14
A29: 15
A30: 16
A31: 17
A32: 18
A33: 19
A34: 20
A35: 21
A36: 22
... A44: 30
C45: ВКУПНО | E45: =SUM(E15:E44) -> 0 | F45: =SUM(F15:F44) -> 0 | G45: =SUM(G15:G44) -> 0 | H45: =SUM(I15:I44) -> 0 | J45: =SUM(J15:J44) -> 0 | K45: =SUM(L15:L44) -> 0 | M45: =SUM(M15:M44) -> 0 | N45: =SUM(O15:O44) -> 0 | P45: =SUM(P15:P44) -> 0 | Q45: =SUM(R15:R44) -> 0
B47: ДСГ здравствени услуги по тип на нега
B48: Шифра на ДСГ група | C48: тип на нега | E48: План за 2026 година | N48: 2025 година (Реализација јануари- септември и проекција до декември) | Q48: Реализација за 2024 година
E49: I полугодие | H49: II полугодие | K49: Вкупно
E50: бр. на случаи | F50: Износ | G50: % од бр. на случаи | H50: бр. на случаи | I50: Износ | J50: % од бр. на случаи | K50: бр. на случаи | L50: Износ | M50: % од бр. на случаи | N50: бр. на случаи | O50: Износ | P50: % од бр. на случаи | Q50: бр. на случаи | R50: Износ | S50: % од бр. на случаи
B51: Q01-Q02 | C51: Хируршки ДСГ групи | E51: =SUM(E15:E17) -> 0 | F51: =SUM(F15:F17) -> 0 | G51: =E51/$E$45 -> #DIV/0! | H51: =SUM(G15:G17) -> 0 | I51: =SUM(I15:I17) -> 0 | J51: =H51/$G$45 -> #DIV/0! | K51: =SUM(J15:J17) -> 0 | L51: =SUM(L15:L17) -> 0 | M51: =K51/$J$45 -> #DIV/0! | N51: =SUM(M15:M17) -> 0 | O51: =SUM(O15:O17) -> 0 | P51: =N51/$M$45 -> #DIV/0! | Q51: =SUM(P15:P17) -> 0 | R51: =SUM(R15:R17) -> 0 | S51: =Q51/$P$45 -> #DIV/0!
B52: Q60-Q62 | C52: Медицински (интернистички) ДСГ групи | E52: =SUM(E18:E44) -> 0 | F52: =SUM(F18:F44) -> 0 | G52: =E52/$E$45 -> #DIV/0! | H52: =SUM(G18:G44) -> 0 | I52: =SUM(I18:I44) -> 0 | J52: =H52/$G$45 -> #DIV/0! | K52: =SUM(J18:J44) -> 0 | L52: =SUM(L18:L44) -> 0 | M52: =K52/$J$45 -> #DIV/0! | N52: =SUM(M18:M44) -> 0 | O52: =SUM(O18:O44) -> 0 | P52: =N52/$M$45 -> #DIV/0! | Q52: =SUM(P18:P44) -> 0 | R52: =SUM(R18:R44) -> 0 | S52: =Q52/$P$45 -> #DIV/0!
B53: нема | C53: Останати ДСГ групи | E53: 0 | F53: 0 | G53: =E53/$E$45 -> #DIV/0! | H53: 0 | I53: 0 | J53: =H53/$G$45 -> #DIV/0! | K53: 0 | L53: 0 | M53: =K53/$J$45 -> #DIV/0! | N53: 0 | O53: 0 | P53: =N53/$M$45 -> #DIV/0! | Q53: 0 | R53: 0 | S53: =Q53/$P$45 -> #DIV/0!
B58: Во | D58: година. | H58: Д и р е к т о р
B60: Составил:

Sheet План-ДСГ-MDC-R
A1: Универзитетски клиники, клинички болници, општи болници, специјални болници | M1: ПЛ 3 - ДСГ MDC-R | Q1: Врати се на почетна страна
C3: Здравствена установа:
C5: П Л А Н
C6: на видот и обемот на ДСГ здравствени услуги и пакети за завршени здравствени услуги во болничка здравствена заштита (акутни болнички случаи кои не се искажуваат според ДС методата) на осигурените лица за
I7: година.
C9: Главна дијагностичка категорија (MDC: R01-R64) МИЕЛОПРЛИФЕРАТИВНИ БОЛЕСТИ И НЕДИФЕРЕНЦИРАНИ ТУМОРИ
A11: Ред. Број | B11: Шифра на ДСГ услуга | C11: Назив на ДСГ услуга | D11: Референтнa ценa | E11: План за 2027 година | M11: 2026 година (Реализација јануари- септември и проекција до декември) | P11: Реализација за 2025 година
E12: I полугодие | G12: II полугодие | J12: Вкупно
E13: бр. на случаи | F13: износ по ДСГ | G13: бр. на случаи | H13: износ по ДСГ | J13: бр. на услуги | K13: износ по ДСГ | M13: Вкупен бр. на услуги | N13: Вкупен износ по ДСГ | P13: Вкупен бр. на услуги | Q13: Вкупен износ по ДСГ
A14: 1 | B14: 2 | C14: 3 | D14: 4 | E14: 5 | F14: 6 | G14: 7 | H14: 8 | J14: 9 (5+7) | K14: 10 (4*9) | M14: 11 | N14: 12 (4*11) | P14: 13 | Q14: 14 (4*13)
A15: 1 | B15: R01A | C15: Лимфом и леукемија со големи процедури во операциона сала со катастофални или тешки КК | D15: 190008 | F15: =E15*D15 -> 0 | I15: =G15*D15 -> 0 | J15: =E15+G15 -> 0 | L15: =J15*D15 -> 0 | O15: =M15*D15 -> 0 | R15: =P15*D15 -> 0
A16: 2 | B16: R01B | C16: Лимфом и леукемија со големи процедури во операциона сала без катастофални или тешки КК | D16: 135760 | F16: =E16*D16 -> 0 | I16: =G16*D16 -> 0 | J16: =E16+G16 -> 0 | L16: =J16*D16 -> 0 | O16: =M16*D16 -> 0 | R16: =P16*D16 -> 0
A17: 3 | B17: R02A | C17: Други неопластични пореметувања со големи процедури во операциона сала со катастофални или тешки КК | D17: 63161 | F17: =E17*D17 -> 0 | I17: =G17*D17 -> 0 | J17: =E17+G17 -> 0 | L17: =J17*D17 -> 0 | O17: =M17*D17 -> 0 | R17: =P17*D17 -> 0
A18: 4 | B18: R02B | C18: Други неопластични пореметувања со големи процедури во операциона сала без катастофални или тешки КК | D18: 47509 | F18: =E18*D18 -> 0 | I18: =G18*D18 -> 0 | J18: =E18+G18 -> 0 | L18: =J18*D18 -> 0 | O18: =M18*D18 -> 0 | R18: =P18*D18 -> 0
A19: 5 | B19: R03A | C19: Лимфом и леукемија со други процедури во операциона сала со катастофални или тешки КК | D19: 153521 | F19: =E19*D19 -> 0 | I19: =G19*D19 -> 0 | J19: =E19+G19 -> 0 | L19: =J19*D19 -> 0 | O19: =M19*D19 -> 0 | R19: =P19*D19 -> 0
A20: 6 | B20: R03B | C20: Лимфом и леукемија со други процедури во операциона сала без катастофални или тешки КК | D20: 50042 | F20: =E20*D20 -> 0 | I20: =G20*D20 -> 0 | J20: =E20+G20 -> 0 | L20: =J20*D20 -> 0 | O20: =M20*D20 -> 0 | R20: =P20*D20 -> 0
A21: 7 | B21: R04A | C21: Други неопластични пореметувања со други процедури во операциона сала со катастофални или тешки КК | D21: 37750 | F21: =E21*D21 -> 0 | I21: =G21*D21 -> 0 | J21: =E21+G21 -> 0 | L21: =J21*D21 -> 0 | O21: =M21*D21 -> 0 | R21: =P21*D21 -> 0
A22: 8 | B22: R04B | C22: Други неопластични пореметувања со други процедури во операциона сала без катастофални или тешки КК | D22: 28243 | F22: =E22*D22 -> 0 | I22: =G22*D22 -> 0 | J22: =E22+G22 -> 0 | L22: =J22*D22 -> 0 | O22: =M22*D22 -> 0 | R22: =P22*D22 -> 0
A23: 9 | B23: R60A | C23: Акутна леукемија со катастрофални КК | D23: 227557 | F23: =E23*D23 -> 0 | I23: =G23*D23 -> 0 | J23: =E23+G23 -> 0 | L23: =J23*D23 -> 0 | O23: =M23*D23 -> 0 | R23: =P23*D23 -> 0
A24: 10 | B24: R60B | C24: Акутна леукемија со тешки КК | D24: 216231 | F24: =E24*D24 -> 0 | I24: =G24*D24 -> 0 | J24: =E24+G24 -> 0 | L24: =J24*D24 -> 0 | O24: =M24*D24 -> 0 | R24: =P24*D24 -> 0
A25: 11 | B25: R60C | C25: Акутна леукемија без катастрофални или тешки КК | D25: 205934 | F25: =E25*D25 -> 0 | I25: =G25*D25 -> 0 | J25: =E25+G25 -> 0 | L25: =J25*D25 -> 0 | O25: =M25*D25 -> 0 | R25: =P25*D25 -> 0
A26: 12 | B26: R61A | C26: Лимфом и неакутна леукемија со катастрофални КК | D26: 214333 | F26: =E26*D26 -> 0 | I26: =G26*D26 -> 0 | J26: =E26+G26 -> 0 | L26: =J26*D26 -> 0 | O26: =M26*D26 -> 0 | R26: =P26*D26 -> 0
... A32: 18 | B32: R64Z | C32: Радиотерапија | D32: 22037 | F32: =E32*D32 -> 0 | I32: =G32*D32 -> 0 | J32: =E32+G32 -> 0 | L32: =J32*D32 -> 0 | O32: =M32*D32 -> 0 | R32: =P32*D32 -> 0
A33: 19
A34: 20
A35: 21
A36: 22
A37: 23
A38: 24
A39: 25
A40: 26
A41: 27
A42: 28
A43: 29
A44: 30
C45: ВКУПНО | E45: =SUM(E15:E44) -> 0 | F45: =SUM(F15:F44) -> 0 | G45: =SUM(G15:G44) -> 0 | H45: =SUM(I15:I44) -> 0 | J45: =SUM(J15:J44) -> 0 | K45: =SUM(L15:L44) -> 0 | M45: =SUM(M15:M44) -> 0 | N45: =SUM(O15:O44) -> 0 | P45: =SUM(P15:P44) -> 0 | Q45: =SUM(R15:R44) -> 0
B47: ДСГ здравствени услуги по тип на нега
B48: Шифра на ДСГ група | C48: тип на нега | E48: План за 2026 година | N48: 2025 година (Реализација јануари- септември и проекција до декември) | Q48: Реализација за 2024 година
E49: I полугодие | H49: II полугодие | K49: Вкупно
E50: бр. на случаи | F50: Износ | G50: % од бр. на случаи | H50: бр. на случаи | I50: Износ | J50: % од бр. на случаи | K50: бр. на случаи | L50: Износ | M50: % од бр. на случаи | N50: бр. на случаи | O50: Износ | P50: % од бр. на случаи | Q50: бр. на случаи | R50: Износ | S50: % од бр. на случаи
B51: R01-R04 | C51: Хируршки ДСГ групи | E51: =SUM(E15:E22) -> 0 | F51: =SUM(F15:F22) -> 0 | G51: =E51/$E$45 -> #DIV/0! | H51: =SUM(G15:G22) -> 0 | I51: =SUM(I15:I22) -> 0 | J51: =H51/$G$45 -> #DIV/0! | K51: =SUM(J15:J22) -> 0 | L51: =SUM(L15:L22) -> 0 | M51: =K51/$J$45 -> #DIV/0! | N51: =SUM(M15:M22) -> 0 | O51: =SUM(O15:O22) -> 0 | P51: =N51/$M$45 -> #DIV/0! | Q51: =SUM(P15:P22) -> 0 | R51: =SUM(R15:R22) -> 0 | S51: =Q51/$P$45 -> #DIV/0!
B52: R60-R64 | C52: Медицински (интернистички) ДСГ групи | E52: =SUM(E23:E44) -> 0 | F52: =SUM(F23:F44) -> 0 | G52: =E52/$E$45 -> #DIV/0! | H52: =SUM(G23:G44) -> 0 | I52: =SUM(I23:I44) -> 0 | J52: =H52/$G$45 -> #DIV/0! | K52: =SUM(J23:J44) -> 0 | L52: =SUM(L23:L44) -> 0 | M52: =K52/$J$45 -> #DIV/0! | N52: =SUM(M23:M44) -> 0 | O52: =SUM(O23:O44) -> 0 | P52: =N52/$M$45 -> #DIV/0! | Q52: =SUM(P23:P44) -> 0 | R52: =SUM(R23:R44) -> 0 | S52: =Q52/$P$45 -> #DIV/0!
B53: нема | C53: Останати ДСГ групи | E53: 0 | F53: 0 | G53: =E53/$E$45 -> #DIV/0! | H53: 0 | I53: 0 | J53: =H53/$G$45 -> #DIV/0! | K53: 0 | L53: 0 | M53: =K53/$J$45 -> #DIV/0! | N53: 0 | O53: 0 | P53: =N53/$M$45 -> #DIV/0! | Q53: 0 | R53: 0 | S53: =Q53/$P$45 -> #DIV/0!
B57: Во | D57: година. | H57: Д и р е к т о р
B59: Составил:

Sheet План-ДСГ-MDC-S,T
A1: Универзитетски клиники, клинички болници, општи болници, специјални болници | M1: ПЛ 3 - ДСГ MDC-S,T | Q1: Врати се на почетна страна
C3: Здравствена установа:
C5: П Л А Н
C6: на видот и обемот на ДСГ здравствени услуги и пакети за завршени здравствени услуги во болничка здравствена заштита (акутни болнички случаи кои не се искажуваат според ДС методата) на осигурените лица за
I7: година.
C9: Главна дијагностичка категорија (MDC: S60-S65, T01-T64) ИНФЕКТИВНИ И ПАРАЗИТСКИ ЗАБОЛУВАЊА
A11: Ред. Број | B11: Шифра на ДСГ услуга | C11: Назив на ДСГ услуга | D11: Референтнa ценa | E11: План за 2027 година | M11: 2026 година (Реализација јануари- септември и проекција до декември) | P11: Реализација за 2025 година
E12: I полугодие | G12: II полугодие | J12: Вкупно
E13: бр. на случаи | F13: износ по ДСГ | G13: бр. на случаи | H13: износ по ДСГ | J13: бр. на услуги | K13: износ по ДСГ | M13: Вкупен бр. на услуги | N13: Вкупен износ по ДСГ | P13: Вкупен бр. на услуги | Q13: Вкупен износ по ДСГ
A14: 1 | B14: 2 | C14: 3 | D14: 4 | E14: 5 | F14: 6 | G14: 7 | H14: 8 | J14: 9 (5+7) | K14: 10 (4*9) | M14: 11 | N14: 12 (4*11) | P14: 13 | Q14: 14 (4*13)
A15: 1 | B15: S60Z | C15: ХИВ , истиот ден | D15: 6181 | F15: =E15*D15 -> 0 | I15: =G15*D15 -> 0 | J15: =E15+G15 -> 0 | L15: =J15*D15 -> 0 | O15: =M15*D15 -> 0 | R15: =P15*D15 -> 0
A16: 2 | B16: S65A | C16: Болести поврзани со ХИВ со катастрофални КК | D16: 500483 | F16: =E16*D16 -> 0 | I16: =G16*D16 -> 0 | J16: =E16+G16 -> 0 | L16: =J16*D16 -> 0 | O16: =M16*D16 -> 0 | R16: =P16*D16 -> 0
A17: 3 | B17: S65B | C17: Болести поврзани со ХИВ со тешки КК | D17: 77339 | F17: =E17*D17 -> 0 | I17: =G17*D17 -> 0 | J17: =E17+G17 -> 0 | L17: =J17*D17 -> 0 | O17: =M17*D17 -> 0 | R17: =P17*D17 -> 0
A18: 4 | B18: S65C | C18: Болести поврзани со ХИВ без катастрофални или тешки КК | D18: 43557 | F18: =E18*D18 -> 0 | I18: =G18*D18 -> 0 | J18: =E18+G18 -> 0 | L18: =J18*D18 -> 0 | O18: =M18*D18 -> 0 | R18: =P18*D18 -> 0
A19: 5 | B19: T01A | C19: Процедури во операциона сала за инфективни и паразитски болести со катастрофални КК | D19: 359667 | F19: =E19*D19 -> 0 | I19: =G19*D19 -> 0 | J19: =E19+G19 -> 0 | L19: =J19*D19 -> 0 | O19: =M19*D19 -> 0 | R19: =P19*D19 -> 0
A20: 6 | B20: T01B | C20: Процедури во операциона сала за инфективни и паразитски болести со тешки или умерени КК | D20: 76174 | F20: =E20*D20 -> 0 | I20: =G20*D20 -> 0 | J20: =E20+G20 -> 0 | L20: =J20*D20 -> 0 | O20: =M20*D20 -> 0 | R20: =P20*D20 -> 0
A21: 7 | B21: T01C | C21: Процедури во операциона сала за инфективни и паразитски болести без КК | D21: 51691 | F21: =E21*D21 -> 0 | I21: =G21*D21 -> 0 | J21: =E21+G21 -> 0 | L21: =J21*D21 -> 0 | O21: =M21*D21 -> 0 | R21: =P21*D21 -> 0
A22: 8 | B22: T60A | C22: Септикемија со катастрофални или тешки КК | D22: 81073 | F22: =E22*D22 -> 0 | I22: =G22*D22 -> 0 | J22: =E22+G22 -> 0 | L22: =J22*D22 -> 0 | O22: =M22*D22 -> 0 | R22: =P22*D22 -> 0
A23: 9 | B23: T60B | C23: Септикемија без катастрофални или тешки КК | D23: 54027 | F23: =E23*D23 -> 0 | I23: =G23*D23 -> 0 | J23: =E23+G23 -> 0 | L23: =J23*D23 -> 0 | O23: =M23*D23 -> 0 | R23: =P23*D23 -> 0
A24: 10 | B24: T61A | C24: Постоперативни и посттрауматски инфекции, возраст >54 или со (катастрофални или тешки КК) | D24: 26635 | F24: =E24*D24 -> 0 | I24: =G24*D24 -> 0 | J24: =E24+G24 -> 0 | L24: =J24*D24 -> 0 | O24: =M24*D24 -> 0 | R24: =P24*D24 -> 0
A25: 11 | B25: T61B | C25: Постоперативни и посттрауматски инфекции, возраст <55 без катастрофални или тешки КК | D25: 22250 | F25: =E25*D25 -> 0 | I25: =G25*D25 -> 0 | J25: =E25+G25 -> 0 | L25: =J25*D25 -> 0 | O25: =M25*D25 -> 0 | R25: =P25*D25 -> 0
A26: 12 | B26: T62A | C26: Треска од непозната причина со КК | D26: 44914 | F26: =E26*D26 -> 0 | I26: =G26*D26 -> 0 | J26: =E26+G26 -> 0 | L26: =J26*D26 -> 0 | O26: =M26*D26 -> 0 | R26: =P26*D26 -> 0
... A31: 17 | B31: T64B | C31: Други инфективни и паразитски болести без катастрофални или тешки КК | D31: 25608 | F31: =E31*D31 -> 0 | I31: =G31*D31 -> 0 | J31: =E31+G31 -> 0 | L31: =J31*D31 -> 0 | O31: =M31*D31 -> 0 | R31: =P31*D31 -> 0
A32: 18
A33: 19
A34: 20
A35: 21
A36: 22
A37: 23
A38: 24
A39: 25
A40: 26
A41: 27
A42: 28
A43: 29
A44: 30
C45: ВКУПНО | E45: =SUM(E15:E44) -> 0 | F45: =SUM(F15:F44) -> 0 | G45: =SUM(G15:G44) -> 0 | H45: =SUM(I15:I44) -> 0 | J45: =SUM(J15:J44) -> 0 | K45: =SUM(L15:L44) -> 0 | M45: =SUM(M15:M44) -> 0 | N45: =SUM(O15:O44) -> 0 | P45: =SUM(P15:P44) -> 0 | Q45: =SUM(R15:R44) -> 0
B47: ДСГ здравствени услуги по тип на нега
B48: Шифра на ДСГ група | C48: тип на нега | E48: План за 2026 година | N48: 2025 година (Реализација јануари- септември и проекција до декември) | Q48: Реализација за 2024 година
E49: I полугодие | H49: II полугодие | K49: Вкупно
E50: бр. на случаи | F50: Износ | G50: % од бр. на случаи | H50: бр. на случаи | I50: Износ | J50: % од бр. на случаи | K50: бр. на случаи | L50: Износ | M50: % од бр. на случаи | N50: бр. на случаи | O50: Износ | P50: % од бр. на случаи | Q50: бр. на случаи | R50: Износ | S50: % од бр. на случаи
B51: T01 | C51: Хируршки ДСГ групи | E51: =SUM(E19:E21) -> 0 | F51: =SUM(F19:F21) -> 0 | G51: =E51/$E$45 -> #DIV/0! | H51: =SUM(G19:G21) -> 0 | I51: =SUM(I19:I21) -> 0 | J51: =H51/$G$45 -> #DIV/0! | K51: =SUM(J19:J21) -> 0 | L51: =SUM(L19:L21) -> 0 | M51: =K51/$J$45 -> #DIV/0! | N51: =SUM(M19:M21) -> 0 | O51: =SUM(O19:O21) -> 0 | P51: =N51/$M$45 -> #DIV/0! | Q51: =SUM(P19:P21) -> 0 | R51: =SUM(R19:R21) -> 0 | S51: =Q51/$P$45 -> #DIV/0!
B52: S60-S65, T60-T64 | C52: Медицински (интернистички) ДСГ групи | E52: =SUM(E15:E44)-E19-E20-E21 -> 0 | F52: =SUM(F15:F44)-F19-F20-F21 -> 0 | G52: =E52/$E$45 -> #DIV/0! | H52: =SUM(G15:G44)-G19-G20-G21 -> 0 | I52: =SUM(I15:I44)-I19-I20-I21 -> 0 | J52: =H52/$G$45 -> #DIV/0! | K52: =SUM(J15:J44)-J19-J20-J21 -> 0 | L52: =SUM(L15:L44)-L19-L20-L21 -> 0 | M52: =K52/$J$45 -> #DIV/0! | N52: =SUM(M15:M44)-M19-M20-M21 -> 0 | O52: =SUM(O15:O44)-O19-O20-O21 -> 0 | P52: =N52/$M$45 -> #DIV/0! | Q52: =SUM(P15:P44)-P19-P20-P21 -> 0 | R52: =SUM(R15:R44)-R19-R20-R21 -> 0 | S52: =Q52/$P$45 -> #DIV/0!
B53: нема | C53: Останати ДСГ групи | E53: 0 | F53: 0 | G53: =E53/$E$45 -> #DIV/0! | H53: 0 | I53: 0 | J53: =H53/$G$45 -> #DIV/0! | K53: 0 | L53: 0 | M53: =K53/$J$45 -> #DIV/0! | N53: 0 | O53: 0 | P53: =N53/$M$45 -> #DIV/0! | Q53: 0 | R53: 0 | S53: =Q53/$P$45 -> #DIV/0!
B57: Во | D57: година. | H57: Д и р е к т о р
B59: Составил:

Sheet План-ДСГ-MDC-U
A1: ЈЗУ Универзитетски клиники, клинички болници, општи болници, специјални болници | M1: ПЛ 3 - ДСГ MDC-U | Q1: Врати се на почетна страна
C3: Здравствена установа:
C5: П Л А Н
C6: на видот и обемот на ДСГ здравствени услуги и пакети за завршени здравствени услуги во болничка здравствена заштита (акутни болнички случаи кои не се искажуваат според ДС методата) на осигурените лица за
I7: година.
C9: Главна дијагностичка категорија (MDC: U40-U68) ДУШЕВНИ БОЛЕСТИ И ПОРЕМЕТУВАЊА
A11: Ред. Број | B11: Шифра на ДСГ услуга | C11: Назив на ДСГ услуга | D11: Референтнa ценa | E11: План за 2027 година | M11: 2026 година (Реализација јануари- септември и проекција до декември) | P11: Реализација за 2025 година
E12: I полугодие | G12: II полугодие | J12: Вкупно
E13: бр. на случаи | F13: износ по ДСГ | G13: бр. на случаи | H13: износ по ДСГ | J13: бр. на услуги | K13: износ по ДСГ | M13: Вкупен бр. на услуги | N13: Вкупен износ по ДСГ | P13: Вкупен бр. на услуги | Q13: Вкупен износ по ДСГ
A14: 1 | B14: 2 | C14: 3 | D14: 4 | E14: 5 | F14: 6 | G14: 7 | H14: 8 | J14: 9 (5+7) | K14: 10 (4*9) | M14: 11 | N14: 12 (4*11) | P14: 13 | Q14: 14 (4*13)
A15: 1 | B15: U40Z | C15: Лекување на ментално здравје, истиот ден, со електроконвулзивна терапија (ECT) | D15: 3915 | F15: =E15*D15 -> 0 | I15: =G15*D15 -> 0 | J15: =E15+G15 -> 0 | L15: =J15*D15 -> 0 | O15: =M15*D15 -> 0 | R15: =P15*D15 -> 0
A16: 2 | B16: U60Z | C16: Лекување на ментално здравје, истиот ден, без електроконвулзивна терапија( ECT) | D16: 3266 | F16: =E16*D16 -> 0 | I16: =G16*D16 -> 0 | J16: =E16+G16 -> 0 | L16: =J16*D16 -> 0 | O16: =M16*D16 -> 0 | R16: =P16*D16 -> 0
A17: 3 | B17: U61A | C17: Шизофренија со правен статус на ментална болест | D17: 42271 | F17: =E17*D17 -> 0 | I17: =G17*D17 -> 0 | J17: =E17+G17 -> 0 | L17: =J17*D17 -> 0 | O17: =M17*D17 -> 0 | R17: =P17*D17 -> 0
A18: 4 | B18: U61B | C18: Шизофренија без правен статус на ментална болест | D18: 32433 | F18: =E18*D18 -> 0 | I18: =G18*D18 -> 0 | J18: =E18+G18 -> 0 | L18: =J18*D18 -> 0 | O18: =M18*D18 -> 0 | R18: =P18*D18 -> 0
A19: 5 | B19: U62A | C19: Параноја и акутно психичко пореметување со катастрофални или тешки КК или со правен статус на ментална болест | D19: 44514 | F19: =E19*D19 -> 0 | I19: =G19*D19 -> 0 | J19: =E19+G19 -> 0 | L19: =J19*D19 -> 0 | O19: =M19*D19 -> 0 | R19: =P19*D19 -> 0
A20: 6 | B20: U62B | C20: Параноја и акутно психичко пореметување без катастрофални/тешки КК без правен статус на ментална болест | D20: 32639 | F20: =E20*D20 -> 0 | I20: =G20*D20 -> 0 | J20: =E20+G20 -> 0 | L20: =J20*D20 -> 0 | O20: =M20*D20 -> 0 | R20: =P20*D20 -> 0
A21: 7 | B21: U63A | C21: Големи афективни пореметувања, возраст >69 или со (катастрофални или тешки КК) | D21: 43162 | F21: =E21*D21 -> 0 | I21: =G21*D21 -> 0 | J21: =E21+G21 -> 0 | L21: =J21*D21 -> 0 | O21: =M21*D21 -> 0 | R21: =P21*D21 -> 0
A22: 8 | B22: U63B | C22: Големи афективни пореметувања, возраст <70 без катастрофални или тешки КК | D22: 31365 | F22: =E22*D22 -> 0 | I22: =G22*D22 -> 0 | J22: =E22+G22 -> 0 | L22: =J22*D22 -> 0 | O22: =M22*D22 -> 0 | R22: =P22*D22 -> 0
A23: 9 | B23: U64Z | C23: Други афективни соматоформни пореметувања | D23: 20161 | F23: =E23*D23 -> 0 | I23: =G23*D23 -> 0 | J23: =E23+G23 -> 0 | L23: =J23*D23 -> 0 | O23: =M23*D23 -> 0 | R23: =P23*D23 -> 0
A24: 10 | B24: U65Z | C24: Анксиозни пореметувања | D24: 16452 | F24: =E24*D24 -> 0 | I24: =G24*D24 -> 0 | J24: =E24+G24 -> 0 | L24: =J24*D24 -> 0 | O24: =M24*D24 -> 0 | R24: =P24*D24 -> 0
A25: 11 | B25: U66Z | C25: Пореметувања на исхраната и oпсесивно-компулсивни пореметувања | D25: 49984 | F25: =E25*D25 -> 0 | I25: =G25*D25 -> 0 | J25: =E25+G25 -> 0 | L25: =J25*D25 -> 0 | O25: =M25*D25 -> 0 | R25: =P25*D25 -> 0
A26: 12 | B26: U67Z | C26: Пореметувања на личноста и акутни реакции | D26: 19228 | F26: =E26*D26 -> 0 | I26: =G26*D26 -> 0 | J26: =E26+G26 -> 0 | L26: =J26*D26 -> 0 | O26: =M26*D26 -> 0 | R26: =P26*D26 -> 0
A27: 13 | B27: U68Z | C27: Ментални пореметувања во детството | D27: 42793 | F27: =E27*D27 -> 0 | I27: =G27*D27 -> 0 | J27: =E27+G27 -> 0 | L27: =J27*D27 -> 0 | O27: =M27*D27 -> 0 | R27: =P27*D27 -> 0
A28: 14
A29: 15
A30: 16
A31: 17
A32: 18
A33: 19
A34: 20
A35: 21
A36: 22
A37: 23
A38: 24
A39: 25
... A44: 30
C45: ВКУПНО | E45: =SUM(E15:E44) -> 0 | F45: =SUM(F15:F44) -> 0 | G45: =SUM(G15:G44) -> 0 | H45: =SUM(I15:I44) -> 0 | J45: =SUM(J15:J44) -> 0 | K45: =SUM(L15:L44) -> 0 | M45: =SUM(M15:M44) -> 0 | N45: =SUM(O15:O44) -> 0 | P45: =SUM(P15:P44) -> 0 | Q45: =SUM(R15:R44) -> 0
B47: ДСГ здравствени услуги по тип на нега
B48: Шифра на ДСГ група | C48: тип на нега | E48: План за 2026 година | N48: 2025 година (Реализација јануари- септември и проекција до декември) | Q48: Реализација за 2024 година
E49: I полугодие | H49: II полугодие | K49: Вкупно
E50: бр. на случаи | F50: Износ | G50: % од бр. на случаи | H50: бр. на случаи | I50: Износ | J50: % од бр. на случаи | K50: бр. на случаи | L50: Износ | M50: % од бр. на случаи | N50: бр. на случаи | O50: Износ | P50: % од бр. на случаи | Q50: бр. на случаи | R50: Износ | S50: % од бр. на случаи
B51: нема | C51: Хируршки ДСГ групи | E51: 0 | F51: 0 | G51: =E51/$E$45 -> #DIV/0! | H51: 0 | I51: 0 | J51: =H51/$G$45 -> #DIV/0! | K51: 0 | L51: 0 | M51: =K51/$J$45 -> #DIV/0! | N51: 0 | O51: 0 | P51: =N51/$M$45 -> #DIV/0! | Q51: 0 | R51: 0 | S51: =Q51/$P$45 -> #DIV/0!
B52: U60-U68 | C52: Медицински (интернистички) ДСГ групи | E52: =SUM(E16:E44) -> 0 | F52: =SUM(F16:F44) -> 0 | G52: =E52/$E$45 -> #DIV/0! | H52: =SUM(G16:G44) -> 0 | I52: =SUM(I16:I44) -> 0 | J52: =H52/$G$45 -> #DIV/0! | K52: =SUM(J16:J44) -> 0 | L52: =SUM(L16:L44) -> 0 | M52: =K52/$J$45 -> #DIV/0! | N52: =SUM(M16:M44) -> 0 | O52: =SUM(O16:O44) -> 0 | P52: =N52/$M$45 -> #DIV/0! | Q52: =SUM(P16:P44) -> 0 | R52: =SUM(R16:R44) -> 0 | S52: =Q52/$P$45 -> #DIV/0!
B53: U40 | C53: Останати ДСГ групи | E53: =E15 -> 0 | F53: =F15 -> 0 | G53: =E53/$E$45 -> #DIV/0! | H53: =G15 -> 0 | I53: =I15 -> 0 | J53: =H53/$G$45 -> #DIV/0! | K53: =J15 -> 0 | L53: =L15 -> 0 | M53: =K53/$J$45 -> #DIV/0! | N53: =M15 -> 0 | O53: =O15 -> 0 | P53: =N53/$M$45 -> #DIV/0! | Q53: =P15 -> 0 | R53: =R15 -> 0 | S53: =Q53/$P$45 -> #DIV/0!
B57: Во | D57: година. | H57: Д и р е к т о р
B59: Составил:

Sheet План-ДСГ-MDC-V
A1: Универзитетски клиники, клинички болници, општи болници, специјални болници | M1: ПЛ 3 - ДСГ MDC-V | Q1: Врати се на почетна страна
C3: Здравствена установа:
C5: П Л А Н
C6: на видот и обемот на ДСГ здравствени услуги и пакети за завршени здравствени услуги во болничка здравствена заштита (акутни болнички случаи кои не се искажуваат според ДС методата) на осигурените лица за
I7: година.
C9: Главна дијагностичка категорија (MDC: V60-V64) БОЛЕСТИ ПОВРЗАНИ СО АЛКОХОЛ И ДРОГА
A11: Ред. Број | B11: Шифра на ДСГ услуга | C11: Назив на ДСГ услуга | D11: Референтнa ценa | E11: План за 2027 година | M11: 2026 година (Реализација јануари- септември и проекција до декември) | P11: Реализација за 2025 година
E12: I полугодие | G12: II полугодие | J12: Вкупно
E13: бр. на случаи | F13: износ по ДСГ | G13: бр. на случаи | H13: износ по ДСГ | J13: бр. на услуги | K13: износ по ДСГ | M13: Вкупен бр. на услуги | N13: Вкупен износ по ДСГ | P13: Вкупен бр. на услуги | Q13: Вкупен износ по ДСГ
A14: 1 | B14: 2 | C14: 3 | D14: 4 | E14: 5 | F14: 6 | G14: 7 | H14: 8 | J14: 9 (5+7) | K14: 10 (4*9) | M14: 11 | N14: 12 (4*11) | P14: 13 | Q14: 14 (4*13)
A15: 1 | B15: V60A | C15: Труење со алкохол и апстиненција со КК | D15: 20407 | F15: =E15*D15 -> 0 | I15: =G15*D15 -> 0 | J15: =E15+G15 -> 0 | L15: =J15*D15 -> 0 | O15: =M15*D15 -> 0 | R15: =P15*D15 -> 0
A16: 2 | B16: V60B | C16: Труење со алкохол и апстиненција без КК | D16: 12322 | F16: =E16*D16 -> 0 | I16: =G16*D16 -> 0 | J16: =E16+G16 -> 0 | L16: =J16*D16 -> 0 | O16: =M16*D16 -> 0 | R16: =P16*D16 -> 0
A17: 3 | B17: V61Z | C17: Труење со дроги и апстиненција | D17: 23788 | F17: =E17*D17 -> 0 | I17: =G17*D17 -> 0 | J17: =E17+G17 -> 0 | L17: =J17*D17 -> 0 | O17: =M17*D17 -> 0 | R17: =P17*D17 -> 0
A18: 4 | B18: V62A | C18: Пореметување поради употрeба на алкохол и зависност | D18: 22371 | F18: =E18*D18 -> 0 | I18: =G18*D18 -> 0 | J18: =E18+G18 -> 0 | L18: =J18*D18 -> 0 | O18: =M18*D18 -> 0 | R18: =P18*D18 -> 0
A19: 5 | B19: V62B | C19: Пореметување поради употрeба на алкохол и зависност, истиот ден | D19: 4290 | F19: =E19*D19 -> 0 | I19: =G19*D19 -> 0 | J19: =E19+G19 -> 0 | L19: =J19*D19 -> 0 | O19: =M19*D19 -> 0 | R19: =P19*D19 -> 0
A20: 6 | B20: V63A | C20: Пореметување поради употрeба на опојни дроги и зависност | D20: 28890 | F20: =E20*D20 -> 0 | I20: =G20*D20 -> 0 | J20: =E20+G20 -> 0 | L20: =J20*D20 -> 0 | O20: =M20*D20 -> 0 | R20: =P20*D20 -> 0
A21: 7 | B21: V63B | C21: Пореметување поради употрeба на опојни дроги и зависност,напуштено лекување спротивно на медицински совет | D21: 13840 | F21: =E21*D21 -> 0 | I21: =G21*D21 -> 0 | J21: =E21+G21 -> 0 | L21: =J21*D21 -> 0 | O21: =M21*D21 -> 0 | R21: =P21*D21 -> 0
A22: 8 | B22: V64Z | C22: Пореметување поради употрeба на други дроги и зависност | D22: 30530 | F22: =E22*D22 -> 0 | I22: =G22*D22 -> 0 | J22: =E22+G22 -> 0 | L22: =J22*D22 -> 0 | O22: =M22*D22 -> 0 | R22: =P22*D22 -> 0
A23: 9
A24: 10
A25: 11
A26: 12
A27: 13
A28: 14
A29: 15
A30: 16
A31: 17
A32: 18
A33: 19
A34: 20
... A44: 30
C45: ВКУПНО | E45: =SUM(E15:E44) -> 0 | F45: =SUM(F15:F44) -> 0 | G45: =SUM(G15:G44) -> 0 | I45: =SUM(I15:I44) -> 0 | J45: =SUM(J15:J44) -> 0 | L45: =SUM(L15:L44) -> 0 | M45: =SUM(M15:M44) -> 0 | O45: =SUM(O15:O44) -> 0 | P45: =SUM(P15:P44) -> 0 | R45: =SUM(R15:R44) -> 0
B47: ДСГ здравствени услуги по тип на нега
B48: Шифра на ДСГ група | C48: тип на нега | E48: План за 2026 година | N48: 2025 година (Реализација јануари- септември и проекција до декември) | Q48: Реализација за 2024 година
E49: I полугодие | H49: II полугодие | K49: Вкупно
E50: бр. на случаи | F50: Износ | G50: % од бр. на случаи | H50: бр. на случаи | I50: Износ | J50: % од бр. на случаи | K50: бр. на случаи | L50: Износ | M50: % од бр. на случаи | N50: бр. на случаи | O50: Износ | P50: % од бр. на случаи | Q50: бр. на случаи | R50: Износ | S50: % од бр. на случаи
B51: нема | C51: Хируршки ДСГ групи | E51: 0 | F51: 0 | G51: =E51/$E$45 -> #DIV/0! | H51: 0 | I51: 0 | J51: =H51/$G$45 -> #DIV/0! | K51: 0 | L51: 0 | M51: =K51/$J$45 -> #DIV/0! | N51: 0 | O51: 0 | P51: =N51/$M$45 -> #DIV/0! | Q51: 0 | R51: 0 | S51: =Q51/$P$45 -> #DIV/0!
B52: V60-V64 | C52: Медицински (интернистички) ДСГ групи | E52: =SUM(E15:E44) -> 0 | F52: =SUM(F15:F44) -> 0 | G52: =E52/$E$45 -> #DIV/0! | H52: =SUM(G15:G44) -> 0 | I52: =SUM(I15:I44) -> 0 | J52: =H52/$G$45 -> #DIV/0! | K52: =SUM(J15:J44) -> 0 | L52: =SUM(L15:L44) -> 0 | M52: =K52/$J$45 -> #DIV/0! | N52: =SUM(M15:M44) -> 0 | O52: =SUM(O15:O44) -> 0 | P52: =N52/$M$45 -> #DIV/0! | Q52: =SUM(P15:P44) -> 0 | R52: =SUM(R15:R44) -> 0 | S52: =Q52/$P$45 -> #DIV/0!
B53: нема | C53: Останати ДСГ групи | E53: 0 | F53: 0 | G53: =E53/$E$45 -> #DIV/0! | H53: 0 | I53: 0 | J53: =H53/$G$45 -> #DIV/0! | K53: 0 | L53: 0 | M53: =K53/$J$45 -> #DIV/0! | N53: 0 | O53: 0 | P53: =N53/$M$45 -> #DIV/0! | Q53: 0 | R53: 0 | S53: =Q53/$P$45 -> #DIV/0!
B57: Во | D57: година. | H57: Д и р е к т о р
B59: Составил:

Sheet План-ДСГ-MDC-W,X
A1: Универзитетски клиники, клинички болници, општи болници, специјални болници | M1: ПЛ 3 - ДСГ MDC-W,X | Q1: Врати се на почетна страна
C3: Здравствена установа:
C5: П Л А Н
C6: на видот и обемот на ДСГ здравствени услуги и пакети за завршени здравствени услуги во болничка здравствена заштита (акутни болнички случаи кои не се искажуваат според ДС методата) на осигурените лица за
I7: година.
C9: Главна дијагностичка категорија (MDC: W01-W61, X01-X64) ПОВРЕДИ,ТРУЕЊЕ И ТОКСИЧНО ДЕЈСТВО НА ЛЕКОВИ
A11: Ред. Број | B11: Шифра на ДСГ услуга | C11: Назив на ДСГ услуга | D11: Референтнa ценa | E11: План за 2027 година | M11: 2026 година (Реализација јануари- септември и проекција до декември) | P11: Реализација за 2025 година
E12: I полугодие | G12: II полугодие | J12: Вкупно
E13: бр. на случаи | F13: износ по ДСГ | G13: бр. на случаи | H13: износ по ДСГ | J13: бр. на услуги | K13: износ по ДСГ | M13: Вкупен бр. на услуги | N13: Вкупен износ по ДСГ | P13: Вкупен бр. на услуги | Q13: Вкупен износ по ДСГ
A14: 1 | B14: 2 | C14: 3 | D14: 4 | E14: 5 | F14: 6 | G14: 7 | H14: 8 | J14: 9 (5+7) | K14: 10 (4*9) | M14: 11 | N14: 12 (4*11) | P14: 13 | Q14: 14 (4*13)
A15: 1 | B15: W01Z | C15: Процедури на вентилација или краниотомија при значајна политраума | D15: 327549 | F15: =E15*D15 -> 0 | I15: =G15*D15 -> 0 | J15: =E15+G15 -> 0 | L15: =J15*D15 -> 0 | O15: =M15*D15 -> 0 | R15: =P15*D15 -> 0
A16: 2 | B16: W02Z | C16: Процедури на колк, фемур и екстремитети поради значајни политрауми, вклучувајќи имплантација | D16: 170145 | F16: =E16*D16 -> 0 | I16: =G16*D16 -> 0 | J16: =E16+G16 -> 0 | L16: =J16*D16 -> 0 | O16: =M16*D16 -> 0 | R16: =P16*D16 -> 0
A17: 3 | B17: W03Z | C17: Абдоминални процедури поради значајни политрауми | D17: 121456 | F17: =E17*D17 -> 0 | I17: =G17*D17 -> 0 | J17: =E17+G17 -> 0 | L17: =J17*D17 -> 0 | O17: =M17*D17 -> 0 | R17: =P17*D17 -> 0
A18: 4 | B18: W04Z | C18: Други процедури во операциона сала поради значајна политраума | D18: 198521 | F18: =E18*D18 -> 0 | I18: =G18*D18 -> 0 | J18: =E18+G18 -> 0 | L18: =J18*D18 -> 0 | O18: =M18*D18 -> 0 | R18: =P18*D18 -> 0
A19: 5 | B19: W60Z | C19: Политраума, починат или пренесен во друг објект за акутно згрижување <5 дена | D19: 124539 | F19: =E19*D19 -> 0 | I19: =G19*D19 -> 0 | J19: =E19+G19 -> 0 | L19: =J19*D19 -> 0 | O19: =M19*D19 -> 0 | R19: =P19*D19 -> 0
A20: 6 | B20: W61Z | C20: Политраума без значајни процедури | D20: 40256 | F20: =E20*D20 -> 0 | I20: =G20*D20 -> 0 | J20: =E20+G20 -> 0 | L20: =J20*D20 -> 0 | O20: =M20*D20 -> 0 | R20: =P20*D20 -> 0
A21: 7 | B21: X02Z | C21: Микроваскуларен трансфер на ткиво или кожни графтови за повреди на рака | D21: 21609 | F21: =E21*D21 -> 0 | I21: =G21*D21 -> 0 | J21: =E21+G21 -> 0 | L21: =J21*D21 -> 0 | O21: =M21*D21 -> 0 | R21: =P21*D21 -> 0
A22: 8 | B22: X04A | C22: Други процедури за повреди на долните екстремитети, возраст >59 или со КК | D22: 80234 | F22: =E22*D22 -> 0 | I22: =G22*D22 -> 0 | J22: =E22+G22 -> 0 | L22: =J22*D22 -> 0 | O22: =M22*D22 -> 0 | R22: =P22*D22 -> 0
A23: 9 | B23: X04B | C23: Други процедури за повреди на долните екстремитети, возраст <60 без КК | D23: 23980 | F23: =E23*D23 -> 0 | I23: =G23*D23 -> 0 | J23: =E23+G23 -> 0 | L23: =J23*D23 -> 0 | O23: =M23*D23 -> 0 | R23: =P23*D23 -> 0
A24: 10 | B24: X05Z | C24: Други процедури за повреди на рака | D24: 16506 | F24: =E24*D24 -> 0 | I24: =G24*D24 -> 0 | J24: =E24+G24 -> 0 | L24: =J24*D24 -> 0 | O24: =M24*D24 -> 0 | R24: =P24*D24 -> 0
A25: 11 | B25: X06A | C25: Други процедури за други повреди со катастрофални или тешки КК | D25: 85782 | F25: =E25*D25 -> 0 | I25: =G25*D25 -> 0 | J25: =E25+G25 -> 0 | L25: =J25*D25 -> 0 | O25: =M25*D25 -> 0 | R25: =P25*D25 -> 0
A26: 12 | B26: X06B | C26: Други процедури за други повреди без катастрофални или тешки КК | D26: 20174 | F26: =E26*D26 -> 0 | I26: =G26*D26 -> 0 | J26: =E26+G26 -> 0 | L26: =J26*D26 -> 0 | O26: =M26*D26 -> 0 | R26: =P26*D26 -> 0
... A38: 24 | B38: X64B | C38: Други дијагнози за повреди, труења и токсични ефекти, возраст <60 без КК | D38: 11081 | F38: =E38*D38 -> 0 | I38: =G38*D38 -> 0 | J38: =E38+G38 -> 0 | L38: =J38*D38 -> 0 | O38: =M38*D38 -> 0 | R38: =P38*D38 -> 0
A39: 25
A40: 26
A41: 27
A42: 28
A43: 29
A44: 30
C45: ВКУПНО | E45: =SUM(E15:E44) -> 0 | F45: =SUM(F15:F44) -> 0 | G45: =SUM(G15:G44) -> 0 | H45: =SUM(I15:I44) -> 0 | J45: =SUM(J15:J44) -> 0 | K45: =SUM(L15:L44) -> 0 | M45: =SUM(M15:M44) -> 0 | N45: =SUM(O15:O44) -> 0 | P45: =SUM(P15:P44) -> 0 | Q45: =SUM(R15:R44) -> 0
B47: ДСГ здравствени услуги по тип на нега
A48: Шифра на ДСГ група | C48: тип на нега | E48: План за 2026 година | N48: 2025 година (Реализација јануари- септември и проекција до декември) | Q48: Реализација за 2024 година
E49: I полугодие | H49: II полугодие | K49: Вкупно
E50: бр. на случаи | F50: Износ | G50: % од бр. на случаи | H50: бр. на случаи | I50: Износ | J50: % од бр. на случаи | K50: бр. на случаи | L50: Износ | M50: % од бр. на случаи | N50: бр. на случаи | O50: Износ | P50: % од бр. на случаи | Q50: бр. на случаи | R50: Износ | S50: % од бр. на случаи
A51: W01-W04, X01-X07 | C51: Хируршки ДСГ групи | E51: =SUM(E21:E28)+E15+E16+E17+E18 -> 0 | F51: =SUM(F21:F28)+F15+F16+F17+F18 -> 0 | G51: =E51/$E$45 -> #DIV/0! | H51: =SUM(G21:G28)+G15+G16+G17+G18 -> 0 | I51: =SUM(I21:I28)+I15+I16+I17+I18 -> 0 | J51: =H51/$G$45 -> #DIV/0! | K51: =SUM(J21:J28)+J15+J16+J17+J18 -> 0 | L51: =SUM(L21:L28)+L15+L16+L17+L18 -> 0 | M51: =K51/$J$45 -> #DIV/0! | N51: =SUM(M21:M28)+M15+M16+M17+M18 -> 0 | O51: =SUM(O21:O28)+O15+O16+O17+O18 -> 0 | P51: =N51/$M$45 -> #DIV/0! | Q51: =SUM(P21:P28)+P15+P16+P17+P18 -> 0 | R51: =SUM(R21:R28)+R15+R16+R17+R18 -> 0 | S51: =Q51/$P$45 -> #DIV/0!
A52: W60-W61, X60-X64 | C52: Медицински (интернистички) ДСГ групи | E52: =SUM(E29:E44)+E19+E20 -> 0 | F52: =SUM(F29:F44)+F19+F20 -> 0 | G52: =E52/$E$45 -> #DIV/0! | H52: =SUM(G29:G44)+G19+G20 -> 0 | I52: =SUM(I29:I44)+I19+I20 -> 0 | J52: =H52/$G$45 -> #DIV/0! | K52: =SUM(J29:J44)+J19+J20 -> 0 | L52: =SUM(L29:L44)+L19+L20 -> 0 | M52: =K52/$J$45 -> #DIV/0! | N52: =SUM(M29:M44)+M19+M20 -> 0 | O52: =SUM(O29:O44)+O19+O20 -> 0 | P52: =N52/$M$45 -> #DIV/0! | Q52: =SUM(P29:P44)+P19+P20 -> 0 | R52: =SUM(R29:R44)+R19+R20 -> 0 | S52: =Q52/$P$45 -> #DIV/0!
A53: нема | C53: Останати ДСГ групи | E53: 0 | F53: 0 | G53: =E53/$E$45 -> #DIV/0! | H53: 0 | I53: 0 | J53: =H53/$G$45 -> #DIV/0! | K53: 0 | L53: 0 | M53: =K53/$J$45 -> #DIV/0! | N53: 0 | O53: 0 | P53: =N53/$M$45 -> #DIV/0! | Q53: 0 | R53: 0 | S53: =Q53/$P$45 -> #DIV/0!
B57: Во | D57: година. | H57: Д и р е к т о р
B59: Составил:

Sheet План-ДСГ-MDC-Y
A1: ЈЗУ Универзитетски клиники, клинички болници, општи болници, специјални болници | M1: ПЛ 3 - ДСГ MDC-Y | Q1: Врати се на почетна страна
C3: Здравствена установа:
C5: П Л А Н
C6: на видот и обемот на ДСГ здравствени услуги и пакети за завршени здравствени услуги во болничка здравствена заштита (акутни болнички случаи кои не се искажуваат според ДС методата) на осигурените лица за
I7: година.
C9: Главна дијагностичка категорија (MDC: Y01-Y62) ИЗГОРЕНИЦИ
A11: Ред. Број | B11: Шифра на ДСГ услуга | C11: Назив на ДСГ услуга | D11: Референтнa ценa | E11: План за 2027 година | M11: 2026 година (Реализација јануари- септември и проекција до декември) | P11: Реализација за 2025 година
E12: I полугодие | G12: II полугодие | J12: Вкупно
E13: бр. на случаи | F13: износ по ДСГ | G13: бр. на случаи | H13: износ по ДСГ | J13: бр. на услуги | K13: износ по ДСГ | M13: Вкупен бр. на услуги | N13: Вкупен износ по ДСГ | P13: Вкупен бр. на услуги | Q13: Вкупен износ по ДСГ
A14: 1 | B14: 2 | C14: 3 | D14: 4 | E14: 5 | F14: 6 | G14: 7 | H14: 8 | J14: 9 (5+7) | K14: 10 (4*9) | M14: 11 | N14: 12 (4*11) | P14: 13 | Q14: 14 (4*13)
A15: 1 | B15: Y01Z | C15: Тешки изгореници на целата дебелина | D15: 708681 | F15: =E15*D15 -> 0 | I15: =G15*D15 -> 0 | J15: =E15+G15 -> 0 | L15: =J15*D15 -> 0 | O15: =M15*D15 -> 0 | R15: =P15*D15 -> 0
A16: 2 | B16: Y02A | C16: Други изгореници со кожен графт, возраст >64 или со (катастрофални или тешки КК) или со комплицирани процедури | D16: 286790 | F16: =E16*D16 -> 0 | I16: =G16*D16 -> 0 | J16: =E16+G16 -> 0 | L16: =J16*D16 -> 0 | O16: =M16*D16 -> 0 | R16: =P16*D16 -> 0
A17: 3 | B17: Y02B | C17: Други изгореници со кожен графт, возраст <65 без (катастрофални или тешки КК) без комплицирани процедури | D17: 79635 | F17: =E17*D17 -> 0 | I17: =G17*D17 -> 0 | J17: =E17+G17 -> 0 | L17: =J17*D17 -> 0 | O17: =M17*D17 -> 0 | R17: =P17*D17 -> 0
A18: 4 | B18: Y03Z | C18: Други процедури во операциона сала за други изгореници | D18: 42060 | F18: =E18*D18 -> 0 | I18: =G18*D18 -> 0 | J18: =E18+G18 -> 0 | L18: =J18*D18 -> 0 | O18: =M18*D18 -> 0 | R18: =P18*D18 -> 0
A19: 5 | B19: Y60Z | C19: Изгореници, пренсен во друг објект за акутна нега <5 дена | D19: 28072 | F19: =E19*D19 -> 0 | I19: =G19*D19 -> 0 | J19: =E19+G19 -> 0 | L19: =J19*D19 -> 0 | O19: =M19*D19 -> 0 | R19: =P19*D19 -> 0
A20: 6 | B20: Y61Z | C20: Тешки изгореници | D20: 24515 | F20: =E20*D20 -> 0 | I20: =G20*D20 -> 0 | J20: =E20+G20 -> 0 | L20: =J20*D20 -> 0 | O20: =M20*D20 -> 0 | R20: =P20*D20 -> 0
A21: 7 | B21: Y62A | C21: Други изгореници, возраст >64 или со (катастрофални или тешки КК) или со комплицирани процедури | D21: 26394 | F21: =E21*D21 -> 0 | I21: =G21*D21 -> 0 | J21: =E21+G21 -> 0 | L21: =J21*D21 -> 0 | O21: =M21*D21 -> 0 | R21: =P21*D21 -> 0
A22: 8 | B22: Y62B | C22: Други изгореници, возраст <65 без (катастрофални или тешки КК) без комплицирани процедури | D22: 12972 | F22: =E22*D22 -> 0 | I22: =G22*D22 -> 0 | J22: =E22+G22 -> 0 | L22: =J22*D22 -> 0 | O22: =M22*D22 -> 0 | R22: =P22*D22 -> 0
A23: 9
A24: 10
A25: 11
A26: 12
A27: 13
A28: 14
A29: 15
A30: 16
A31: 17
A32: 18
A33: 19
A34: 20
... A44: 30
C45: ВКУПНО | E45: =SUM(E15:E44) -> 0 | F45: =SUM(F15:F44) -> 0 | G45: =SUM(G15:G44) -> 0 | H45: =SUM(I15:I44) -> 0 | J45: =SUM(J15:J44) -> 0 | K45: =SUM(L15:L44) -> 0 | M45: =SUM(M15:M44) -> 0 | N45: =SUM(O15:O44) -> 0 | P45: =SUM(P15:P44) -> 0 | Q45: =SUM(R15:R44) -> 0
B47: ДСГ здравствени услуги по тип на нега
B48: Шифра на ДСГ група | C48: тип на нега | E48: План за 2026 година | N48: 2025 година (Реализација јануари- септември и проекција до декември) | Q48: Реализација за 2024 година
E49: I полугодие | H49: II полугодие | K49: Вкупно
E50: бр. на случаи | F50: Износ | G50: % од бр. на случаи | H50: бр. на случаи | I50: Износ | J50: % од бр. на случаи | K50: бр. на случаи | L50: Износ | M50: % од бр. на случаи | N50: бр. на случаи | O50: Износ | P50: % од бр. на случаи | Q50: бр. на случаи | R50: Износ | S50: % од бр. на случаи
B51: Y01-Y03 | C51: Хируршки ДСГ групи | E51: =SUM(E15:E18) -> 0 | F51: =SUM(F15:F18) -> 0 | G51: =E51/$E$45 -> #DIV/0! | H51: =SUM(G15:G18) -> 0 | I51: =SUM(I15:I18) -> 0 | J51: =H51/$G$45 -> #DIV/0! | K51: =SUM(J15:J18) -> 0 | L51: =SUM(L15:L18) -> 0 | M51: =K51/$J$45 -> #DIV/0! | N51: =SUM(M15:M18) -> 0 | O51: =SUM(O15:O18) -> 0 | P51: =N51/$M$45 -> #DIV/0! | Q51: =SUM(P15:P18) -> 0 | R51: =SUM(R15:R18) -> 0 | S51: =Q51/$P$45 -> #DIV/0!
B52: Y60-Y62 | C52: Медицински (интернистички) ДСГ групи | E52: =SUM(E19:E44) -> 0 | F52: =SUM(F19:F44) -> 0 | G52: =E52/$E$45 -> #DIV/0! | H52: =SUM(G19:G44) -> 0 | I52: =SUM(I19:I44) -> 0 | J52: =H52/$G$45 -> #DIV/0! | K52: =SUM(J19:J44) -> 0 | L52: =SUM(L19:L44) -> 0 | M52: =K52/$J$45 -> #DIV/0! | N52: =SUM(M19:M44) -> 0 | O52: =SUM(O19:O44) -> 0 | P52: =N52/$M$45 -> #DIV/0! | Q52: =SUM(P19:P44) -> 0 | R52: =SUM(R19:R44) -> 0 | S52: =Q52/$P$45 -> #DIV/0!
B53: нема | C53: Останати ДСГ групи | E53: 0 | F53: 0 | G53: =E53/$E$45 -> #DIV/0! | H53: 0 | I53: 0 | J53: =H53/$G$45 -> #DIV/0! | K53: 0 | L53: 0 | M53: =K53/$J$45 -> #DIV/0! | N53: 0 | O53: 0 | P53: =N53/$M$45 -> #DIV/0! | Q53: 0 | R53: 0 | S53: =Q53/$P$45 -> #DIV/0!
B57: Во | D57: година. | H57: Д и р е к т о р
B59: Составил:

Sheet План-ДСГ-MDC-Z
A1: Универзитетски клиники, клинички болници, општи болници, специјални болници | M1: ПЛ 3 - ДСГ MDC-Z | Q1: Врати се на почетна страна
C3: Здравствена установа:
C5: П Л А Н
C6: на видот и обемот на ДСГ здравствени услуги и пакети за завршени здравствени услуги во болничка здравствена заштита (акутни болнички случаи кои не се искажуваат според ДС методата) на осигурените лица за
I7: година.
C9: Главна дијагностичка категорија (MDC: Z01-Z65) ОСТАНАТИ ФАКТОРИ КОИ ВЛИЈААТ НА ЗДРАВЈЕТО
A11: Ред. Број | B11: Шифра на ДСГ услуга | C11: Назив на ДСГ услуга | D11: Референтнa ценa | E11: План за 2027 година | M11: 2026 година (Реализација јануари- септември и проекција до декември) | P11: Реализација за 2025 година
E12: I полугодие | G12: II полугодие | J12: Вкупно
E13: бр. на случаи | F13: износ по ДСГ | G13: бр. на случаи | H13: износ по ДСГ | J13: бр. на услуги | K13: износ по ДСГ | M13: Вкупен бр. на услуги | N13: Вкупен износ по ДСГ | P13: Вкупен бр. на услуги | Q13: Вкупен износ по ДСГ
A14: 1 | B14: 2 | C14: 3 | D14: 4 | E14: 5 | F14: 6 | G14: 7 | H14: 8 | J14: 9 (5+7) | K14: 10 (4*9) | M14: 11 | N14: 12 (4*11) | P14: 13 | Q14: 14 (4*13)
A15: 1 | B15: Z01A | C15: Процедури во операциона сала со дијагнози на други контакти со здравствени услуги со катастрофални/тешки КК | D15: 57699 | F15: =E15*D15 -> 0 | I15: =G15*D15 -> 0 | J15: =E15+G15 -> 0 | L15: =J15*D15 -> 0 | O15: =M15*D15 -> 0 | R15: =P15*D15 -> 0
A16: 2 | B16: Z01B | C16: Процедури во операциона сала со дијагнози на други контакти со здравствени услуги без катастрофални или тешки КК | D16: 18609 | F16: =E16*D16 -> 0 | I16: =G16*D16 -> 0 | J16: =E16+G16 -> 0 | L16: =J16*D16 -> 0 | O16: =M16*D16 -> 0 | R16: =P16*D16 -> 0
A17: 3 | B17: Z40Z | C17: Следење со Ендоскопија | D17: 5755 | F17: =E17*D17 -> 0 | I17: =G17*D17 -> 0 | J17: =E17+G17 -> 0 | L17: =J17*D17 -> 0 | O17: =M17*D17 -> 0 | R17: =P17*D17 -> 0
A18: 4 | B18: Z60A | C18: Рехабилитација со катастрофални или тешки КК | D18: 59784 | F18: =E18*D18 -> 0 | I18: =G18*D18 -> 0 | J18: =E18+G18 -> 0 | L18: =J18*D18 -> 0 | O18: =M18*D18 -> 0 | R18: =P18*D18 -> 0
A19: 5 | B19: Z60B | C19: Рехабилитација без катастрофални или тешки КК | D19: 31013 | F19: =E19*D19 -> 0 | I19: =G19*D19 -> 0 | J19: =E19+G19 -> 0 | L19: =J19*D19 -> 0 | O19: =M19*D19 -> 0 | R19: =P19*D19 -> 0
A20: 6 | B20: Z60C | C20: Рехабилитација, истиот ден | D20: 6165 | F20: =E20*D20 -> 0 | I20: =G20*D20 -> 0 | J20: =E20+G20 -> 0 | L20: =J20*D20 -> 0 | O20: =M20*D20 -> 0 | R20: =P20*D20 -> 0
A21: 7 | B21: Z61Z | C21: Знаци и симптоми | D21: 11045 | F21: =E21*D21 -> 0 | I21: =G21*D21 -> 0 | J21: =E21+G21 -> 0 | L21: =J21*D21 -> 0 | O21: =M21*D21 -> 0 | R21: =P21*D21 -> 0
A22: 8 | B22: Z62Z | C22: Следење без ендоскопија | D22: 7842 | F22: =E22*D22 -> 0 | I22: =G22*D22 -> 0 | J22: =E22+G22 -> 0 | L22: =J22*D22 -> 0 | O22: =M22*D22 -> 0 | R22: =P22*D22 -> 0
A23: 9 | B23: Z63A | C23: Друга понатамошна нега со катастрофални или тешки КК | D23: 42157 | F23: =E23*D23 -> 0 | I23: =G23*D23 -> 0 | J23: =E23+G23 -> 0 | L23: =J23*D23 -> 0 | O23: =M23*D23 -> 0 | R23: =P23*D23 -> 0
A24: 10 | B24: Z63B | C24: Друга понатамошна нега без катастрофални или тешки КК | D24: 12054 | F24: =E24*D24 -> 0 | I24: =G24*D24 -> 0 | J24: =E24+G24 -> 0 | L24: =J24*D24 -> 0 | O24: =M24*D24 -> 0 | R24: =P24*D24 -> 0
A25: 11 | B25: Z64A | C25: Други фактори кои влијаат на здравствената состојба | D25: 30480 | F25: =E25*D25 -> 0 | I25: =G25*D25 -> 0 | J25: =E25+G25 -> 0 | L25: =J25*D25 -> 0 | O25: =M25*D25 -> 0 | R25: =P25*D25 -> 0
A26: 12 | B26: Z64B | C26: Други фактори кои влијаат на здравствената состојба, истиот ден | D26: 10234 | F26: =E26*D26 -> 0 | I26: =G26*D26 -> 0 | J26: =E26+G26 -> 0 | L26: =J26*D26 -> 0 | O26: =M26*D26 -> 0 | R26: =P26*D26 -> 0
A27: 13 | B27: Z65Z | C27: Повеќекратни, други и ненаведени конгенитални аномалии | D27: 6920 | F27: =E27*D27 -> 0 | I27: =G27*D27 -> 0 | J27: =E27+G27 -> 0 | L27: =J27*D27 -> 0 | O27: =M27*D27 -> 0 | R27: =P27*D27 -> 0
A28: 14
A29: 15
A30: 16
A31: 17
A32: 18
A33: 19
A34: 20
A35: 21
A36: 22
A37: 23
A38: 24
A39: 25
... A44: 30
C45: ВКУПНО | E45: =SUM(E15:E44) -> 0 | F45: =SUM(F15:F44) -> 0 | G45: =SUM(G15:G44) -> 0 | H45: =SUM(I15:I44) -> 0 | J45: =SUM(J15:J44) -> 0 | K45: =SUM(L15:L44) -> 0 | M45: =SUM(M15:M44) -> 0 | N45: =SUM(O15:O44) -> 0 | P45: =SUM(P15:P44) -> 0 | Q45: =SUM(R15:R44) -> 0
B47: ДСГ здравствени услуги по тип на нега
B48: Шифра на ДСГ група | C48: тип на нега | E48: План за 2026 година | N48: 2025 година (Реализација јануари- септември и проекција до декември) | Q48: Реализација за 2024 година
E49: I полугодие | H49: II полугодие | K49: Вкупно
E50: бр. на случаи | F50: Износ | G50: % од бр. на случаи | H50: бр. на случаи | I50: Износ | J50: % од бр. на случаи | K50: бр. на случаи | L50: Износ | M50: % од бр. на случаи | N50: бр. на случаи | O50: Износ | P50: % од бр. на случаи | Q50: бр. на случаи | R50: Износ | S50: % од бр. на случаи
B51: Z01 | C51: Хируршки ДСГ групи | E51: =SUM(E15:E16) -> 0 | F51: =SUM(F15:F16) -> 0 | G51: =E51/$E$45 -> #DIV/0! | H51: =SUM(G15:G16) -> 0 | I51: =SUM(I15:I16) -> 0 | J51: =H51/$G$45 -> #DIV/0! | K51: =SUM(J15:J16) -> 0 | L51: =SUM(L15:L16) -> 0 | M51: =K51/$J$45 -> #DIV/0! | N51: =SUM(M15:M16) -> 0 | O51: =SUM(O15:O16) -> 0 | P51: =N51/$M$45 -> #DIV/0! | Q51: =SUM(P15:P16) -> 0 | R51: =SUM(R15:R16) -> 0 | S51: =Q51/$P$45 -> #DIV/0!
B52: Z60-Z65 | C52: Медицински (интернистички) ДСГ групи | E52: =SUM(E18:E44) -> 0 | F52: =SUM(F18:F44) -> 0 | G52: =E52/$E$45 -> #DIV/0! | H52: =SUM(G18:G44) -> 0 | I52: =SUM(I18:I44) -> 0 | J52: =H52/$G$45 -> #DIV/0! | K52: =SUM(J18:J44) -> 0 | L52: =SUM(L18:L44) -> 0 | M52: =K52/$J$45 -> #DIV/0! | N52: =SUM(M18:M44) -> 0 | O52: =SUM(O18:O44) -> 0 | P52: =N52/$M$45 -> #DIV/0! | Q52: =SUM(P18:P44) -> 0 | R52: =SUM(R18:R44) -> 0 | S52: =Q52/$P$45 -> #DIV/0!
B53: Z40 | C53: Останати ДСГ групи | E53: =E17 -> 0 | F53: =F17 -> 0 | G53: =E53/$E$45 -> #DIV/0! | H53: =G17 -> 0 | I53: =I17 -> 0 | J53: =H53/$G$45 -> #DIV/0! | K53: =J17 -> 0 | L53: =L17 -> 0 | M53: =K53/$J$45 -> #DIV/0! | N53: =M17 -> 0 | O53: =O17 -> 0 | P53: =N53/$M$45 -> #DIV/0! | Q53: =P17 -> 0 | R53: =R17 -> 0 | S53: =Q53/$P$45 -> #DIV/0!
B57: Во | D57: година. | H57: Д и р е к т о р
B59: Составил:

Sheet План-ДСГ-MDC-Збирен
A1: Универзитетски клиники, клинички болници, општи болници, специјални болници | Y1: ПЛ 3 Б - ДСГ MDC - Збирен | AE1: Врати се на почетна страна
C3: Здравствена установа:
C5: П Л А Н
B6: на видот и обемот на ДСГ здравствени услуги и пакети за завршени здравствени услуги во болничка здравствена заштита (акутни болнички случаи кои не се искажуваат според ДС методата) на осигурените лица за
R7: година.
B9: Главна дијагностичка категорија (сите главни дијагностички категории / сите ДСГ групи)
A11: Ред. Број | B11: Шифра на ДСГ услуга, пакет | C11: Назив на ДСГ услуга | D11: План 2026 година | X11: 2025 година (Реализација јануари- септември и проекција до декември) | AF11: 2024 година
D13: хируршки | F13: медицински | H13: останати | J13: хируршки | L13: медицински | N13: останати | P13: хируршки | R13: медицински | T13: останати | V13: Вкупно | X13: хируршки | Z13: медицински | AB13: останати | AD13: Вкупно | AF13: хируршки | AH13: медицински | AJ13: останати | AL13: Вкупно
D14: бр. на случаи | E14: износ по ДСГ | F14: бр. на случаи | G14: износ по ДСГ | H14: бр. на случаи | I14: износ по ДСГ | J14: бр. на случаи | K14: износ по ДСГ | L14: бр. на случаи | M14: износ по ДСГ | N14: бр. на случаи | O14: износ по ДСГ | P14: бр. на случаи | Q14: износ по ДСГ | R14: бр. на случаи | S14: износ по ДСГ | T14: бр. на случаи | U14: износ по ДСГ | V14: бр. на случаи | W14: износ по ДСГ | X14: бр. на случаи | Y14: износ по ДСГ | Z14: бр. на случаи | AA14: износ по ДСГ | AB14: бр. на случаи | AC14: износ по ДСГ | AD14: бр. на случаи | AE14: износ по ДСГ | AF14: бр. на случаи | AG14: износ по ДСГ | AH14: бр. на случаи | AI14: износ по ДСГ | AJ14: бр. на случаи | AK14: износ по ДСГ | AL14: бр. на случаи | AM14: износ по ДСГ
A16: 1 | B16: A01-A42 | C16: ТРАНСПЛАНТАЦИИ, ЕКСПЛАНТАЦИЈА, МЕХАНИЧКА ВЕНТИЛАЦИЈА И СЛ. | D16: ='План-ДСГ-MDC-A'!E51 -> 0 | E16: ='План-ДСГ-MDC-A'!F51 -> 0 | F16: ='План-ДСГ-MDC-A'!E52 -> 0 | G16: ='План-ДСГ-MDC-A'!F52 -> 0 | H16: ='План-ДСГ-MDC-A'!E53 -> 0 | I16: ='План-ДСГ-MDC-A'!F53 -> 0 | J16: ='План-ДСГ-MDC-A'!H51 -> 0 | K16: ='План-ДСГ-MDC-A'!I51 -> 0 | L16: ='План-ДСГ-MDC-A'!H52 -> 0 | M16: ='План-ДСГ-MDC-A'!I52 -> 0 | N16: ='План-ДСГ-MDC-A'!H53 -> 0 | O16: ='План-ДСГ-MDC-A'!I53 -> 0 | P16: =D16+J16 -> 0 | Q16: =E16+K16 -> 0 | R16: =F16+L16 -> 0 | S16: =G16+M16 -> 0 | T16: =H16+N16 -> 0 | U16: =I16+O16 -> 0 | V16: =P16+R16+T16 -> 0 | W16: =Q16+S16+U16 -> 0 | X16: ='План-ДСГ-MDC-A'!N51 -> 0 | Y16: ='План-ДСГ-MDC-A'!O51 -> 0 | Z16: ='План-ДСГ-MDC-A'!N52 -> 0 | AA16: ='План-ДСГ-MDC-A'!O52 -> 0 | AB16: ='План-ДСГ-MDC-A'!N53 -> 0 | AC16: ='План-ДСГ-MDC-A'!O53 -> 0 | AD16: =X16+Z16+AB16 -> 0 | AE16: =Y16+AA16+AC16 -> 0 | AF16: ='План-ДСГ-MDC-A'!Q51 -> 0 | AG16: ='План-ДСГ-MDC-A'!R51 -> 0 | AH16: ='План-ДСГ-MDC-A'!Q52 -> 0 | AI16: ='План-ДСГ-MDC-A'!R52 -> 0 | AJ16: ='План-ДСГ-MDC-A'!Q53 -> 0 | AK16: ='План-ДСГ-MDC-A'!R53 -> 0 | AL16: =AF16+AH16+AJ16 -> 0 | AM16: =AG16+AI16+AK16 -> 0
A17: 2 | B17: B01-B81 | C17: БОЛЕСТИ И ПОРЕМЕТУВАЊА НА НЕРВНИОТ СИСТЕМ | D17: ='План-ДСГ-MDC-B'!E75 -> 0 | E17: ='План-ДСГ-MDC-B'!F75 -> 0 | F17: ='План-ДСГ-MDC-B'!E76 -> 0 | G17: ='План-ДСГ-MDC-B'!F76 -> 0 | H17: ='План-ДСГ-MDC-B'!E77 -> 0 | I17: ='План-ДСГ-MDC-B'!F77 -> 0 | J17: ='План-ДСГ-MDC-B'!H75 -> 0 | K17: ='План-ДСГ-MDC-B'!I75 -> 0 | L17: ='План-ДСГ-MDC-B'!H76 -> 0 | M17: ='План-ДСГ-MDC-B'!I76 -> 0 | N17: ='План-ДСГ-MDC-B'!H77 -> 0 | O17: ='План-ДСГ-MDC-B'!I77 -> 0 | P17: ='План-ДСГ-MDC-B'!K75 -> 0 | Q17: ='План-ДСГ-MDC-B'!L75 -> 0 | R17: ='План-ДСГ-MDC-B'!K76 -> 0 | S17: ='План-ДСГ-MDC-B'!L76 -> 0 | T17: ='План-ДСГ-MDC-B'!K77 -> 0 | U17: ='План-ДСГ-MDC-B'!L77 -> 0 | V17: =P17+R17+T17 -> 0 | W17: =Q17+S17+U17 -> 0 | X17: ='План-ДСГ-MDC-B'!N75 -> 0 | Y17: ='План-ДСГ-MDC-B'!O75 -> 0 | Z17: ='План-ДСГ-MDC-B'!N76 -> 0 | AA17: ='План-ДСГ-MDC-B'!O76 -> 0 | AB17: ='План-ДСГ-MDC-B'!N77 -> 0 | AC17: ='План-ДСГ-MDC-B'!O77 -> 0 | AD17: =X17+Z17+AB17 -> 0 | AE17: =Y17+AA17+AC17 -> 0 | AF17: ='План-ДСГ-MDC-B'!Q75 -> 0 | AG17: ='План-ДСГ-MDC-B'!R75 -> 0 | AH17: ='План-ДСГ-MDC-B'!Q76 -> 0 | AI17: ='План-ДСГ-MDC-B'!R76 -> 0 | AJ17: ='План-ДСГ-MDC-B'!Q77 -> 0 | AK17: ='План-ДСГ-MDC-B'!R77 -> 0 | AL17: =AF17+AH17+AJ17 -> 0 | AM17: =AG17+AI17+AK17 -> 0
A18: 3 | B18: C01-C63, ХОМ1-ХОМ14 | C18: БОЛЕСТИ И ПОРЕМЕТУВАЊА НА ОКОТО | D18: ='План-ДСГ-MDC-C'!E56 -> 0 | E18: ='План-ДСГ-MDC-C'!F56 -> 0 | F18: ='План-ДСГ-MDC-C'!E57 -> 0 | G18: ='План-ДСГ-MDC-C'!F57 -> 0 | H18: ='План-ДСГ-MDC-C'!E58 -> 0 | I18: ='План-ДСГ-MDC-C'!F58 -> 0 | J18: ='План-ДСГ-MDC-C'!H56 -> 0 | K18: ='План-ДСГ-MDC-C'!I56 -> 0 | L18: ='План-ДСГ-MDC-C'!H57 -> 0 | M18: ='План-ДСГ-MDC-C'!I57 -> 0 | N18: ='План-ДСГ-MDC-C'!H58 -> 0 | O18: ='План-ДСГ-MDC-C'!I58 -> 0 | P18: ='План-ДСГ-MDC-C'!K56 -> 0 | Q18: ='План-ДСГ-MDC-C'!L56 -> 0 | R18: ='План-ДСГ-MDC-C'!K57 -> 0 | S18: ='План-ДСГ-MDC-C'!L57 -> 0 | T18: ='План-ДСГ-MDC-C'!K58 -> 0 | U18: ='План-ДСГ-MDC-C'!L58 -> 0 | V18: =P18+R18+T18 -> 0 | W18: =Q18+S18+U18 -> 0 | X18: ='План-ДСГ-MDC-C'!N56 -> 0 | Y18: ='План-ДСГ-MDC-C'!O56 -> 0 | Z18: ='План-ДСГ-MDC-C'!N57 -> 0 | AA18: ='План-ДСГ-MDC-C'!O57 -> 0 | AB18: ='План-ДСГ-MDC-C'!N58 -> 0 | AC18: ='План-ДСГ-MDC-C'!O58 -> 0 | AD18: =X18+Z18+AB18 -> 0 | AE18: =Y18+AA18+AC18 -> 0 | AF18: ='План-ДСГ-MDC-C'!Q56 -> 0 | AG18: ='План-ДСГ-MDC-C'!R56 -> 0 | AH18: ='План-ДСГ-MDC-C'!Q57 -> 0 | AI18: ='План-ДСГ-MDC-C'!R57 -> 0 | AJ18: ='План-ДСГ-MDC-C'!Q58 -> 0 | AK18: ='План-ДСГ-MDC-C'!R58 -> 0 | AL18: =AF18+AH18+AJ18 -> 0 | AM18: =AG18+AI18+AK18 -> 0
A19: 4 | B19: D01-D67 | C19: БОЛЕСТИ И ПОРЕМЕТУВАЊА НА УВО НОС И ГРЛО | D19: ='План-ДСГ-MDC-D'!E50 -> 0 | E19: ='План-ДСГ-MDC-D'!F50 -> 0 | F19: ='План-ДСГ-MDC-D'!E51 -> 0 | G19: ='План-ДСГ-MDC-D'!F51 -> 0 | H19: ='План-ДСГ-MDC-D'!E52 -> 0 | I19: ='План-ДСГ-MDC-D'!F52 -> 0 | J19: ='План-ДСГ-MDC-D'!H50 -> 0 | K19: ='План-ДСГ-MDC-D'!I50 -> 0 | L19: ='План-ДСГ-MDC-D'!H51 -> 0 | M19: ='План-ДСГ-MDC-D'!I51 -> 0 | N19: ='План-ДСГ-MDC-D'!H52 -> 0 | O19: ='План-ДСГ-MDC-D'!I52 -> 0 | P19: ='План-ДСГ-MDC-D'!K50 -> 0 | Q19: ='План-ДСГ-MDC-D'!L50 -> 0 | R19: ='План-ДСГ-MDC-D'!K51 -> 0 | S19: ='План-ДСГ-MDC-D'!L51 -> 0 | T19: ='План-ДСГ-MDC-D'!K52 -> 0 | U19: ='План-ДСГ-MDC-D'!L52 -> 0 | V19: =P19+R19+T19 -> 0 | W19: =Q19+S19+U19 -> 0 | X19: ='План-ДСГ-MDC-D'!N50 -> 0 | Y19: ='План-ДСГ-MDC-D'!O50 -> 0 | Z19: ='План-ДСГ-MDC-D'!N51 -> 0 | AA19: ='План-ДСГ-MDC-D'!O51 -> 0 | AB19: ='План-ДСГ-MDC-D'!N52 -> 0 | AC19: ='План-ДСГ-MDC-D'!O52 -> 0 | AD19: =X19+Z19+AB19 -> 0 | AE19: =Y19+AA19+AC19 -> 0 | AF19: ='План-ДСГ-MDC-D'!Q50 -> 0 | AG19: ='План-ДСГ-MDC-D'!R50 -> 0 | AH19: ='План-ДСГ-MDC-D'!Q51 -> 0 | AI19: ='План-ДСГ-MDC-D'!R51 -> 0 | AJ19: ='План-ДСГ-MDC-D'!Q52 -> 0 | AK19: ='План-ДСГ-MDC-D'!R52 -> 0 | AL19: =AF19+AH19+AJ19 -> 0 | AM19: =AG19+AI19+AK19 -> 0
A20: 5 | B20: E01-E75, ТБЦ1-ТБЦ3 | C20: БОЛЕСТИ И ПОРЕМЕТУВАЊА НА РЕСПИРАТОРЕН СИСТЕМ | D20: ='План-ДСГ-MDC-E'!E67 -> 0 | E20: ='План-ДСГ-MDC-E'!F67 -> 0 | F20: ='План-ДСГ-MDC-E'!E68 -> 0 | G20: ='План-ДСГ-MDC-E'!F68 -> 0 | H20: ='План-ДСГ-MDC-E'!E69 -> 0 | I20: ='План-ДСГ-MDC-E'!F69 -> 0 | J20: ='План-ДСГ-MDC-E'!H67 -> 0 | K20: ='План-ДСГ-MDC-E'!I67 -> 0 | L20: ='План-ДСГ-MDC-E'!H68 -> 0 | M20: ='План-ДСГ-MDC-E'!I68 -> 0 | N20: ='План-ДСГ-MDC-E'!H69 -> 0 | O20: ='План-ДСГ-MDC-E'!I69 -> 0 | P20: ='План-ДСГ-MDC-E'!K67 -> 0 | Q20: ='План-ДСГ-MDC-E'!L67 -> 0 | R20: ='План-ДСГ-MDC-E'!K68 -> 0 | S20: ='План-ДСГ-MDC-E'!L68 -> 0 | T20: ='План-ДСГ-MDC-E'!K69 -> 0 | U20: ='План-ДСГ-MDC-E'!L69 -> 0 | V20: =P20+R20+T20 -> 0 | W20: =Q20+S20+U20 -> 0 | X20: ='План-ДСГ-MDC-E'!N67 -> 0 | Y20: ='План-ДСГ-MDC-E'!O67 -> 0 | Z20: ='План-ДСГ-MDC-E'!N68 -> 0 | AA20: ='План-ДСГ-MDC-E'!O68 -> 0 | AB20: ='План-ДСГ-MDC-E'!N69 -> 0 | AC20: ='План-ДСГ-MDC-E'!O69 -> 0 | AD20: =X20+Z20+AB20 -> 0 | AE20: =Y20+AA20+AC20 -> 0 | AF20: ='План-ДСГ-MDC-E'!Q67 -> 0 | AG20: ='План-ДСГ-MDC-E'!R67 -> 0 | AH20: ='План-ДСГ-MDC-E'!Q68 -> 0 | AI20: ='План-ДСГ-MDC-E'!R68 -> 0 | AJ20: ='План-ДСГ-MDC-E'!Q69 -> 0 | AK20: ='План-ДСГ-MDC-E'!R69 -> 0 | AL20: =AF20+AH20+AJ20 -> 0 | AM20: =AG20+AI20+AK20 -> 0
A21: 6 | B21: F01-F75, РТС1-РТС2, БЛК1-БЛК11 | C21: БОЛЕСТИ И ПОРЕМЕТУВАЊА НА ЦИРКУЛАТОРЕН СИСТЕМ | D21: ='План-ДСГ-MDC-F'!E106 -> 0 | E21: ='План-ДСГ-MDC-F'!F106 -> 0 | F21: ='План-ДСГ-MDC-F'!E107 -> 0 | G21: ='План-ДСГ-MDC-F'!F107 -> 0 | H21: ='План-ДСГ-MDC-F'!E108 -> 0 | I21: ='План-ДСГ-MDC-F'!F108 -> 0 | J21: ='План-ДСГ-MDC-F'!H106 -> 0 | K21: ='План-ДСГ-MDC-F'!I106 -> 0 | L21: ='План-ДСГ-MDC-F'!H107 -> 0 | M21: ='План-ДСГ-MDC-F'!I107 -> 0 | N21: ='План-ДСГ-MDC-F'!H108 -> 0 | O21: ='План-ДСГ-MDC-F'!I108 -> 0 | P21: ='План-ДСГ-MDC-F'!K106 -> 0 | Q21: ='План-ДСГ-MDC-F'!L106 -> 0 | R21: ='План-ДСГ-MDC-F'!K107 -> 0 | S21: ='План-ДСГ-MDC-F'!L107 -> 0 | T21: ='План-ДСГ-MDC-F'!K108 -> 0 | U21: ='План-ДСГ-MDC-F'!L108 -> 0 | V21: =P21+R21+T21 -> 0 | W21: =Q21+S21+U21 -> 0 | X21: ='План-ДСГ-MDC-F'!N106 -> 0 | Y21: ='План-ДСГ-MDC-F'!O106 -> 0 | Z21: ='План-ДСГ-MDC-F'!N107 -> 0 | AA21: ='План-ДСГ-MDC-F'!O107 -> 0 | AB21: ='План-ДСГ-MDC-F'!N108 -> 0 | AC21: ='План-ДСГ-MDC-F'!O108 -> 0 | AD21: =X21+Z21+AB21 -> 0 | AE21: =Y21+AA21+AC21 -> 0 | AF21: ='План-ДСГ-MDC-F'!Q106 -> 0 | AG21: ='План-ДСГ-MDC-F'!R106 -> 0 | AH21: ='План-ДСГ-MDC-F'!Q107 -> 0 | AI21: ='План-ДСГ-MDC-F'!R107 -> 0 | AJ21: ='План-ДСГ-MDC-F'!Q108 -> 0 | AK21: ='План-ДСГ-MDC-F'!R108 -> 0 | AL21: =AF21+AH21+AJ21 -> 0 | AM21: =AG21+AI21+AK21 -> 0
A22: 7 | B22: G01-G70, БЛГ1 | C22: БОЛЕСТИ И ПОРЕМЕТУВАЊА НА ДИГЕСТИВЕН СИСТЕМ | D22: ='План-ДСГ-MDC-G'!E75 -> 0 | E22: ='План-ДСГ-MDC-G'!F75 -> 0 | F22: ='План-ДСГ-MDC-G'!E76 -> 0 | G22: ='План-ДСГ-MDC-G'!F76 -> 0 | H22: ='План-ДСГ-MDC-G'!E77 -> 0 | I22: ='План-ДСГ-MDC-G'!F77 -> 0 | J22: ='План-ДСГ-MDC-G'!H75 -> 0 | K22: ='План-ДСГ-MDC-G'!I75 -> 0 | L22: ='План-ДСГ-MDC-G'!H76 -> 0 | M22: ='План-ДСГ-MDC-G'!I76 -> 0 | N22: ='План-ДСГ-MDC-G'!H77 -> 0 | O22: ='План-ДСГ-MDC-G'!I77 -> 0 | P22: ='План-ДСГ-MDC-G'!K75 -> 0 | Q22: ='План-ДСГ-MDC-G'!L75 -> 0 | R22: ='План-ДСГ-MDC-G'!K76 -> 0 | S22: ='План-ДСГ-MDC-G'!L76 -> 0 | T22: ='План-ДСГ-MDC-G'!K77 -> 0 | U22: ='План-ДСГ-MDC-G'!L77 -> 0 | V22: =P22+R22+T22 -> 0 | W22: =Q22+S22+U22 -> 0 | X22: ='План-ДСГ-MDC-G'!N75 -> 0 | Y22: ='План-ДСГ-MDC-G'!O75 -> 0 | Z22: ='План-ДСГ-MDC-G'!N76 -> 0 | AA22: ='План-ДСГ-MDC-G'!O76 -> 0 | AB22: ='План-ДСГ-MDC-G'!N77 -> 0 | AC22: ='План-ДСГ-MDC-G'!O77 -> 0 | AD22: =X22+Z22+AB22 -> 0 | AE22: =Y22+AA22+AC22 -> 0 | AF22: ='План-ДСГ-MDC-G'!Q75 -> 0 | AG22: ='План-ДСГ-MDC-G'!R75 -> 0 | AH22: ='План-ДСГ-MDC-G'!Q76 -> 0 | AI22: ='План-ДСГ-MDC-G'!R76 -> 0 | AJ22: ='План-ДСГ-MDC-G'!Q77 -> 0 | AK22: ='План-ДСГ-MDC-G'!R77 -> 0 | AL22: =AF22+AH22+AJ22 -> 0 | AM22: =AG22+AI22+AK22 -> 0
A23: 8 | B23: H01-H64 | C23: БОЛЕСТИ И ПОРЕМЕТУВАЊЕ НА ХЕПАТОБИЛИЈАРЕН СИСТЕМ И ПАНКРЕАС | D23: ='План-ДСГ-MDC-H'!E51 -> 0 | E23: ='План-ДСГ-MDC-H'!F51 -> 0 | F23: ='План-ДСГ-MDC-H'!E52 -> 0 | G23: ='План-ДСГ-MDC-H'!F52 -> 0 | H23: ='План-ДСГ-MDC-H'!E53 -> 0 | I23: ='План-ДСГ-MDC-H'!F53 -> 0 | J23: ='План-ДСГ-MDC-H'!H51 -> 0 | K23: ='План-ДСГ-MDC-H'!I51 -> 0 | L23: ='План-ДСГ-MDC-H'!H52 -> 0 | M23: ='План-ДСГ-MDC-H'!I52 -> 0 | N23: ='План-ДСГ-MDC-H'!H53 -> 0 | O23: ='План-ДСГ-MDC-H'!I53 -> 0 | P23: ='План-ДСГ-MDC-H'!K51 -> 0 | Q23: ='План-ДСГ-MDC-H'!L51 -> 0 | R23: ='План-ДСГ-MDC-H'!K52 -> 0 | S23: ='План-ДСГ-MDC-H'!L52 -> 0 | T23: ='План-ДСГ-MDC-H'!K53 -> 0 | U23: ='План-ДСГ-MDC-H'!L53 -> 0 | V23: =P23+R23+T23 -> 0 | W23: =Q23+S23+U23 -> 0 | X23: ='План-ДСГ-MDC-H'!N51 -> 0 | Y23: ='План-ДСГ-MDC-H'!O51 -> 0 | Z23: ='План-ДСГ-MDC-H'!N52 -> 0 | AA23: ='План-ДСГ-MDC-H'!O52 -> 0 | AB23: ='План-ДСГ-MDC-H'!N53 -> 0 | AC23: ='План-ДСГ-MDC-H'!O53 -> 0 | AD23: =X23+Z23+AB23 -> 0 | AE23: =Y23+AA23+AC23 -> 0 | AF23: ='План-ДСГ-MDC-H'!Q51 -> 0 | AG23: ='План-ДСГ-MDC-H'!R51 -> 0 | AH23: ='План-ДСГ-MDC-H'!Q52 -> 0 | AI23: ='План-ДСГ-MDC-H'!R52 -> 0 | AJ23: ='План-ДСГ-MDC-H'!Q53 -> 0 | AK23: ='План-ДСГ-MDC-H'!R53 -> 0 | AL23: =AF23+AH23+AJ23 -> 0 | AM23: =AG23+AI23+AK23 -> 0
A24: 9 | B24: I01-I79 БЛО1-БЛО2 | C24: БОЛЕСТИ И ПОРЕМЕТУВАЊА НА МУСКУЛНО-КОСКЕН И СВРЗЕН СИСТЕМ | D24: ='План-ДСГ-MDC-I'!E103 -> 0 | E24: ='План-ДСГ-MDC-I'!F103 -> 0 | F24: ='План-ДСГ-MDC-I'!E104 -> 0 | G24: ='План-ДСГ-MDC-I'!F104 -> 0 | H24: ='План-ДСГ-MDC-I'!E105 -> 0 | I24: ='План-ДСГ-MDC-I'!F105 -> 0 | J24: ='План-ДСГ-MDC-I'!H103 -> 0 | K24: ='План-ДСГ-MDC-I'!I103 -> 0 | L24: ='План-ДСГ-MDC-I'!H104 -> 0 | M24: ='План-ДСГ-MDC-I'!I104 -> 0 | N24: ='План-ДСГ-MDC-I'!H105 -> 0 | O24: ='План-ДСГ-MDC-I'!I105 -> 0 | P24: ='План-ДСГ-MDC-I'!K103 -> 0 | Q24: ='План-ДСГ-MDC-I'!L103 -> 0 | R24: ='План-ДСГ-MDC-I'!K104 -> 0 | S24: ='План-ДСГ-MDC-I'!L104 -> 0 | T24: ='План-ДСГ-MDC-I'!K105 -> 0 | U24: ='План-ДСГ-MDC-I'!L105 -> 0 | V24: =P24+R24+T24 -> 0 | W24: =Q24+S24+U24 -> 0 | X24: ='План-ДСГ-MDC-I'!N103 -> 0 | Y24: ='План-ДСГ-MDC-I'!O103 -> 0 | Z24: ='План-ДСГ-MDC-I'!N104 -> 0 | AA24: ='План-ДСГ-MDC-I'!O104 -> 0 | AB24: ='План-ДСГ-MDC-I'!N105 -> 0 | AC24: ='План-ДСГ-MDC-I'!O105 -> 0 | AD24: =X24+Z24+AB24 -> 0 | AE24: =Y24+AA24+AC24 -> 0 | AF24: ='План-ДСГ-MDC-I'!Q103 -> 0 | AG24: ='План-ДСГ-MDC-I'!R103 -> 0 | AH24: ='План-ДСГ-MDC-I'!Q104 -> 0 | AI24: ='План-ДСГ-MDC-I'!R104 -> 0 | AJ24: ='План-ДСГ-MDC-I'!Q105 -> 0 | AK24: ='План-ДСГ-MDC-I'!R105 -> 0 | AL24: =AF24+AH24+AJ24 -> 0 | AM24: =AG24+AI24+AK24 -> 0
A25: 10 | B25: J01-J68 ХПД1-ХПД6 | C25: БОЛЕСТИ И ПОРЕМЕТУВАЊА НА КОЖАТА ПОТКОЖНОТО ТКИВО И ДОЈКАТА | D25: ='План-ДСГ-MDC-J'!E57 -> 0 | E25: ='План-ДСГ-MDC-J'!F57 -> 0 | F25: ='План-ДСГ-MDC-J'!E58 -> 0 | G25: ='План-ДСГ-MDC-J'!F58 -> 0 | H25: ='План-ДСГ-MDC-J'!E59 -> 0 | I25: ='План-ДСГ-MDC-J'!F59 -> 0 | J25: ='План-ДСГ-MDC-J'!H57 -> 0 | K25: ='План-ДСГ-MDC-J'!I57 -> 0 | L25: ='План-ДСГ-MDC-J'!H58 -> 0 | M25: ='План-ДСГ-MDC-J'!I58 -> 0 | N25: ='План-ДСГ-MDC-J'!H59 -> 0 | O25: ='План-ДСГ-MDC-J'!I59 -> 0 | P25: ='План-ДСГ-MDC-J'!K57 -> 0 | Q25: ='План-ДСГ-MDC-J'!L57 -> 0 | R25: ='План-ДСГ-MDC-J'!K58 -> 0 | S25: ='План-ДСГ-MDC-J'!L58 -> 0 | T25: ='План-ДСГ-MDC-J'!K59 -> 0 | U25: ='План-ДСГ-MDC-J'!L59 -> 0 | V25: =P25+R25+T25 -> 0 | W25: =Q25+S25+U25 -> 0 | X25: ='План-ДСГ-MDC-J'!N57 -> 0 | Y25: ='План-ДСГ-MDC-J'!O57 -> 0 | Z25: ='План-ДСГ-MDC-J'!N58 -> 0 | AA25: ='План-ДСГ-MDC-J'!O58 -> 0 | AB25: ='План-ДСГ-MDC-J'!N59 -> 0 | AC25: ='План-ДСГ-MDC-J'!O59 -> 0 | AD25: =X25+Z25+AB25 -> 0 | AE25: =Y25+AA25+AC25 -> 0 | AF25: ='План-ДСГ-MDC-J'!Q57 -> 0 | AG25: ='План-ДСГ-MDC-J'!R57 -> 0 | AH25: ='План-ДСГ-MDC-J'!Q58 -> 0 | AI25: ='План-ДСГ-MDC-J'!R58 -> 0 | AJ25: ='План-ДСГ-MDC-J'!Q59 -> 0 | AK25: ='План-ДСГ-MDC-J'!R59 -> 0 | AL25: =AF25+AH25+AJ25 -> 0 | AM25: =AG25+AI25+AK25 -> 0
A26: 11 | B26: K01-K64 | C26: БОЛЕСТИ И ПОРЕМЕТУВАЊА НА ЖЛЕЗДИ СО ВНАТРЕШНО ЛАЧЕЊЕ, ИСХРАНА И МЕТАБОЛИЗАМ | D26: ='План-ДСГ-MDC-K'!E51 -> 0 | E26: ='План-ДСГ-MDC-K'!F51 -> 0 | F26: ='План-ДСГ-MDC-K'!E52 -> 0 | G26: ='План-ДСГ-MDC-K'!F52 -> 0 | H26: ='План-ДСГ-MDC-K'!E53 -> 0 | I26: ='План-ДСГ-MDC-K'!F53 -> 0 | J26: ='План-ДСГ-MDC-K'!H51 -> 0 | K26: ='План-ДСГ-MDC-K'!I51 -> 0 | L26: ='План-ДСГ-MDC-K'!H52 -> 0 | M26: ='План-ДСГ-MDC-K'!I52 -> 0 | N26: ='План-ДСГ-MDC-K'!H53 -> 0 | O26: ='План-ДСГ-MDC-K'!I53 -> 0 | P26: ='План-ДСГ-MDC-K'!K51 -> 0 | Q26: ='План-ДСГ-MDC-K'!L51 -> 0 | R26: ='План-ДСГ-MDC-K'!K52 -> 0 | S26: ='План-ДСГ-MDC-K'!L52 -> 0 | T26: ='План-ДСГ-MDC-K'!K53 -> 0 | U26: ='План-ДСГ-MDC-K'!L53 -> 0 | V26: =P26+R26+T26 -> 0 | W26: =Q26+S26+U26 -> 0 | X26: ='План-ДСГ-MDC-K'!N51 -> 0 | Y26: ='План-ДСГ-MDC-K'!O51 -> 0 | Z26: ='План-ДСГ-MDC-K'!N52 -> 0 | AA26: ='План-ДСГ-MDC-K'!O52 -> 0 | AB26: ='План-ДСГ-MDC-K'!N53 -> 0 | AC26: ='План-ДСГ-MDC-K'!O53 -> 0 | AD26: =X26+Z26+AB26 -> 0 | AE26: =Y26+AA26+AC26 -> 0 | AF26: ='План-ДСГ-MDC-K'!Q51 -> 0 | AG26: ='План-ДСГ-MDC-K'!R51 -> 0 | AH26: ='План-ДСГ-MDC-K'!Q52 -> 0 | AI26: ='План-ДСГ-MDC-K'!R52 -> 0 | AJ26: ='План-ДСГ-MDC-K'!Q53 -> 0 | AK26: ='План-ДСГ-MDC-K'!R53 -> 0 | AL26: =AF26+AH26+AJ26 -> 0 | AM26: =AG26+AI26+AK26 -> 0
A27: 12 | B27: L02-L67 БЛУ1-БЛУ3 | C27: БОЛЕСТИ И ПОРЕМЕТУВАЊА НА БУБРЕГ И УРИНАРЕН СИСТЕМ | D27: ='План-ДСГ-MDC-L'!E64 -> 0 | E27: ='План-ДСГ-MDC-L'!F64 -> 0 | F27: ='План-ДСГ-MDC-L'!E65 -> 0 | G27: ='План-ДСГ-MDC-L'!F65 -> 0 | H27: ='План-ДСГ-MDC-L'!E66 -> 0 | I27: ='План-ДСГ-MDC-L'!F66 -> 0 | J27: ='План-ДСГ-MDC-L'!H64 -> 0 | K27: ='План-ДСГ-MDC-L'!I64 -> 0 | L27: ='План-ДСГ-MDC-L'!H65 -> 0 | M27: ='План-ДСГ-MDC-L'!I65 -> 0 | N27: ='План-ДСГ-MDC-L'!H66 -> 0 | O27: ='План-ДСГ-MDC-L'!I66 -> 0 | P27: ='План-ДСГ-MDC-L'!K64 -> 0 | Q27: ='План-ДСГ-MDC-L'!L64 -> 0 | R27: ='План-ДСГ-MDC-L'!K65 -> 0 | S27: ='План-ДСГ-MDC-L'!L65 -> 0 | T27: ='План-ДСГ-MDC-L'!K66 -> 0 | U27: ='План-ДСГ-MDC-L'!L66 -> 0 | V27: =P27+R27+T27 -> 0 | W27: =Q27+S27+U27 -> 0 | X27: ='План-ДСГ-MDC-L'!N64 -> 0 | Y27: ='План-ДСГ-MDC-L'!O64 -> 0 | Z27: ='План-ДСГ-MDC-L'!N65 -> 0 | AA27: ='План-ДСГ-MDC-L'!O65 -> 0 | AB27: ='План-ДСГ-MDC-L'!N66 -> 0 | AC27: ='План-ДСГ-MDC-L'!O66 -> 0 | AD27: =X27+Z27+AB27 -> 0 | AE27: =Y27+AA27+AC27 -> 0 | AF27: ='План-ДСГ-MDC-L'!Q64 -> 0 | AG27: ='План-ДСГ-MDC-L'!R64 -> 0 | AH27: ='План-ДСГ-MDC-L'!Q65 -> 0 | AI27: ='План-ДСГ-MDC-L'!R65 -> 0 | AJ27: ='План-ДСГ-MDC-L'!Q66 -> 0 | AK27: ='План-ДСГ-MDC-L'!R66 -> 0 | AL27: =AF27+AH27+AJ27 -> 0 | AM27: =AG27+AI27+AK27 -> 0
A28: 13 | B28: M01-M64 | C28: БОЛЕСТИ И ПОРЕМЕТУВАЊА НА МАШКИ РЕПРОДУКТИВЕН СИСТЕМ | D28: ='План-ДСГ-MDC-M'!E51 -> 0 | E28: ='План-ДСГ-MDC-M'!F51 -> 0 | F28: ='План-ДСГ-MDC-M'!E52 -> 0 | G28: ='План-ДСГ-MDC-M'!F52 -> 0 | H28: ='План-ДСГ-MDC-M'!E53 -> 0 | I28: ='План-ДСГ-MDC-M'!F53 -> 0 | J28: ='План-ДСГ-MDC-M'!H51 -> 0 | K28: ='План-ДСГ-MDC-M'!I51 -> 0 | L28: ='План-ДСГ-MDC-M'!H52 -> 0 | M28: ='План-ДСГ-MDC-M'!I52 -> 0 | N28: ='План-ДСГ-MDC-M'!H53 -> 0 | O28: ='План-ДСГ-MDC-M'!I53 -> 0 | P28: ='План-ДСГ-MDC-M'!K51 -> 0 | Q28: ='План-ДСГ-MDC-M'!L51 -> 0 | R28: ='План-ДСГ-MDC-M'!K52 -> 0 | S28: ='План-ДСГ-MDC-M'!L52 -> 0 | T28: ='План-ДСГ-MDC-M'!K53 -> 0 | U28: ='План-ДСГ-MDC-M'!L53 -> 0 | V28: =P28+R28+T28 -> 0 | W28: =Q28+S28+U28 -> 0 | X28: ='План-ДСГ-MDC-M'!N51 -> 0 | Y28: ='План-ДСГ-MDC-M'!O51 -> 0 | Z28: ='План-ДСГ-MDC-M'!N52 -> 0 | AA28: ='План-ДСГ-MDC-M'!O52 -> 0 | AB28: ='План-ДСГ-MDC-M'!N53 -> 0 | AC28: ='План-ДСГ-MDC-M'!O53 -> 0 | AD28: =X28+Z28+AB28 -> 0 | AE28: =Y28+AA28+AC28 -> 0 | AF28: ='План-ДСГ-MDC-M'!Q51 -> 0 | AG28: ='План-ДСГ-MDC-M'!R51 -> 0 | AH28: ='План-ДСГ-MDC-M'!Q52 -> 0 | AI28: ='План-ДСГ-MDC-M'!R52 -> 0 | AJ28: ='План-ДСГ-MDC-M'!Q53 -> 0 | AK28: ='План-ДСГ-MDC-M'!R53 -> 0 | AL28: =AF28+AH28+AJ28 -> 0 | AM28: =AG28+AI28+AK28 -> 0
A29: 14 | B29: N01-N62 | C29: БОЛЕСТИ И ПОРЕМЕТУВАЊА НА ЖЕНСКИОТ РЕПРОДУКТИВЕН СИСТЕМ | D29: ='План-ДСГ-MDC-N'!E51 -> 0 | E29: ='План-ДСГ-MDC-N'!F51 -> 0 | F29: ='План-ДСГ-MDC-N'!E52 -> 0 | G29: ='План-ДСГ-MDC-N'!F52 -> 0 | H29: ='План-ДСГ-MDC-N'!E53 -> 0 | I29: ='План-ДСГ-MDC-N'!F53 -> 0 | J29: ='План-ДСГ-MDC-N'!H51 -> 0 | K29: ='План-ДСГ-MDC-N'!I51 -> 0 | L29: ='План-ДСГ-MDC-N'!H52 -> 0 | M29: ='План-ДСГ-MDC-N'!I52 -> 0 | N29: ='План-ДСГ-MDC-N'!H53 -> 0 | O29: ='План-ДСГ-MDC-N'!F53 -> 0 | P29: ='План-ДСГ-MDC-N'!K51 -> 0 | Q29: ='План-ДСГ-MDC-N'!L51 -> 0 | R29: ='План-ДСГ-MDC-N'!K52 -> 0 | S29: ='План-ДСГ-MDC-N'!L52 -> 0 | T29: ='План-ДСГ-MDC-N'!K53 -> 0 | U29: ='План-ДСГ-MDC-N'!L53 -> 0 | V29: =P29+R29+T29 -> 0 | W29: =Q29+S29+U29 -> 0 | X29: ='План-ДСГ-MDC-N'!N51 -> 0 | Y29: ='План-ДСГ-MDC-N'!O51 -> 0 | Z29: ='План-ДСГ-MDC-N'!N52 -> 0 | AA29: ='План-ДСГ-MDC-N'!O52 -> 0 | AB29: ='План-ДСГ-MDC-N'!N53 -> 0 | AC29: ='План-ДСГ-MDC-N'!O53 -> 0 | AD29: =X29+Z29+AB29 -> 0 | AE29: =Y29+AA29+AC29 -> 0 | AF29: ='План-ДСГ-MDC-N'!Q51 -> 0 | AG29: ='План-ДСГ-MDC-N'!R51 -> 0 | AH29: ='План-ДСГ-MDC-N'!Q52 -> 0 | AI29: ='План-ДСГ-MDC-N'!R52 -> 0 | AJ29: ='План-ДСГ-MDC-N'!Q53 -> 0 | AK29: ='План-ДСГ-MDC-N'!R53 -> 0 | AL29: =AF29+AH29+AJ29 -> 0 | AM29: =AG29+AI29+AK29 -> 0
A30: 15 | B30: O01-O66 | C30: БРЕМЕНОСТ, ПОРОДУВАЊЕ И ПУЕРПЕРИУМ | D30: ='План-ДСГ-MDC-O'!E51 -> 0 | E30: ='План-ДСГ-MDC-O'!F51 -> 0 | F30: ='План-ДСГ-MDC-O'!E52 -> 0 | G30: ='План-ДСГ-MDC-O'!F52 -> 0 | H30: ='План-ДСГ-MDC-O'!E53 -> 0 | I30: ='План-ДСГ-MDC-O'!F53 -> 0 | J30: ='План-ДСГ-MDC-O'!H51 -> 0 | K30: ='План-ДСГ-MDC-O'!I51 -> 0 | L30: ='План-ДСГ-MDC-O'!H52 -> 0 | M30: ='План-ДСГ-MDC-O'!I52 -> 0 | N30: ='План-ДСГ-MDC-O'!H53 -> 0 | O30: ='План-ДСГ-MDC-O'!I53 -> 0 | P30: ='План-ДСГ-MDC-O'!K51 -> 0 | Q30: ='План-ДСГ-MDC-O'!L51 -> 0 | R30: ='План-ДСГ-MDC-O'!K52 -> 0 | S30: ='План-ДСГ-MDC-O'!L52 -> 0 | T30: ='План-ДСГ-MDC-O'!K53 -> 0 | U30: ='План-ДСГ-MDC-O'!L53 -> 0 | V30: =P30+R30+T30 -> 0 | W30: =Q30+S30+U30 -> 0 | X30: ='План-ДСГ-MDC-O'!N51 -> 0 | Y30: ='План-ДСГ-MDC-O'!O51 -> 0 | Z30: ='План-ДСГ-MDC-O'!N52 -> 0 | AA30: ='План-ДСГ-MDC-O'!O52 -> 0 | AB30: ='План-ДСГ-MDC-O'!N53 -> 0 | AC30: ='План-ДСГ-MDC-O'!O53 -> 0 | AD30: =X30+Z30+AB30 -> 0 | AE30: =Y30+AA30+AC30 -> 0 | AF30: ='План-ДСГ-MDC-O'!Q51 -> 0 | AG30: ='План-ДСГ-MDC-O'!R51 -> 0 | AH30: ='План-ДСГ-MDC-O'!Q52 -> 0 | AI30: ='План-ДСГ-MDC-O'!R52 -> 0 | AJ30: ='План-ДСГ-MDC-O'!Q53 -> 0 | AK30: ='План-ДСГ-MDC-O'!R53 -> 0 | AL30: =AF30+AH30+AJ30 -> 0 | AM30: =AG30+AI30+AK30 -> 0
A31: 16 | B31: P01-P67 | C31: БОЛЕСТИ И ПОРЕМЕТУВАЊА НА НОВОРОДЕНЧИЊА | D31: ='План-ДСГ-MDC-P'!E51 -> 0 | E31: ='План-ДСГ-MDC-P'!F51 -> 0 | F31: ='План-ДСГ-MDC-P'!E52 -> 0 | G31: ='План-ДСГ-MDC-P'!F52 -> 0 | H31: ='План-ДСГ-MDC-P'!E53 -> 0 | I31: ='План-ДСГ-MDC-P'!F53 -> 0 | J31: ='План-ДСГ-MDC-P'!H51 -> 0 | K31: ='План-ДСГ-MDC-P'!I51 -> 0 | L31: ='План-ДСГ-MDC-P'!H52 -> 0 | M31: ='План-ДСГ-MDC-P'!I52 -> 0 | N31: ='План-ДСГ-MDC-P'!H53 -> 0 | O31: ='План-ДСГ-MDC-P'!I53 -> 0 | P31: ='План-ДСГ-MDC-P'!K51 -> 0 | Q31: ='План-ДСГ-MDC-P'!L51 -> 0 | R31: ='План-ДСГ-MDC-P'!K52 -> 0 | S31: ='План-ДСГ-MDC-P'!L52 -> 0 | T31: ='План-ДСГ-MDC-P'!K53 -> 0 | U31: ='План-ДСГ-MDC-P'!L53 -> 0 | V31: =P31+R31+T31 -> 0 | W31: =Q31+S31+U31 -> 0 | X31: ='План-ДСГ-MDC-P'!N51 -> 0 | Y31: ='План-ДСГ-MDC-P'!O51 -> 0 | Z31: ='План-ДСГ-MDC-P'!N52 -> 0 | AA31: ='План-ДСГ-MDC-P'!O52 -> 0 | AB31: ='План-ДСГ-MDC-P'!N53 -> 0 | AC31: ='План-ДСГ-MDC-P'!O53 -> 0 | AD31: =X31+Z31+AB31 -> 0 | AE31: =Y31+AA31+AC31 -> 0 | AF31: ='План-ДСГ-MDC-P'!Q51 -> 0 | AG31: ='План-ДСГ-MDC-P'!R51 -> 0 | AH31: ='План-ДСГ-MDC-P'!Q52 -> 0 | AI31: ='План-ДСГ-MDC-P'!R52 -> 0 | AJ31: ='План-ДСГ-MDC-P'!Q53 -> 0 | AK31: ='План-ДСГ-MDC-P'!R53 -> 0 | AL31: =AF31+AH31+AJ31 -> 0 | AM31: =AG31+AI31+AK31 -> 0
A32: 17 | B32: Q01-Q62 | C32: БОЛЕСТИ И ПОРЕМЕТУВАЊА НА КРВТА, КРВОТВОРНИ ОРГАНИ И ИМУНОЛОШКИОТ СИСТЕМ | D32: ='План-ДСГ-MDC-Q'!E51 -> 0 | E32: ='План-ДСГ-MDC-Q'!F51 -> 0 | F32: ='План-ДСГ-MDC-Q'!E52 -> 0 | G32: ='План-ДСГ-MDC-Q'!F52 -> 0 | H32: ='План-ДСГ-MDC-Q'!E53 -> 0 | I32: ='План-ДСГ-MDC-Q'!F53 -> 0 | J32: ='План-ДСГ-MDC-Q'!H51 -> 0 | K32: ='План-ДСГ-MDC-Q'!I51 -> 0 | L32: ='План-ДСГ-MDC-Q'!H52 -> 0 | M32: ='План-ДСГ-MDC-Q'!I52 -> 0 | N32: ='План-ДСГ-MDC-Q'!H53 -> 0 | O32: ='План-ДСГ-MDC-Q'!I53 -> 0 | P32: ='План-ДСГ-MDC-Q'!K51 -> 0 | Q32: ='План-ДСГ-MDC-Q'!L51 -> 0 | R32: ='План-ДСГ-MDC-Q'!K52 -> 0 | S32: ='План-ДСГ-MDC-Q'!L52 -> 0 | T32: ='План-ДСГ-MDC-Q'!K53 -> 0 | U32: ='План-ДСГ-MDC-Q'!L53 -> 0 | V32: =P32+R32+T32 -> 0 | W32: =Q32+S32+U32 -> 0 | X32: ='План-ДСГ-MDC-Q'!N51 -> 0 | Y32: ='План-ДСГ-MDC-Q'!O51 -> 0 | Z32: ='План-ДСГ-MDC-Q'!N52 -> 0 | AA32: ='План-ДСГ-MDC-Q'!O52 -> 0 | AB32: ='План-ДСГ-MDC-Q'!N53 -> 0 | AC32: ='План-ДСГ-MDC-Q'!O53 -> 0 | AD32: =X32+Z32+AB32 -> 0 | AE32: =Y32+AA32+AC32 -> 0 | AF32: ='План-ДСГ-MDC-Q'!Q51 -> 0 | AG32: ='План-ДСГ-MDC-Q'!R51 -> 0 | AH32: ='План-ДСГ-MDC-Q'!Q52 -> 0 | AI32: ='План-ДСГ-MDC-Q'!R52 -> 0 | AJ32: ='План-ДСГ-MDC-Q'!Q53 -> 0 | AK32: ='План-ДСГ-MDC-Q'!R53 -> 0 | AL32: =AF32+AH32+AJ32 -> 0 | AM32: =AG32+AI32+AK32 -> 0
A33: 18 | B33: R01-R64 | C33: МИЕЛОПРЛИФЕРАТИВНИ БОЛЕСТИ И НЕДИФЕРЕНЦИРАНИ ТУМОРИ | D33: ='План-ДСГ-MDC-R'!E51 -> 0 | E33: ='План-ДСГ-MDC-R'!F51 -> 0 | F33: ='План-ДСГ-MDC-R'!E52 -> 0 | G33: ='План-ДСГ-MDC-R'!F52 -> 0 | H33: ='План-ДСГ-MDC-R'!E53 -> 0 | I33: ='План-ДСГ-MDC-R'!F53 -> 0 | J33: ='План-ДСГ-MDC-R'!H51 -> 0 | K33: ='План-ДСГ-MDC-R'!I51 -> 0 | L33: ='План-ДСГ-MDC-R'!H52 -> 0 | M33: ='План-ДСГ-MDC-R'!I52 -> 0 | N33: ='План-ДСГ-MDC-R'!H53 -> 0 | O33: ='План-ДСГ-MDC-R'!I53 -> 0 | P33: ='План-ДСГ-MDC-R'!K51 -> 0 | Q33: ='План-ДСГ-MDC-R'!L51 -> 0 | R33: ='План-ДСГ-MDC-R'!K52 -> 0 | S33: ='План-ДСГ-MDC-R'!L52 -> 0 | T33: ='План-ДСГ-MDC-R'!K53 -> 0 | U33: ='План-ДСГ-MDC-R'!O53 -> 0 | V33: =P33+R33+T33 -> 0 | W33: =Q33+S33+U33 -> 0 | X33: ='План-ДСГ-MDC-R'!N51 -> 0 | Y33: ='План-ДСГ-MDC-R'!O51 -> 0 | Z33: ='План-ДСГ-MDC-R'!N52 -> 0 | AA33: ='План-ДСГ-MDC-R'!O52 -> 0 | AB33: ='План-ДСГ-MDC-R'!N53 -> 0 | AC33: ='План-ДСГ-MDC-R'!O53 -> 0 | AD33: =X33+Z33+AB33 -> 0 | AE33: =Y33+AA33+AC33 -> 0 | AF33: ='План-ДСГ-MDC-R'!Q51 -> 0 | AG33: ='План-ДСГ-MDC-R'!R51 -> 0 | AH33: ='План-ДСГ-MDC-R'!Q52 -> 0 | AI33: ='План-ДСГ-MDC-R'!R52 -> 0 | AJ33: ='План-ДСГ-MDC-R'!Q53 -> 0 | AK33: ='План-ДСГ-MDC-R'!R53 -> 0 | AL33: =AF33+AH33+AJ33 -> 0 | AM33: =AG33+AI33+AK33 -> 0
A34: 19 | B34: S60-S65 T01-T64 | C34: ИНФЕКТИВНИ И ПАРАЗИТСКИ ЗАБОЛУВАЊА | D34: ='План-ДСГ-MDC-S,T'!E51 -> 0 | E34: ='План-ДСГ-MDC-S,T'!F51 -> 0 | F34: ='План-ДСГ-MDC-S,T'!E52 -> 0 | G34: ='План-ДСГ-MDC-S,T'!F52 -> 0 | H34: ='План-ДСГ-MDC-S,T'!E53 -> 0 | I34: ='План-ДСГ-MDC-S,T'!F53 -> 0 | J34: ='План-ДСГ-MDC-S,T'!H51 -> 0 | K34: ='План-ДСГ-MDC-S,T'!I51 -> 0 | L34: ='План-ДСГ-MDC-S,T'!H52 -> 0 | M34: ='План-ДСГ-MDC-S,T'!I52 -> 0 | N34: ='План-ДСГ-MDC-S,T'!H53 -> 0 | O34: ='План-ДСГ-MDC-S,T'!I53 -> 0 | P34: ='План-ДСГ-MDC-S,T'!K51 -> 0 | Q34: ='План-ДСГ-MDC-S,T'!L51 -> 0 | R34: ='План-ДСГ-MDC-S,T'!K52 -> 0 | S34: ='План-ДСГ-MDC-S,T'!L52 -> 0 | T34: ='План-ДСГ-MDC-S,T'!K53 -> 0 | U34: ='План-ДСГ-MDC-S,T'!L53 -> 0 | V34: =P34+R34+T34 -> 0 | W34: =Q34+S34+U34 -> 0 | X34: ='План-ДСГ-MDC-S,T'!N51 -> 0 | Y34: ='План-ДСГ-MDC-S,T'!O51 -> 0 | Z34: ='План-ДСГ-MDC-S,T'!N52 -> 0 | AA34: ='План-ДСГ-MDC-S,T'!O52 -> 0 | AB34: ='План-ДСГ-MDC-S,T'!N53 -> 0 | AC34: ='План-ДСГ-MDC-S,T'!O53 -> 0 | AD34: =X34+Z34+AB34 -> 0 | AE34: =Y34+AA34+AC34 -> 0 | AF34: ='План-ДСГ-MDC-S,T'!Q51 -> 0 | AG34: ='План-ДСГ-MDC-S,T'!R51 -> 0 | AH34: ='План-ДСГ-MDC-S,T'!Q52 -> 0 | AI34: ='План-ДСГ-MDC-S,T'!R52 -> 0 | AJ34: ='План-ДСГ-MDC-S,T'!Q53 -> 0 | AK34: ='План-ДСГ-MDC-S,T'!R53 -> 0 | AL34: =AF34+AH34+AJ34 -> 0 | AM34: =AG34+AI34+AK34 -> 0
A35: 20 | B35: U40-U68 | C35: ДУШЕВНИ БОЛЕСТИ И ПОРЕМЕТУВАЊА | D35: ='План-ДСГ-MDC-U'!E51 -> 0 | E35: ='План-ДСГ-MDC-U'!F51 -> 0 | F35: ='План-ДСГ-MDC-U'!E52 -> 0 | G35: ='План-ДСГ-MDC-U'!F52 -> 0 | H35: ='План-ДСГ-MDC-U'!E53 -> 0 | I35: ='План-ДСГ-MDC-U'!F53 -> 0 | J35: ='План-ДСГ-MDC-U'!H51 -> 0 | K35: ='План-ДСГ-MDC-U'!I51 -> 0 | L35: ='План-ДСГ-MDC-U'!H52 -> 0 | M35: ='План-ДСГ-MDC-U'!I52 -> 0 | N35: ='План-ДСГ-MDC-U'!H53 -> 0 | O35: ='План-ДСГ-MDC-U'!F53 -> 0 | P35: ='План-ДСГ-MDC-U'!K51 -> 0 | Q35: ='План-ДСГ-MDC-U'!L51 -> 0 | R35: ='План-ДСГ-MDC-U'!K52 -> 0 | S35: ='План-ДСГ-MDC-U'!L52 -> 0 | T35: ='План-ДСГ-MDC-U'!K53 -> 0 | U35: ='План-ДСГ-MDC-U'!L53 -> 0 | V35: =P35+R35+T35 -> 0 | W35: =Q35+S35+U35 -> 0 | X35: ='План-ДСГ-MDC-U'!N51 -> 0 | Y35: ='План-ДСГ-MDC-U'!O51 -> 0 | Z35: ='План-ДСГ-MDC-U'!N52 -> 0 | AA35: ='План-ДСГ-MDC-U'!O52 -> 0 | AB35: ='План-ДСГ-MDC-U'!N53 -> 0 | AC35: ='План-ДСГ-MDC-U'!O53 -> 0 | AD35: =X35+Z35+AB35 -> 0 | AE35: =Y35+AA35+AC35 -> 0 | AF35: ='План-ДСГ-MDC-U'!Q51 -> 0 | AG35: ='План-ДСГ-MDC-U'!R51 -> 0 | AH35: ='План-ДСГ-MDC-U'!Q52 -> 0 | AI35: ='План-ДСГ-MDC-U'!R52 -> 0 | AJ35: ='План-ДСГ-MDC-U'!Q53 -> 0 | AK35: ='План-ДСГ-MDC-U'!R53 -> 0 | AL35: =AF35+AH35+AJ35 -> 0 | AM35: =AG35+AI35+AK35 -> 0
A36: 21 | B36: V60-V64 | C36: БОЛЕСТИ ПОВРЗАНИ СО АЛКОХОЛ И ДРОГА | D36: ='План-ДСГ-MDC-V'!E51 -> 0 | E36: ='План-ДСГ-MDC-V'!F51 -> 0 | F36: ='План-ДСГ-MDC-V'!E52 -> 0 | G36: ='План-ДСГ-MDC-V'!F52 -> 0 | H36: ='План-ДСГ-MDC-V'!E53 -> 0 | I36: ='План-ДСГ-MDC-V'!F53 -> 0 | J36: ='План-ДСГ-MDC-V'!H51 -> 0 | K36: ='План-ДСГ-MDC-V'!I51 -> 0 | L36: ='План-ДСГ-MDC-V'!H52 -> 0 | M36: ='План-ДСГ-MDC-V'!I52 -> 0 | N36: ='План-ДСГ-MDC-V'!H53 -> 0 | O36: ='План-ДСГ-MDC-V'!I53 -> 0 | P36: ='План-ДСГ-MDC-V'!K51 -> 0 | Q36: ='План-ДСГ-MDC-V'!L51 -> 0 | R36: ='План-ДСГ-MDC-V'!K52 -> 0 | S36: ='План-ДСГ-MDC-V'!L52 -> 0 | T36: ='План-ДСГ-MDC-V'!K53 -> 0 | U36: ='План-ДСГ-MDC-V'!L53 -> 0 | V36: =P36+R36+T36 -> 0 | W36: =Q36+S36+U36 -> 0 | X36: ='План-ДСГ-MDC-V'!N51 -> 0 | Y36: ='План-ДСГ-MDC-V'!O51 -> 0 | Z36: ='План-ДСГ-MDC-V'!N52 -> 0 | AA36: ='План-ДСГ-MDC-V'!O52 -> 0 | AB36: ='План-ДСГ-MDC-V'!N53 -> 0 | AC36: ='План-ДСГ-MDC-V'!O53 -> 0 | AD36: =X36+Z36+AB36 -> 0 | AE36: =Y36+AA36+AC36 -> 0 | AF36: ='План-ДСГ-MDC-V'!Q51 -> 0 | AG36: ='План-ДСГ-MDC-V'!R51 -> 0 | AH36: ='План-ДСГ-MDC-V'!Q52 -> 0 | AI36: ='План-ДСГ-MDC-V'!R52 -> 0 | AJ36: ='План-ДСГ-MDC-V'!Q53 -> 0 | AK36: ='План-ДСГ-MDC-V'!R53 -> 0 | AL36: =AF36+AH36+AJ36 -> 0 | AM36: =AG36+AI36+AK36 -> 0
A37: 22 | B37: W01-W61 X01-X64 | C37: ПОВРЕДИ,ТРУЕЊЕ И ТОКСИЧНО ДЕЈСТВО НА ЛЕКОВИ | D37: ='План-ДСГ-MDC-W,X'!E51 -> 0 | E37: ='План-ДСГ-MDC-W,X'!F51 -> 0 | F37: ='План-ДСГ-MDC-W,X'!E52 -> 0 | G37: ='План-ДСГ-MDC-W,X'!F52 -> 0 | H37: ='План-ДСГ-MDC-W,X'!E53 -> 0 | I37: ='План-ДСГ-MDC-W,X'!F53 -> 0 | J37: ='План-ДСГ-MDC-W,X'!H51 -> 0 | K37: ='План-ДСГ-MDC-W,X'!I51 -> 0 | L37: ='План-ДСГ-MDC-W,X'!H52 -> 0 | M37: ='План-ДСГ-MDC-W,X'!I52 -> 0 | N37: ='План-ДСГ-MDC-W,X'!H53 -> 0 | O37: ='План-ДСГ-MDC-W,X'!I53 -> 0 | P37: ='План-ДСГ-MDC-W,X'!K51 -> 0 | Q37: ='План-ДСГ-MDC-W,X'!L51 -> 0 | R37: ='План-ДСГ-MDC-W,X'!K52 -> 0 | S37: ='План-ДСГ-MDC-W,X'!L52 -> 0 | T37: ='План-ДСГ-MDC-Y'!K53 -> 0 | U37: ='План-ДСГ-MDC-W,X'!L53 -> 0 | V37: =P37+R37+T37 -> 0 | W37: =Q37+S37+U37 -> 0 | X37: ='План-ДСГ-MDC-W,X'!N51 -> 0 | Y37: ='План-ДСГ-MDC-W,X'!O51 -> 0 | Z37: ='План-ДСГ-MDC-W,X'!N52 -> 0 | AA37: ='План-ДСГ-MDC-W,X'!O52 -> 0 | AB37: ='План-ДСГ-MDC-W,X'!N53 -> 0 | AC37: ='План-ДСГ-MDC-W,X'!O53 -> 0 | AD37: =X37+Z37+AB37 -> 0 | AE37: =Y37+AA37+AC37 -> 0 | AF37: ='План-ДСГ-MDC-W,X'!Q51 -> 0 | AG37: ='План-ДСГ-MDC-W,X'!R51 -> 0 | AH37: ='План-ДСГ-MDC-W,X'!Q52 -> 0 | AI37: ='План-ДСГ-MDC-W,X'!R52 -> 0 | AJ37: ='План-ДСГ-MDC-W,X'!Q53 -> 0 | AK37: ='План-ДСГ-MDC-W,X'!R53 -> 0 | AL37: =AF37+AH37+AJ37 -> 0 | AM37: =AG37+AI37+AK37 -> 0
A38: 23 | B38: Y01-Y62 | C38: ИЗГОРЕНИЦИ | D38: ='План-ДСГ-MDC-Y'!E51 -> 0 | E38: ='План-ДСГ-MDC-Y'!F51 -> 0 | F38: ='План-ДСГ-MDC-Y'!E52 -> 0 | G38: ='План-ДСГ-MDC-Y'!F52 -> 0 | H38: ='План-ДСГ-MDC-Y'!E53 -> 0 | I38: ='План-ДСГ-MDC-Y'!F53 -> 0 | J38: ='План-ДСГ-MDC-Y'!H51 -> 0 | K38: ='План-ДСГ-MDC-Y'!I51 -> 0 | L38: ='План-ДСГ-MDC-Y'!H52 -> 0 | M38: ='План-ДСГ-MDC-Y'!I52 -> 0 | N38: ='План-ДСГ-MDC-Y'!H53 -> 0 | O38: ='План-ДСГ-MDC-Y'!I53 -> 0 | P38: ='План-ДСГ-MDC-Y'!K51 -> 0 | Q38: ='План-ДСГ-MDC-Y'!L51 -> 0 | R38: ='План-ДСГ-MDC-Y'!K52 -> 0 | S38: ='План-ДСГ-MDC-Y'!L52 -> 0 | T38: ='План-ДСГ-MDC-Y'!K53 -> 0 | U38: ='План-ДСГ-MDC-Y'!L53 -> 0 | V38: =P38+R38+T38 -> 0 | W38: =Q38+S38+U38 -> 0 | X38: ='План-ДСГ-MDC-Y'!N51 -> 0 | Y38: ='План-ДСГ-MDC-Y'!O51 -> 0 | Z38: ='План-ДСГ-MDC-Y'!N52 -> 0 | AA38: ='План-ДСГ-MDC-Y'!O52 -> 0 | AB38: ='План-ДСГ-MDC-Y'!N53 -> 0 | AC38: ='План-ДСГ-MDC-Y'!O53 -> 0 | AD38: =X38+Z38+AB38 -> 0 | AE38: =Y38+AA38+AC38 -> 0 | AF38: ='План-ДСГ-MDC-Y'!Q51 -> 0 | AG38: ='План-ДСГ-MDC-Y'!R51 -> 0 | AH38: ='План-ДСГ-MDC-Y'!Q52 -> 0 | AI38: ='План-ДСГ-MDC-Y'!R52 -> 0 | AJ38: ='План-ДСГ-MDC-Y'!Q53 -> 0 | AK38: ='План-ДСГ-MDC-Y'!R53 -> 0 | AL38: =AF38+AH38+AJ38 -> 0 | AM38: =AG38+AI38+AK38 -> 0
A39: 24 | B39: Z01-Z65 | C39: ОСТАНАТИ ФАКТОРИ КОИ ВЛИЈААТ НА ЗДРАВЈЕТО | D39: ='План-ДСГ-MDC-Z'!E51 -> 0 | E39: ='План-ДСГ-MDC-Z'!F51 -> 0 | F39: ='План-ДСГ-MDC-Z'!E52 -> 0 | G39: ='План-ДСГ-MDC-Z'!F52 -> 0 | H39: ='План-ДСГ-MDC-Z'!E53 -> 0 | I39: ='План-ДСГ-MDC-Z'!F53 -> 0 | J39: ='План-ДСГ-MDC-Z'!H51 -> 0 | K39: ='План-ДСГ-MDC-Z'!I51 -> 0 | L39: ='План-ДСГ-MDC-Z'!H52 -> 0 | M39: ='План-ДСГ-MDC-Z'!I52 -> 0 | N39: ='План-ДСГ-MDC-Z'!H53 -> 0 | O39: ='План-ДСГ-MDC-Z'!I53 -> 0 | P39: ='План-ДСГ-MDC-Z'!K51 -> 0 | Q39: ='План-ДСГ-MDC-Z'!L51 -> 0 | R39: ='План-ДСГ-MDC-Z'!K52 -> 0 | S39: ='План-ДСГ-MDC-Z'!L52 -> 0 | T39: ='План-ДСГ-MDC-Z'!K53 -> 0 | U39: ='План-ДСГ-MDC-Z'!L53 -> 0 | V39: =P39+R39+T39 -> 0 | W39: =Q39+S39+U39 -> 0 | X39: ='План-ДСГ-MDC-Z'!N51 -> 0 | Y39: ='План-ДСГ-MDC-Z'!O51 -> 0 | Z39: ='План-ДСГ-MDC-Z'!N52 -> 0 | AA39: ='План-ДСГ-MDC-Z'!O52 -> 0 | AB39: ='План-ДСГ-MDC-Z'!N53 -> 0 | AC39: ='План-ДСГ-MDC-Z'!O53 -> 0 | AD39: =X39+Z39+AB39 -> 0 | AE39: =Y39+AA39+AC39 -> 0 | AF39: ='План-ДСГ-MDC-Z'!Q51 -> 0 | AG39: ='План-ДСГ-MDC-Z'!R51 -> 0 | AH39: ='План-ДСГ-MDC-Z'!Q52 -> 0 | AI39: ='План-ДСГ-MDC-Z'!R52 -> 0 | AJ39: ='План-ДСГ-MDC-Z'!Q53 -> 0 | AK39: ='План-ДСГ-MDC-Z'!R53 -> 0 | AL39: =AF39+AH39+AJ39 -> 0 | AM39: =AG39+AI39+AK39 -> 0
A40: 27 | V40: =P40+R40+T40 -> 0 | W40: =Q40+S40+U40 -> 0 | AD40: =X40+Z40+AB40 -> 0 | AE40: =Y40+AA40+AC40 -> 0 | AL40: =AF40+AH40+AJ40 -> 0 | AM40: =AG40+AI40+AK40 -> 0
C41: ВКУПНО | D41: =SUM(D16:D40) -> 0 | E41: =SUM(E16:E40) -> 0 | F41: =SUM(F16:F40) -> 0 | G41: =SUM(G16:G40) -> 0 | H41: =SUM(H16:H40) -> 0 | I41: =SUM(I16:I40) -> 0 | J41: =SUM(J16:J40) -> 0 | K41: =SUM(K16:K40) -> 0 | ... AM41: =SUM(AM16:AM40) -> 0

Sheet План_ДСГ-MDC-Вкупен
A1: Универзитетски клиники, клинички болници, општи болници, специјални болници | O1: Врати се на почетна страна
C3: Здравствена установа:
A5: П Л А Н
A6: на видот и обемот на ДСГ здравствени услуги и пакети за завршени здравствени услуги во болничка здравствена заштита (акутни болнички случаи кои не се искажуваат според ДС методата) на осигурените лица за
J7: година.
A9: Главна дијагностичка категорија (сите главни дијагностички категории / сите ДСГ групи)
A11: ДСГ здравствени услуги по тип на нега (сите главни дијагностички категории / сите ДСГ групи)
A12: тип на нега | B12: План за 2026 година | K12: 2025 година (Реализација јануари- септември и проекција до декември) | N12: 2024 година
B13: I полугодие | E13: II полугодие | H13: Вкупно
B14: бр. на случаи | C14: % од бр. на случаи | D14: износ по ДСГ | E14: бр. на случаи | F14: % од бр. на случаи | G14: износ по ДСГ | H14: бр. на случаи | I14: % од бр. на случаи | J14: износ по ДСГ | K14: бр. на случаи | L14: % од бр. на случаи | M14: износ по ДСГ | N14: бр. на случаи | O14: % од бр. на случаи | P14: износ по ДСГ
A15: Хируршки ДСГ групи | B15: ='План-ДСГ-MDC-Збирен'!D41 -> 0 | C15: =B15/(B15+B16+B17) -> #DIV/0! | D15: ='План-ДСГ-MDC-Збирен'!E41 -> 0 | E15: ='План-ДСГ-MDC-Збирен'!J41 -> 0 | F15: =E15/(E15+E16+E17) -> #DIV/0! | G15: ='План-ДСГ-MDC-Збирен'!K41 -> 0 | H15: ='План-ДСГ-MDC-Збирен'!P41 -> 0 | I15: =H15/(H15+H16+H17) -> #DIV/0! | J15: ='План-ДСГ-MDC-Збирен'!Q41 -> 0 | K15: ='План-ДСГ-MDC-Збирен'!X41 -> 0 | L15: =K15/(K15+K16+K17) -> #DIV/0! | M15: ='План-ДСГ-MDC-Збирен'!Y41 -> 0 | N15: ='План-ДСГ-MDC-Збирен'!AF41 -> 0 | O15: =N15/(N15+N16+N17) -> #DIV/0! | P15: ='План-ДСГ-MDC-Збирен'!AG41 -> 0
A16: Интернистички ДСГ групи | B16: ='План-ДСГ-MDC-Збирен'!F41 -> 0 | C16: =B16/(B16+B17+B15) -> #DIV/0! | D16: ='План-ДСГ-MDC-Збирен'!G41 -> 0 | E16: ='План-ДСГ-MDC-Збирен'!L41 -> 0 | F16: =E16/(E16+E17+E15) -> #DIV/0! | G16: ='План-ДСГ-MDC-Збирен'!M41 -> 0 | H16: ='План-ДСГ-MDC-Збирен'!R41 -> 0 | I16: =H16/(H16+H17+H15) -> #DIV/0! | J16: ='План-ДСГ-MDC-Збирен'!S41 -> 0 | K16: ='План-ДСГ-MDC-Збирен'!Z41 -> 0 | L16: =K16/(K16+K17+K15) -> #DIV/0! | M16: ='План-ДСГ-MDC-Збирен'!AA41 -> 0 | N16: ='План-ДСГ-MDC-Збирен'!AH41 -> 0 | O16: =N16/(N16+N17+N15) -> #DIV/0! | P16: ='План-ДСГ-MDC-Збирен'!AI41 -> 0
A17: Останати ДСГ групи | B17: ='План-ДСГ-MDC-Збирен'!H41 -> 0 | C17: =B17/(B15+B16+B17) -> #DIV/0! | D17: ='План-ДСГ-MDC-Збирен'!I41 -> 0 | E17: ='План-ДСГ-MDC-Збирен'!N41 -> 0 | F17: =E17/(E15+E16+E17) -> #DIV/0! | G17: ='План-ДСГ-MDC-Збирен'!O41 -> 0 | H17: ='План-ДСГ-MDC-Збирен'!T41 -> 0 | I17: =H17/(H15+H16+H17) -> #DIV/0! | J17: ='План-ДСГ-MDC-Збирен'!U41 -> 0 | K17: ='План-ДСГ-MDC-Збирен'!AB41 -> 0 | L17: =K17/(K15+K16+K17) -> #DIV/0! | M17: ='План-ДСГ-MDC-Збирен'!AC41 -> 0 | N17: ='План-ДСГ-MDC-Збирен'!AJ41 -> 0 | O17: =N17/(N15+N16+N17) -> #DIV/0! | P17: ='План-ДСГ-MDC-Збирен'!AK41 -> 0
A18: ВКУПНО ДСГ услуги | B18: =SUM(B15:B17) -> 0 | C18: =SUM(C15:C17) -> #DIV/0! | D18: =SUM(D15:D17) -> 0 | E18: =SUM(E15:E17) -> 0 | F18: =SUM(F15:F17) -> #DIV/0! | G18: =SUM(G15:G17) -> 0 | H18: =SUM(H15:H17) -> 0 | I18: =SUM(I15:I17) -> #DIV/0! | ... P18: =SUM(P15:P17) -> 0
