Workbook

Sheet Почетна страна
B2: П Л А Н
B3: на видот и обемот на ДСГ здравствени услуги и пакети за завршени здравствени услуги во болничка здравствена заштита (акутни болнички случаи кои не се искажуваат според ДС методата) на осигурените лица
B5: Главна дијагностичка категорија (ДСГ групи: A01-A42) ТРАНСПЛАНТАЦИИ, ЕКСПЛАНТАЦИЈА, МЕХАНИЧКА ВЕНТИЛАЦИЈА И СЛ.
B6: Главна дијагностичка категорија (ДСГ групи: B01-B81) БОЛЕСТИ И ПОРЕМЕТУВАЊА НА НЕРВНИОТ СИСТЕМ
B7: Главна дијагностичка категорија (ДСГ групи: C01-C63, Пакети ХОМ1-ХОМ14) БОЛЕСТИ И ПОРЕМЕТУВАЊА НА ОКОТО
B8: Главна дијагностичка категорија (ДСГ групи: D01-D67) БОЛЕСТИ И ПОРЕМЕТУВАЊА НА УВО НОС И ГРЛО
B9: Главна дијагностичка категорија (ДСГ групи: E01-E75, ТБЦ1-ТБЦ3) БОЛЕСТИ И ПОРЕМЕТУВАЊА НА РЕСПИРАТОРЕН СИСТЕМ
B10: Главна дијагностичка категорија (ДСГ групи: F01-F75, РТС1-РТС2, БЛК1-БЛК11) БОЛЕСТИ И ПОРЕМЕТУВАЊА НА ЦИРКУЛАТОРЕН СИСТЕМ
B11: Главна дијагностичка категорија (ДСГ групи: G01-G70, БЛГ1) БОЛЕСТИ И ПОРЕМЕТУВАЊА НА ДИГЕСТИВЕН СИСТЕМ
B12: Главна дијагностичка категорија (ДСГ групи: H01-H64) БОЛЕСТИ И ПОРЕМЕТУВАЊЕ НА ХЕПАТОБИЛИЈАРЕН СИСТЕМ И ПАНКРЕАС
B13: Главна дијагностичка категорија (ДСГ групи: I01-I79, БЛО1-БЛО2) БОЛЕСТИ И ПОРЕМЕТУВАЊА НА МУСКУЛНО-КОСКЕН И СВРЗЕН СИСТЕМ
B14: Главна дијагностичка категорија (ДСГ групи: J01-J68, ХПД1-ХПД6) БОЛЕСТИ И ПОРЕМЕТУВАЊА НА КОЖАТА ПОТКОЖНОТО ТКИВО И ДОЈКАТА
... B28: Главна дијагностичка категорија (ДСГ групи: Z01-Z65) ОСТАНАТИ ФАКТОРИ КОИ ВЛИЈААТ НА ЗДРАВЈЕТО

Sheet План-ДСГ-MDC-A
A1: Универзитетски клиники, клинички болници, општи болници, специјални болници | M1: ПЛ 3 - ДСГ MDC-A | Q1: Врати се на почетна страна
C3: Здравствена установа:
C5: П Л А Н
C6: на видот и обемот на ДСГ здравствени услуги и пакети за завршени здравствени услуги во болничка здравствена заштита (акутни болнички случаи кои не се искажуваат според ДС методата) на осигурените лица за
I7: година.
C9: Главна дијагностичка категорија (PRE-MDC: A01-A42) ТРАНСПЛАНТАЦИИ, ЕКСПЛАНТАЦИЈА, МЕХАНИЧКА ВЕНТИЛАЦИЈА И СЛ.
A11: Ред. Број | B11: Шифра на ДСГ услуга | C11: Назив на ДСГ услуга | D11: Референтнa ценa | E11: План за 2027 година | M11: 2026 година (Реализација јануари- септември и проекција до декември) | P11: Реализација за 2025 година
E12: I полугодие | G12: II полугодие | J12: Вкупно
E13: бр. на случаи | F13: износ по ДСГ | G13: бр. на случаи | H13: износ по ДСГ | J13: бр. на услуги | K13: износ по ДСГ | M13: Вкупен бр. на услуги | N13: Вкупен износ по ДСГ | P13: Вкупен бр. на услуги | Q13: Вкупен износ по ДСГ
A14: 1 | B14: 2 | C14: 3 | D14: 4 | E14: 5 | F14: 6 | G14: 7 | H14: 8 | J14: 9 (5+7) | K14: 10 (4*9) | M14: 11 | N14: 12 (4*11) | P14: 13 | Q14: 14 (4*13)
A15: 1 | B15: A01Z | C15: Трансплантација на црн дроб | D15: 2721300 | F15: =E15*D15 -> 0 | I15: =G15*D15 -> 0 | J15: =E15+G15 -> 0 | L15: =J15*D15 -> 0 | O15: =M15*D15 -> 0 | R15: =P15*D15 -> 0
A16: 2 | B16: A03Z | C16: Трансплантација на бел дроб или на срце/бел дроб | D16: 594410 | F16: =E16*D16 -> 0 | I16: =G16*D16 -> 0 | J16: =E16+G16 -> 0 | L16: =J16*D16 -> 0 | O16: =M16*D16 -> 0 | R16: =P16*D16 -> 0
A17: 3 | B17: A05Z | C17: Трансплантација на срце | D17: 2349500 | F17: =E17*D17 -> 0 | I17: =G17*D17 -> 0 | J17: =E17+G17 -> 0 | L17: =J17*D17 -> 0 | O17: =M17*D17 -> 0 | R17: =P17*D17 -> 0
A18: 4 | B18: A06A | C18: Трахеостомија и вентилација поголема од 96 часа | D18: 350750 | F18: =E18*D18 -> 0 | I18: =G18*D18 -> 0 | J18: =E18+G18 -> 0 | L18: =J18*D18 -> 0 | O18: =M18*D18 -> 0 | R18: =P18*D18 -> 0
A19: 5 | B19: A06B | C19: Трахеостомија и вентилација помала од 96 часа | D19: 40388 | F19: =E19*D19 -> 0 | I19: =G19*D19 -> 0 | J19: =E19+G19 -> 0 | L19: =J19*D19 -> 0 | O19: =M19*D19 -> 0 | R19: =P19*D19 -> 0
A20: 6 | B20: A07Z | C20: Алогенична трансплантација на коскена срж од сроден донор | D20: 983700 | F20: =E20*D20 -> 0 | I20: =G20*D20 -> 0 | J20: =E20+G20 -> 0 | L20: =J20*D20 -> 0 | O20: =M20*D20 -> 0 | R20: =P20*D20 -> 0
A21: 7 | B21: A08A | C21: Автологна транасплантација на коскена срж со катастрофални КК | D21: 818174 | F21: =E21*D21 -> 0 | I21: =G21*D21 -> 0 | J21: =E21+G21 -> 0 | L21: =J21*D21 -> 0 | O21: =M21*D21 -> 0 | R21: =P21*D21 -> 0
A22: 8 | B22: A08B | C22: Автологна транасплантација на коскена срж без катастрофални КК | D22: 559100 | F22: =E22*D22 -> 0 | I22: =G22*D22 -> 0 | J22: =E22+G22 -> 0 | L22: =J22*D22 -> 0 | O22: =M22*D22 -> 0 | R22: =P22*D22 -> 0
A23: 9 | B23: A09A | C23: Трансплантација на бубрег со трансплантација на панкреас или со катастрофални КК | D23: 1115995 | F23: =E23*D23 -> 0 | I23: =G23*D23 -> 0 | J23: =E23+G23 -> 0 | L23: =J23*D23 -> 0 | O23: =M23*D23 -> 0 | R23: =P23*D23 -> 0
A24: 10 | B24: A09B | C24: Трансплантација на бубрег без трансплантација на панкреас , без катастрофални КК | D24: 747143 | F24: =E24*D24 -> 0 | I24: =G24*D24 -> 0 | J24: =E24+G24 -> 0 | L24: =J24*D24 -> 0 | O24: =M24*D24 -> 0 | R24: =P24*D24 -> 0
A25: 11 | B25: A10Z | C25: Трансплантација на рожница | D25: 228481 | F25: =E25*D25 -> 0 | I25: =G25*D25 -> 0 | J25: =E25+G25 -> 0 | L25: =J25*D25 -> 0 | O25: =M25*D25 -> 0 | R25: =P25*D25 -> 0
A26: 12 | B26: A11Z | C26: Припрема на донор, мултиорганска експлантација и експлантација на ткиво | D26: 315250 | F26: =E26*D26 -> 0 | I26: =G26*D26 -> 0 | J26: =E26+G26 -> 0 | L26: =J26*D26 -> 0 | O26: =M26*D26 -> 0 | R26: =P26*D26 -> 0
... A34: 20 | B34: A42Z | C34: Серолошка обработка на донорот на органи/ткива | D34: 13581 | F34: =E34*D34 -> 0 | I34: =G34*D34 -> 0 | J34: =E34+G34 -> 0 | L34: =J34*D34 -> 0 | O34: =M34*D34 -> 0 | R34: =P34*D34 -> 0
A35: 21
A36: 22
A37: 23
A38: 24
A39: 25
A40: 26
A41: 27
A42: 28
A43: 29
A44: 30
C45: ВКУПНО | E45: =SUM(E15:E44) -> 0 | F45: =SUM(F15:F44) -> 0 | G45: =SUM(G15:G44) -> 0 | H45: =SUM(I15:I44) -> 0 | J45: =SUM(J15:J44) -> 0 | K45: =SUM(L15:L44) -> 0 | M45: =SUM(M15:M44) -> 0 | N45: =SUM(O15:O44) -> 0 | P45: =SUM(P15:P44) -> 0 | Q45: =SUM(R15:R44) -> 0
B47: ДСГ здравствени услуги по тип на нега
B48: Шифра на ДСГ група | C48: тип на нега | E48: План за 2026 година | N48: 2025 година (Реализација јануари- септември и проекција до декември) | Q48: Реализација за 2024 година
E49: I полугодие | H49: II полугодие | K49: Вкупно
E50: бр. на случаи | F50: Износ | G50: % од бр. на случаи | H50: бр. на случаи | I50: Износ | J50: % од бр. на случаи | K50: бр. на случаи | L50: Износ | M50: % од бр. на случаи | N50: бр. на случаи | O50: Износ | P50: % од бр. на случаи | Q50: бр. на случаи | R50: Износ | S50: % од бр. на случаи
B51: A01-A15 | C51: Хируршки ДСГ групи | E51: =SUM(E15:E30) -> 0 | F51: =SUM(F15:F30) -> 0 | G51: =E51/$E$45 -> #DIV/0! | H51: =SUM(G15:G30) -> 0 | I51: =SUM(I15:I30) -> 0 | J51: =H51/$G$45 -> #DIV/0! | K51: =SUM(J15:J30) -> 0 | L51: =SUM(L15:L30) -> 0 | M51: =K51/$J$45 -> #DIV/0! | N51: =SUM(M15:M30) -> 0 | O51: =SUM(O15:O30) -> 0 | P51: =N51/$M$45 -> #DIV/0! | Q51: =SUM(P15:P30) -> 0 | R51: =SUM(R15:R30) -> 0 | S51: =Q51/$P$45 -> #DIV/0!
B52: нема | C52: Медицински (интернистички) ДСГ групи | E52: 0 | F52: 0 | G52: =E52/$E$45 -> #DIV/0! | H52: 0 | I52: 0 | J52: =H52/$G$45 -> #DIV/0! | K52: 0 | L52: 0 | M52: =K52/$J$45 -> #DIV/0! | N52: 0 | O52: 0 | P52: =N52/$M$45 -> #DIV/0! | Q52: 0 | R52: 0 | S52: =Q52/$P$45 -> #DIV/0!
...

Sheet План-ДСГ-MDC-B
A1: Универзитетски клиники, клинички болници, општи болници, специјални болници | M1: ПЛ 3 - ДСГ MDC-B | Q1: Врати се на почетна страна
C3: Здравствена установа:
C5: П Л А Н
C6: на видот и обемот на ДСГ здравствени услуги и пакети за завршени здравствени услуги во болничка здравствена заштита (акутни болнички случаи кои не се искажуваат според ДС методата) на осигурените лица за
I7: година.
C9: Главна дијагностичка категорија (MDC: B01-B81) БОЛЕСТИ И ПОРЕМЕТУВАЊА НА НЕРВНИОТ СИСТЕМ
A11: Ред. Број | B11: Шифра на ДСГ услуга | C11: Назив на ДСГ услуга | D11: Референтнa ценa | E11: План за 2027 година | M11: 2026 година (Реализација јануари- септември и проекција до декември) | P11: Реализација за 2025 година
E12: I полугодие | G12: II полугодие | J12: Вкупно
E13: бр. на случаи | F13: износ по ДСГ | G13: бр. на случаи | H13: износ по ДСГ | J13: бр. на услуги | K13: износ по ДСГ | M13: Вкупен бр. на услуги | N13: Вкупен износ по ДСГ | P13: Вкупен бр. на услуги | Q13: Вкупен износ по ДСГ
A14: 1 | B14: 2 | C14: 3 | D14: 4 | E14: 5 | F14: 6 | G14: 7 | H14: 8 | J14: 9 (5+7) | K14: 10 (4*9) | M14: 11 | N14: 12 (4*11) | P14: 13 | Q14: 14 (4*13)
A15: 1 | B15: B01Z | C15: Ревизија на вентрикуларен шант | D15: 60008 | F15: =E15*D15 -> 0 | I15: =G15*D15 -> 0 | J15: =E15+G15 -> 0 | L15: =J15*D15 -> 0 | O15: =M15*D15 -> 0 | R15: =P15*D15 -> 0
A16: 2 | B16: B02A | C16: Краниотомија со катастрофални КК | D16: 132210 | F16: =E16*D16 -> 0 | I16: =G16*D16 -> 0 | J16: =E16+G16 -> 0 | L16: =J16*D16 -> 0 | O16: =M16*D16 -> 0 | R16: =P16*D16 -> 0
A17: 3 | B17: B02B | C17: Краниотомија со тешки или умерени КК | D17: 105967 | F17: =E17*D17 -> 0 | I17: =G17*D17 -> 0 | J17: =E17+G17 -> 0 | L17: =J17*D17 -> 0 | O17: =M17*D17 -> 0 | R17: =P17*D17 -> 0
A18: 4 | B18: B02C | C18: Краниотомија без КК | D18: 102121 | F18: =E18*D18 -> 0 | I18: =G18*D18 -> 0 | J18: =E18+G18 -> 0 | L18: =J18*D18 -> 0 | O18: =M18*D18 -> 0 | R18: =P18*D18 -> 0
A19: 5 | B19: B03A | C19: Спинални процедури со катастрофални или тешки КК | D19: 106722 | F19: =E19*D19 -> 0 | I19: =G19*D19 -> 0 | J19: =E19+G19 -> 0 | L19: =J19*D19 -> 0 | O19: =M19*D19 -> 0 | R19: =P19*D19 -> 0
A20: 6 | B20: B03B | C20: Спинални процедури без катастрофални или тешки КК | D20: 54172 | F20: =E20*D20 -> 0 | I20: =G20*D20 -> 0 | J20: =E20+G20 -> 0 | L20: =J20*D20 -> 0 | O20: =M20*D20 -> 0 | R20: =P20*D20 -> 0
A21: 7 | B21: B04A | C21: Екстракранијални васкуларни процедури со катастрофални или тешки КК | D21: 143119 | F21: =E21*D21 -> 0 | I21: =G21*D21 -> 0 | J21: =E21+G21 -> 0 | L21: =J21*D21 -> 0 | O21: =M21*D21 -> 0 | R21: =P21*D21 -> 0
A22: 8 | B22: B04B | C22: Екстракранијални васкуларни процедури без катастрофални или тешки КК | D22: 136464 | F22: =E22*D22 -> 0 | I22: =G22*D22 -> 0 | J22: =E22+G22 -> 0 | L22: =J22*D22 -> 0 | O22: =M22*D22 -> 0 | R22: =P22*D22 -> 0
A23: 9 | B23: B05Z | C23: Ослободување од Карпал Тунел синдром | D23: 9179 | F23: =E23*D23 -> 0 | I23: =G23*D23 -> 0 | J23: =E23+G23 -> 0 | L23: =J23*D23 -> 0 | O23: =M23*D23 -> 0 | R23: =P23*D23 -> 0
A24: 10 | B24: B06A | C24: Процедури за церебрална одземеност, мускулна дистрофија, невропатија со катастрофални или тешки КК | D24: 83947 | F24: =E24*D24 -> 0 | I24: =G24*D24 -> 0 | J24: =E24+G24 -> 0 | L24: =J24*D24 -> 0 | O24: =M24*D24 -> 0 | R24: =P24*D24 -> 0
A25: 11 | B25: B06B | C25: Процедури за церебрална одземеност, мускулна дистрофија, невропатија без катастрофални или тешки КК | D25: 34500 | F25: =E25*D25 -> 0 | I25: =G25*D25 -> 0 | J25: =E25+G25 -> 0 | L25: =J25*D25 -> 0 | O25: =M25*D25 -> 0 | R25: =P25*D25 -> 0
A26: 12 | B26: B07A | C26: Процедури на периферни и кранијални нерви и други процедури на нервен систем со КК | D26: 55162 | F26: =E26*D26 -> 0 | I26: =G26*D26 -> 0 | J26: =E26+G26 -> 0 | L26: =J26*D26 -> 0 | O26: =M26*D26 -> 0 | R26: =P26*D26 -> 0
... A67: 53 | B67: B81B | C67: Други пореметувања на нервниот систем без катастрофални или тешки КК | D67: 19191 | F67: =E67*D67 -> 0 | I67: =G67*D67 -> 0 | J67: =E67+G67 -> 0 | L67: =J67*D67 -> 0 | O67: =M67*D67 -> 0 | R67: =P67*D67 -> 0
C69: ВКУПНО | E69: =SUM(E15:E68) -> 0 | F69: =SUM(F15:F68) -> 0 | G69: =SUM(G15:G68) -> 0 | H69: =SUM(I15:I68) -> 0 | J69: =SUM(J15:J68) -> 0 | K69: =SUM(L15:L68) -> 0 | M69: =SUM(M15:M68) -> 0 | N69: =SUM(O15:O68) -> 0 | P69: =SUM(P15:P68) -> 0 | Q69: =SUM(R15:R68) -> 0
B71: ДСГ здравствени услуги по тип на нега
B72: Шифра на ДСГ група | C72: тип на нега | E72: План за 2026 година | N72: 2025 година (Реализација јануари- септември и проекција до декември) | Q72: Реализација за 2024 година
E73: I полугодие | H73: II полугодие | K73: Вкупно
E74: бр. на случаи | F74: Износ | G74: % од бр. на случаи | H74: бр. на случаи | I74: Износ | J74: % од бр. на случаи | K74: бр. на случаи | L74: Износ | M74: % од бр. на случаи | N74: бр. на случаи | O74: Износ | P74: % од бр. на случаи | Q74: бр. на случаи | R74: Износ | S74: % од бр. на случаи
B75: B01-B07 | C75: Хируршки ДСГ групи | E75: =SUM(E15:E27) -> 0 | F75: =SUM(F15:F27) -> 0 | G75: =E75/$E$69 -> #DIV/0! | H75: =SUM(G15:G27) -> 0 | I75: =SUM(I15:I27) -> 0 | J75: =H75/$G$69 -> #DIV/0! | K75: =SUM(J15:J27) -> 0 | L75: =SUM(L15:L27) -> 0 | M75: =K75/$J$69 -> #DIV/0! | N75: =SUM(M15:M27) -> 0 | O75: =SUM(O15:O27) -> 0 | P75: =N75/$M$69 -> #DIV/0! | Q75: =SUM(P15:P27) -> 0 | R75: =SUM(R15:R27) -> 0 | S75: =Q75/$P$69 -> #DIV/0!
B76: B60-B81 | C76: Медицински (интернистички) ДСГ групи | E76: =SUM(E30:E68) -> 0 | F76: =SUM(F30:F68) -> 0 | G76: =E76/$E$69 -> #DIV/0! | H76: =SUM(G30:G68) -> 0 | I76: =SUM(I30:I68) -> 0 | J76: =H76/$G$69 -> #DIV/0! | K76: =SUM(J30:J68) -> 0 | L76: =SUM(L30:L68) -> 0 | M76: =K76/$J$69 -> #DIV/0! | N76: =SUM(M30:M68) -> 0 | O76: =SUM(O30:O68) -> 0 | P76: =N76/$M$69 -> #DIV/0! | Q76: =SUM(P30:P68) -> 0 | R76: =SUM(R30:R68) -> 0 | S76: =Q76/$P$69 -> #DIV/0!
B77: B40-B41 | C77: Останати ДСГ групи | E77: =SUM(E28:E29) -> 0 | F77: =SUM(F28:F29) -> 0 | G77: =E77/$E$69 -> #DIV/0! | H77: =SUM(G28:G29) -> 0 | I77: =SUM(I28:I29) -> 0 | J77: =H77/$G$69 -> #DIV/0! | K77: =SUM(J28:J29) -> 0 | L77: =SUM(L28:L29) -> 0 | M77: =K77/$J$69 -> #DIV/0! | N77: =SUM(M28:M29) -> 0 | O77: =SUM(O28:O29) -> 0 | P77: =N77/$M$69 -> #DIV/0! | Q77: =SUM(P28:P29) -> 0 | R77: =SUM(R28:R29) -> 0 | S77: =Q77/$P$69 -> #DIV/0!
B80: Во | D80: година. | H80: Д и р е к т о р
B82: Составил:

Sheet План-ДСГ-MDC-C
A1: Универзитетски клиники, клинички болници, општи болници, специјални болници | M1: ПЛ 3 - ДСГ MDC-C | Q1: Врати се на почетна страна
C3: Здравствена установа:
C5: П Л А Н
C6: на видот и обемот на ДСГ здравствени услуги и пакети за завршени здравствени услуги во болничка здравствена заштита (акутни болнички случаи кои не се искажуваат според ДС методата) на осигурените лица за
I7: година.
C9: Главна дијагностичка категорија (MDC: C01-C63, ХОМ1-ХОМ14) БОЛЕСТИ И ПОРЕМЕТУВАЊА НА ОКОТО
A11: Ред. Број | B11: Шифра на ДСГ услуга | C11: Назив на ДСГ услуга | D11: Референтнa ценa | E11: План за 2027 година | M11: 2026 година (Реализација јануари- септември и проекција до декември) | P11: Реализација за 2025 година
E12: I полугодие | G12: II полугодие | J12: Вкупно
E13: бр. на случаи | F13: износ по ДСГ | G13: бр. на случаи | H13: износ по ДСГ | J13: бр. на услуги | K13: износ по ДСГ | M13: Вкупен бр. на услуги | N13: Вкупен износ по ДСГ | P13: Вкупен бр. на услуги | Q13: Вкупен износ по ДСГ
A14: 1 | B14: 2 | C14: 3 | D14: 4 | E14: 5 | F14: 6 | G14: 7 | H14: 8 | J14: 9 (5+7) | K14: 10 (4*9) | M14: 11 | N14: 12 (4*11) | P14: 13 | Q14: 14 (4*13)
A15: 1 | B15: C01Z | C15: Процедури за пенетрирачки повреди на око | D15: 31593 | F15: =E15*D15 -> 0 | I15: =G15*D15 -> 0 | J15: =E15+G15 -> 0 | L15: =J15*D15 -> 0 | O15: =M15*D15 -> 0 | R15: =P15*D15 -> 0
A16: 2 | B16: C02Z | C16: Процедури за отстранување на очно јаболко и процедури на орбитата | D16: 25278 | F16: =E16*D16 -> 0 | I16: =G16*D16 -> 0 | J16: =E16+G16 -> 0 | L16: =J16*D16 -> 0 | O16: =M16*D16 -> 0 | R16: =P16*D16 -> 0
A17: 3 | B17: C03Z | C17: Процедури на мрежницата | D17: 27727 | F17: =E17*D17 -> 0 | I17: =G17*D17 -> 0 | J17: =E17+G17 -> 0 | L17: =J17*D17 -> 0 | O17: =M17*D17 -> 0 | R17: =P17*D17 -> 0
A18: 4 | B18: C04Z | C18: Големи процедури на рожницата, белката и конјуктивата | D18: 24808 | F18: =E18*D18 -> 0 | I18: =G18*D18 -> 0 | J18: =E18+G18 -> 0 | L18: =J18*D18 -> 0 | O18: =M18*D18 -> 0 | R18: =P18*D18 -> 0
A19: 5 | B19: C05Z | C19: Дакриоцисториностомија | D19: 23376 | F19: =E19*D19 -> 0 | I19: =G19*D19 -> 0 | J19: =E19+G19 -> 0 | L19: =J19*D19 -> 0 | O19: =M19*D19 -> 0 | R19: =P19*D19 -> 0
A20: 6 | B20: C10Z | C20: Процедури за страбизам | D20: 19690 | F20: =E20*D20 -> 0 | I20: =G20*D20 -> 0 | J20: =E20+G20 -> 0 | L20: =J20*D20 -> 0 | O20: =M20*D20 -> 0 | R20: =P20*D20 -> 0
A21: 7 | B21: C11Z | C21: Процедури на очниот капак | D21: 13326 | F21: =E21*D21 -> 0 | I21: =G21*D21 -> 0 | J21: =E21+G21 -> 0 | L21: =J21*D21 -> 0 | O21: =M21*D21 -> 0 | R21: =P21*D21 -> 0
A22: 8 | B22: C12Z | C22: Други процедури на рожницата, белката и конјуктивата | D22: 9957 | F22: =E22*D22 -> 0 | I22: =G22*D22 -> 0 | J22: =E22+G22 -> 0 | L22: =J22*D22 -> 0 | O22: =M22*D22 -> 0 | R22: =P22*D22 -> 0
A23: 9 | B23: C13Z | C23: Процедури на солзните жлезди и канали | D23: 7634 | F23: =E23*D23 -> 0 | I23: =G23*D23 -> 0 | J23: =E23+G23 -> 0 | L23: =J23*D23 -> 0 | O23: =M23*D23 -> 0 | R23: =P23*D23 -> 0
A24: 10 | B24: C14Z | C24: Други процедури на окото | D24: 6901 | F24: =E24*D24 -> 0 | I24: =G24*D24 -> 0 | J24: =E24+G24 -> 0 | L24: =J24*D24 -> 0 | O24: =M24*D24 -> 0 | R24: =P24*D24 -> 0
A25: 11 | B25: C15A | C25: Сложени процедури на глауком и катаракта | D25: 17279 | F25: =E25*D25 -> 0 | I25: =G25*D25 -> 0 | J25: =E25+G25 -> 0 | L25: =J25*D25 -> 0 | O25: =M25*D25 -> 0 | R25: =P25*D25 -> 0
A26: 12 | B26: C15B | C26: Сложени процедури на глауком и катаракта, истиот ден | D26: 10773 | F26: =E26*D26 -> 0 | I26: =G26*D26 -> 0 | J26: =E26+G26 -> 0 | L26: =J26*D26 -> 0 | O26: =M26*D26 -> 0 | R26: =P26*D26 -> 0
... A48: 34 | B48: ХОМ14 | C48: Радиална и лимбална кератoтомија на две очи | D48: 25000 | F48: =E48*D48 -> 0 | I48: =G48*D48 -> 0 | J48: =E48+G48 -> 0 | L48: =J48*D48 -> 0 | O48: =M48*D48 -> 0 | R48: =P48*D48 -> 0
C50: ВКУПНО | E50: =SUM(E15:E49) -> 0 | F50: =SUM(F15:F49) -> 0 | G50: =SUM(G15:G49) -> 0 | H50: =SUM(I15:I49) -> 0 | J50: =SUM(J15:J49) -> 0 | K50: =SUM(L15:L49) -> 0 | M50: =SUM(M15:M49) -> 0 | N50: =SUM(O15:O49) -> 0 | P50: =SUM(P15:P49) -> 0 | Q50: =SUM(R15:R49) -> 0
B52: ДСГ здравствени услуги по тип на нега
A53: Шифра на ДСГ група | C53: тип на нега | E53: План за 2026 година | N53: 2025 година (Реализација јануари- септември и проекција до декември) | Q53: Реализација за 2024 година
E54: I полугодие | H54: II полугодие | K54: Вкупно
E55: бр. на случаи | F55: Износ | G55: % од бр. на случаи | H55: бр. на случаи | I55: Износ | J55: % од бр. на случаи | K55: бр. на случаи | L55: Износ | M55: % од бр. на случаи | N55: бр. на случаи | O55: Износ | P55: % од бр. на случаи | Q55: бр. на случаи | R55: Износ | S55: % од бр. на случаи
A56: C01-C17, ХОМ01-ХОМ07, ХОМ09-ХОМ14 | C56: Хируршки ДСГ групи | E56: =SUM(E15:E30)+E37+E38+E39+E40+E41+E43+E44+E45+E46+E47+E48 -> 0 | F56: =SUM(F15:F30)+F37+F38+F39+F40+F41+F43+F44+F45+F46+F47+F48 -> 0 | G56: =E56/$E$50 -> #DIV/0! | H56: =SUM(G15:G30)+G37+G38+G39+G40+G41+G43+G44+G45+G46+G47+G48 -> 0 | I56: =SUM(I15:I30)+I37+I38+I39+I40+I41+I43+I44+I45+I46+I47+I48 -> 0 | J56: =H56/$G$50 -> #DIV/0! | K56: =SUM(J15:J30)+J37+J38+J39+J40+J41+J43+J44+J45+J46+J47+J48 -> 0 | L56: =SUM(L15:L30)+L37+L38+L39+L40+L41+L43+L44+L45+L46+L47+L48 -> 0 | M56: =K56/$J$50 -> #DIV/0! | N56: =SUM(M15:M30)+M37+M38+M39+M40+M41+M43+M44+M45+M46+M47+M48 -> 0 | O56: =SUM(O15:O30)+O37+O38+O39+O40+O41+O43+O44+O45+O46+O47+O48 -> 0 | P56: =N56/$M$50 -> #DIV/0! | Q56: =SUM(P15:P30)+P37+P38+P39+P40+P41+P43+P44+P45+P46+P47+P48 -> 0 | R56: =SUM(R15:R30)+R37+R38+R39+R40+R41+R43+R44+R45+R46+R47+R48 -> 0 | S56: =Q56/$P$50 -> #DIV/0!
A57: C60-C63, ХОМ08 | C57: Медицински (интернистички) ДСГ групи | E57: =SUM(E31:E36)+E42 -> 0 | F57: =SUM(F31:F36)+F42 -> 0 | G57: =E57/$E$50 -> #DIV/0! | H57: =SUM(G31:G36)+G42 -> 0 | I57: =SUM(I31:I36)+I42 -> 0 | J57: =H57/$G$50 -> #DIV/0! | K57: =SUM(J31:J36)+J42 -> 0 | L57: =SUM(L31:L36)+L42 -> 0 | M57: =K57/$J$50 -> #DIV/0! | N57: =SUM(M31:M36)+M42 -> 0 | O57: =SUM(O31:O36)+O42 -> 0 | P57: =N57/$M$50 -> #DIV/0! | Q57: =SUM(P31:P36)+P42 -> 0 | R57: =SUM(R31:R36)+R42 -> 0 | S57: =Q57/$P$50 -> #DIV/0!
A58: нема | C58: Останати ДСГ групи | E58: 0 | F58: 0 | G58: =E58/$E$50 -> #DIV/0! | H58: 0 | I58: 0 | J58: =H58/$G$50 -> #DIV/0! | K58: 0 | L58: 0 | M58: =K58/$J$50 -> #DIV/0! | N58: 0 | O58: 0 | P58: =N58/$M$50 -> #DIV/0! | Q58: 0 | R58: 0 | S58: =Q58/$P$50 -> #DIV/0!
B61: Во | D61: година. | H61: Д и р е к т о р
B63: Составил:

Sheet План-ДСГ-MDC-D
A1: Универзитетски клиники, клинички болници, општи болници, специјални болници | M1: ПЛ 3 - ДСГ MDC-D | Q1: Врати се на почетна страна
C3: Здравствена установа:
C5: П Л А Н
C6: на видот и обемот на ДСГ здравствени услуги и пакети за завршени здравствени услуги во болничка здравствена заштита (акутни болнички случаи кои не се искажуваат според ДС методата) на осигурените лица за
I7: година.
C9: Главна дијагностичка категорија (MDC: D01-D67) БОЛЕСТИ И ПОРЕМЕТУВАЊА НА УВО НОС И ГРЛО
A11: Ред. Број | B11: Шифра на ДСГ услуга | C11: Назив на ДСГ услуга | D11: Референтнa ценa | E11: План за 2027 година | M11: 2026 година (Реализација јануари- септември и проекција до декември) | P11: Реализација за 2025 година
E12: I полугодие | G12: II полугодие | J12: Вкупно
E13: бр. на случаи | F13: износ по ДСГ | G13: бр. на случаи | H13: износ по ДСГ | J13: бр. на услуги | K13: износ по ДСГ | M13: Вкупен бр. на услуги | N13: Вкупен износ по ДСГ | P13: Вкупен бр. на услуги | Q13: Вкупен износ по ДСГ
A14: 1 | B14: 2 | C14: 3 | D14: 4 | E14: 5 | F14: 6 | G14: 7 | H14: 8 | J14: 9 (5+7) | K14: 10 (4*9) | M14: 11 | N14: 12 (4*11) | P14: 13 | Q14: 14 (4*13)
A15: 1 | B15: D01Z | C15: Вградување на кохлеарен имплант | D15: 636400 | F15: =E15*D15 -> 0 | I15: =G15*D15 -> 0 | J15: =E15+G15 -> 0 | L15: =J15*D15 -> 0 | O15: =M15*D15 -> 0 | R15: =P15*D15 -> 0
A16: 2 | B16: D02A | C16: Процедури на глава и врат со катастрофални и тешки КК | D16: 87139 | F16: =E16*D16 -> 0 | I16: =G16*D16 -> 0 | J16: =E16+G16 -> 0 | L16: =J16*D16 -> 0 | O16: =M16*D16 -> 0 | R16: =P16*D16 -> 0
A17: 3 | B17: D02B | C17: Процедури на глава и врат со малигна болест или умерени КК | D17: 48223 | F17: =E17*D17 -> 0 | I17: =G17*D17 -> 0 | J17: =E17+G17 -> 0 | L17: =J17*D17 -> 0 | O17: =M17*D17 -> 0 | R17: =P17*D17 -> 0
A18: 4 | B18: D02C | C18: Процедури на глава и врат без малигна болест и без КК | D18: 28080 | F18: =E18*D18 -> 0 | I18: =G18*D18 -> 0 | J18: =E18+G18 -> 0 | L18: =J18*D18 -> 0 | O18: =M18*D18 -> 0 | R18: =P18*D18 -> 0
A19: 5 | B19: D03Z | C19: Хируршка репарација на расцепена уста или непце | D19: 37168 | F19: =E19*D19 -> 0 | I19: =G19*D19 -> 0 | J19: =E19+G19 -> 0 | L19: =J19*D19 -> 0 | O19: =M19*D19 -> 0 | R19: =P19*D19 -> 0
A20: 6 | B20: D04A | C20: Максиларна хирургија со КК | D20: 55445 | F20: =E20*D20 -> 0 | I20: =G20*D20 -> 0 | J20: =E20+G20 -> 0 | L20: =J20*D20 -> 0 | O20: =M20*D20 -> 0 | R20: =P20*D20 -> 0
A21: 7 | B21: D04B | C21: Максиларна хирургија без КК | D21: 45215 | F21: =E21*D21 -> 0 | I21: =G21*D21 -> 0 | J21: =E21+G21 -> 0 | L21: =J21*D21 -> 0 | O21: =M21*D21 -> 0 | R21: =P21*D21 -> 0
A22: 8 | B22: D05Z | C22: Процедури на паротидна жлезда | D22: 45675 | F22: =E22*D22 -> 0 | I22: =G22*D22 -> 0 | J22: =E22+G22 -> 0 | L22: =J22*D22 -> 0 | O22: =M22*D22 -> 0 | R22: =P22*D22 -> 0
A23: 9 | B23: D06Z | C23: Процедури на синусусите, мастоидот и сложени процедури на средното уво | D23: 27039 | F23: =E23*D23 -> 0 | I23: =G23*D23 -> 0 | J23: =E23+G23 -> 0 | L23: =J23*D23 -> 0 | O23: =M23*D23 -> 0 | R23: =P23*D23 -> 0
A24: 10 | B24: D09Z | C24: Разни процедури на уво, нос, уста и грло | D24: 17494 | F24: =E24*D24 -> 0 | I24: =G24*D24 -> 0 | J24: =E24+G24 -> 0 | L24: =J24*D24 -> 0 | O24: =M24*D24 -> 0 | R24: =P24*D24 -> 0
A25: 11 | B25: D10Z | C25: Процедури на носот | D25: 22280 | F25: =E25*D25 -> 0 | I25: =G25*D25 -> 0 | J25: =E25+G25 -> 0 | L25: =J25*D25 -> 0 | O25: =M25*D25 -> 0 | R25: =P25*D25 -> 0
A26: 12 | B26: D11Z | C26: Тонзилектомија и/или аденоидектомија | D26: 14208 | F26: =E26*D26 -> 0 | I26: =G26*D26 -> 0 | J26: =E26+G26 -> 0 | L26: =J26*D26 -> 0 | O26: =M26*D26 -> 0 | R26: =P26*D26 -> 0
... A42: 28 | B42: D67B | C42: Орални и дентални пореметувања освен ектракции и поправки, истиот ден | D42: 3304 | F42: =E42*D42 -> 0 | I42: =G42*D42 -> 0 | J42: =E42+G42 -> 0 | L42: =J42*D42 -> 0 | O42: =M42*D42 -> 0 | R42: =P42*D42 -> 0
C44: ВКУПНО | E44: =SUM(E15:E43) -> 0 | F44: =SUM(F15:F43) -> 0 | G44: =SUM(G15:G43) -> 0 | H44: =SUM(I15:I43) -> 0 | J44: =SUM(J15:J43) -> 0 | K44: =SUM(L15:L43) -> 0 | M44: =SUM(M15:M43) -> 0 | N44: =SUM(O15:O43) -> 0 | P44: =SUM(P15:P43) -> 0 | Q44: =SUM(R15:R43) -> 0
B46: ДСГ здравствени услуги по тип на нега
B47: Шифра на ДСГ група | C47: тип на нега | E47: План за 2026 година | N47: 2025 година (Реализација јануари- септември и проекција до декември) | Q47: Реализација за 2024 година
E48: I полугодие | H48: II полугодие | K48: Вкупно
E49: бр. на случаи | F49: Износ | G49: % од бр. на случаи | H49: бр. на случаи | I49: Износ | J49: % од бр. на случаи | K49: бр. на случаи | L49: Износ | M49: % од бр. на случаи | N49: бр. на случаи | O49: Износ | P49: % од бр. на случаи | Q49: бр. на случаи | R49: Износ | S49: % од бр. на случаи
B50: D01-D14 | C50: Хируршки ДСГ групи | E50: =SUM(E15:E29) -> 0 | F50: =SUM(F15:F29) -> 0 | G50: =E50/$E$44 -> #DIV/0! | H50: =SUM(G15:G29) -> 0 | I50: =SUM(I15:I29) -> 0 | J50: =H50/$G$44 -> #DIV/0! | K50: =SUM(J15:J29) -> 0 | L50: =SUM(L15:L29) -> 0 | M50: =K50/$J$44 -> #DIV/0! | N50: =SUM(M15:M29) -> 0 | O50: =SUM(O15:O29) -> 0 | P50: =N50/$M$44 -> #DIV/0! | Q50: =SUM(P15:P29) -> 0 | R50: =SUM(R15:R29) -> 0 | S50: =Q50/$P$44 -> #DIV/0!
B51: B60-B67 | C51: Медицински (интернистички) ДСГ групи | E51: =SUM(E31:E42) -> 0 | F51: =SUM(F31:F42) -> 0 | G51: =E51/$E$44 -> #DIV/0! | H51: =SUM(G31:G42) -> 0 | I51: =SUM(I31:I42) -> 0 | J51: =H51/$G$44 -> #DIV/0! | K51: =SUM(J31:J42) -> 0 | L51: =SUM(L31:L42) -> 0 | M51: =K51/$J$44 -> #DIV/0! | N51: =SUM(M31:M42) -> 0 | O51: =SUM(O31:O42) -> 0 | P51: =N51/$M$44 -> #DIV/0! | Q51: =SUM(P31:P42) -> 0 | R51: =SUM(R31:R42) -> 0 | S51: =Q51/$P$44 -> #DIV/0!
B52: D40 | C52: Останати ДСГ групи | E52: =SUM(E30) -> 0 | F52: =SUM(F30) -> 0 | G52: =E52/$E$44 -> #DIV/0! | H52: =SUM(G30) -> 0 | I52: =SUM(I30) -> 0 | J52: =H52/$G$44 -> #DIV/0! | K52: =SUM(J30) -> 0 | L52: =SUM(L30) -> 0 | M52: =K52/$J$44 -> #DIV/0! | N52: =SUM(M30) -> 0 | O52: =SUM(O30) -> 0 | P52: =N52/$M$44 -> #DIV/0! | Q52: =SUM(P30) -> 0 | R52: =SUM(R30) -> 0 | S52: =Q52/$P$44 -> #DIV/0!
B55: Во | D55: година. | H55: Д и р е к т о р
B57: Составил:

Sheet План-ДСГ-MDC-E
A1: Универзитетски клиники, клинички болници, општи болници, специјални болници | M1: ПЛ 3 - ДСГ MDC-E | Q1: Врати се на почетна страна
C3: Здравствена установа:
C5: П Л А Н
C6: на видот и обемот на ДСГ здравствени услуги и пакети за завршени здравствени услуги во болничка здравствена заштита (акутни болнички случаи кои не се искажуваат според ДС методата) на осигурените лица за
I7: година.
C9: Главна дијагностичка категорија (MDC: E01-E75, ТБЦ1-ТБЦ3) БОЛЕСТИ И ПОРЕМЕТУВАЊА НА РЕСПИРАТОРЕН СИСТЕМ
A11: Ред. Број | B11: Шифра на ДСГ услуга | C11: Назив на ДСГ услуга | D11: Референтнa ценa | E11: План за 2027 година | M11: 2026 година (Реализација јануари- септември и проекција до декември) | P11: Реализација за 2025 година
E12: I полугодие | G12: II полугодие | J12: Вкупно
E13: бр. на случаи | F13: износ по ДСГ | G13: бр. на случаи | H13: износ по ДСГ | J13: бр. на услуги | K13: износ по ДСГ | M13: Вкупен бр. на услуги | N13: Вкупен износ по ДСГ | P13: Вкупен бр. на услуги | Q13: Вкупен износ по ДСГ
A14: 1 | B14: 2 | C14: 3 | D14: 4 | E14: 5 | F14: 6 | G14: 7 | H14: 8 | J14: 9 (5+7) | K14: 10 (4*9) | M14: 11 | N14: 12 (4*11) | P14: 13 | Q14: 14 (4*13)
A15: 1 | B15: E01A | C15: Големи процедури на градниот кош со катастрофални КК | D15: 164531 | F15: =E15*D15 -> 0 | I15: =G15*D15 -> 0 | J15: =E15+G15 -> 0 | L15: =J15*D15 -> 0 | O15: =M15*D15 -> 0 | R15: =P15*D15 -> 0
A16: 2 | B16: E01B | C16: Големи процедури на градниот кош без катастрофални КК | D16: 95728 | F16: =E16*D16 -> 0 | I16: =G16*D16 -> 0 | J16: =E16+G16 -> 0 | L16: =J16*D16 -> 0 | O16: =M16*D16 -> 0 | R16: =P16*D16 -> 0
A17: 3 | B17: E02A | C17: Други процедури на респираторниот систем во операциона сала со катастрофални КК | D17: 82893 | F17: =E17*D17 -> 0 | I17: =G17*D17 -> 0 | J17: =E17+G17 -> 0 | L17: =J17*D17 -> 0 | O17: =M17*D17 -> 0 | R17: =P17*D17 -> 0
A18: 4 | B18: E02B | C18: Други процедури на респираторниот систем во операциона сала со тешки КК | D18: 51583 | F18: =E18*D18 -> 0 | I18: =G18*D18 -> 0 | J18: =E18+G18 -> 0 | L18: =J18*D18 -> 0 | O18: =M18*D18 -> 0 | R18: =P18*D18 -> 0
A19: 5 | B19: E02C | C19: Други процедури на респираторниот систем во операциона сала без катастрофални или тешки КК | D19: 34150 | F19: =E19*D19 -> 0 | I19: =G19*D19 -> 0 | J19: =E19+G19 -> 0 | L19: =J19*D19 -> 0 | O19: =M19*D19 -> 0 | R19: =P19*D19 -> 0
A20: 6 | B20: E40Z | C20: Дијагноза на респираторниот систем со помош на респираторна подршка | D20: 129627 | F20: =E20*D20 -> 0 | I20: =G20*D20 -> 0 | J20: =E20+G20 -> 0 | L20: =J20*D20 -> 0 | O20: =M20*D20 -> 0 | R20: =P20*D20 -> 0
A21: 7 | B21: E41Z | C21: Дијагноза на респираторниот систем со неинвазивна вентилација | D21: 50763 | F21: =E21*D21 -> 0 | I21: =G21*D21 -> 0 | J21: =E21+G21 -> 0 | L21: =J21*D21 -> 0 | O21: =M21*D21 -> 0 | R21: =P21*D21 -> 0
A22: 8 | B22: E60A | C22: Цистична фиброза со катастрофални или тешки КК | D22: 94547 | F22: =E22*D22 -> 0 | I22: =G22*D22 -> 0 | J22: =E22+G22 -> 0 | L22: =J22*D22 -> 0 | O22: =M22*D22 -> 0 | R22: =P22*D22 -> 0
A23: 9 | B23: E60B | C23: Цистична фиброза без катастрофални или тешки КК | D23: 58068 | F23: =E23*D23 -> 0 | I23: =G23*D23 -> 0 | J23: =E23+G23 -> 0 | L23: =J23*D23 -> 0 | O23: =M23*D23 -> 0 | R23: =P23*D23 -> 0
A24: 10 | B24: E61A | C24: Белодробна емболија со катастрофални или тешки КК | D24: 47340 | F24: =E24*D24 -> 0 | I24: =G24*D24 -> 0 | J24: =E24+G24 -> 0 | L24: =J24*D24 -> 0 | O24: =M24*D24 -> 0 | R24: =P24*D24 -> 0
A25: 11 | B25: E61B | C25: Белодробна емболија без катастрофални или тешки КК | D25: 33722 | F25: =E25*D25 -> 0 | I25: =G25*D25 -> 0 | J25: =E25+G25 -> 0 | L25: =J25*D25 -> 0 | O25: =M25*D25 -> 0 | R25: =P25*D25 -> 0
A26: 12 | B26: E62A | C26: Респираторни инфекции/воспаленија со катастрофални КК | D26: 47058 | F26: =E26*D26 -> 0 | I26: =G26*D26 -> 0 | J26: =E26+G26 -> 0 | L26: =J26*D26 -> 0 | O26: =M26*D26 -> 0 | R26: =P26*D26 -> 0
... A59: 45 | B59: ТБЦ3 | C59: Акутна туберкулоза со завршено лекување за повеќе од 62 дена | D59: 83922 | F59: =E59*D59 -> 0 | I59: =G59*D59 -> 0 | J59: =E59+G59 -> 0 | L59: =J59*D59 -> 0 | O59: =M59*D59 -> 0 | R59: =P59*D59 -> 0
C61: ВКУПНО | E61: =SUM(E15:E60) -> 0 | F61: =SUM(F15:F60) -> 0 | G61: =SUM(G15:G60) -> 0 | H61: =SUM(I15:I60) -> 0 | J61: =SUM(J15:J60) -> 0 | K61: =SUM(L15:L60) -> 0 | M61: =SUM(M15:M60) -> 0 | N61: =SUM(O15:O60) -> 0 | P61: =SUM(P15:P60) -> 0 | Q61: =SUM(R15:R60) -> 0
B63: ДСГ здравствени услуги по тип на нега
B64: Шифра на ДСГ група | C64: тип на нега | E64: План за 2026 година | N64: 2025 година (Реализација јануари- септември и проекција до декември) | Q64: Реализација за 2024 година
E65: I полугодие | H65: II полугодие | K65: Вкупно
E66: бр. на случаи | F66: Износ | G66: % од бр. на случаи | H66: бр. на случаи | I66: Износ | J66: % од бр. на случаи | K66: бр. на случаи | L66: Износ | M66: % од бр. на случаи | N66: бр. на случаи | O66: Износ | P66: % од бр. на случаи | Q66: бр. на случаи | R66: Износ | S66: % од бр. на случаи
B67: E01-E02 | C67: Хируршки ДСГ групи | E67: =SUM(E15:E19) -> 0 | F67: =SUM(F15:F19) -> 0 | G67: =E67/$E$61 -> #DIV/0! | H67: =SUM(G15:G19) -> 0 | I67: =SUM(I15:I19) -> 0 | J67: =H67/$G$61 -> #DIV/0! | K67: =SUM(J15:J19) -> 0 | L67: =SUM(L15:L19) -> 0 | M67: =K67/$J$61 -> #DIV/0! | N67: =SUM(M15:M19) -> 0 | O67: =SUM(O15:O19) -> 0 | P67: =N67/$M$61 -> #DIV/0! | Q67: =SUM(P15:P19) -> 0 | R67: =SUM(R15:R19) -> 0 | S67: =Q67/$P$61 -> #DIV/0!
B68: E60-E75, ТБЦ1-ТБЦ3 | C68: Медицински (интернистички) ДСГ групи | E68: =SUM(E22:E60) -> 0 | F68: =SUM(F22:F60) -> 0 | G68: =E68/$E$61 -> #DIV/0! | H68: =SUM(G22:G60) -> 0 | I68: =SUM(I22:I60) -> 0 | J68: =H68/$G$61 -> #DIV/0! | K68: =SUM(J22:J60) -> 0 | L68: =SUM(L22:L60) -> 0 | M68: =K68/$J$61 -> #DIV/0! | N68: =SUM(M22:M60) -> 0 | O68: =SUM(O22:O60) -> 0 | P68: =N68/$M$61 -> #DIV/0! | Q68: =SUM(P22:P60) -> 0 | R68: =SUM(R22:R60) -> 0 | S68: =Q68/$P$61 -> #DIV/0!
B69: Е40-Е41 | C69: Останати ДСГ групи | E69: =SUM(E20:E21) -> 0 | F69: =SUM(F20:F21) -> 0 | G69: =E69/$E$61 -> #DIV/0! | H69: =SUM(G20:G21) -> 0 | I69: =SUM(I20:I21) -> 0 | J69: =H69/$G$61 -> #DIV/0! | K69: =SUM(J20:J21) -> 0 | L69: =SUM(L20:L21) -> 0 | M69: =K69/$J$61 -> #DIV/0! | N69: =SUM(M20:M21) -> 0 | O69: =SUM(O20:O21) -> 0 | P69: =N69/$M$61 -> #DIV/0! | Q69: =SUM(P20:P21) -> 0 | R69: =SUM(R20:R21) -> 0 | S69: =Q69/$P$61 -> #DIV/0!
B73: Во | D73: година. | H73: Д и р е к т о р
B75: Составил:

Sheet План-ДСГ-MDC-F
A1: Универзитетски клиники, клинички болници, општи болници, специјални болници | M1: ПЛ 3 - ДСГ MDC-F | Q1: Врати се на почетна страна
C3: Здравствена установа:
C5: П Л А Н
C6: на видот и обемот на ДСГ здравствени услуги и пакети за завршени здравствени услуги во болничка здравствена заштита (акутни болнички случаи кои не се искажуваат според ДС методата) на осигурените лица за
I7: година.
C9: Главна дијагностичка категорија (MDC: F01-F75, РТС1-РТС2, БЛК1-БЛК11) БОЛЕСТИ И ПОРЕМЕТУВАЊА НА ЦИРКУЛАТОРЕН СИСТЕМ
A11: Ред. Број | B11: Шифра на ДСГ услуга | C11: Назив на ДСГ услуга | D11: Референтнa ценa | E11: План за 2027 година | M11: 2026 година (Реализација јануари- септември и проекција до декември) | P11: Реализација за 2025 година
E12: I полугодие | G12: II полугодие | J12: Вкупно
E13: бр. на случаи | F13: износ по ДСГ | G13: бр. на случаи | H13: износ по ДСГ | J13: бр. на услуги | K13: износ по ДСГ | M13: Вкупен бр. на услуги | N13: Вкупен износ по ДСГ | P13: Вкупен бр. на услуги | Q13: Вкупен износ по ДСГ
A14: 1 | B14: 2 | C14: 3 | D14: 4 | E14: 5 | F14: 6 | G14: 7 | H14: 8 | J14: 9 (5+7) | K14: 10 (4*9) | M14: 11 | N14: 12 (4*11) | P14: 13 | Q14: 14 (4*13)
A15: 1 | B15: F01A | C15: Имплантација или замена на AICD ( автоматски имплантабилен кардијален дефибрилатор ), вкупен систем со катастрофални или тешки КК | D15: 397990 | F15: =E15*D15 -> 0 | I15: =G15*D15 -> 0 | J15: =E15+G15 -> 0 | L15: =J15*D15 -> 0 | O15: =M15*D15 -> 0 | R15: =P15*D15 -> 0
A16: 2 | B16: F01B | C16: Имплантација или замена на AICD ( автоматски имплантабилен кардијален дефибрилатор ), вкупен систем без катастрофални или тешки КК | D16: 277216 | F16: =E16*D16 -> 0 | I16: =G16*D16 -> 0 | J16: =E16+G16 -> 0 | L16: =J16*D16 -> 0 | O16: =M16*D16 -> 0 | R16: =P16*D16 -> 0
A17: 3 | B17: F02Z | C17: Имплантација или замена на дел од AICD ( автоматски имплантабилен кардијален дефибрилатор ). | D17: 99878 | F17: =E17*D17 -> 0 | I17: =G17*D17 -> 0 | J17: =E17+G17 -> 0 | L17: =J17*D17 -> 0 | O17: =M17*D17 -> 0 | R17: =P17*D17 -> 0
A18: 4 | B18: F03Z | C18: Процедура на срцева валвула со пумпа за кардиопулмонално премостување ,со инвазивно испитување на срцето | D18: 538925 | F18: =E18*D18 -> 0 | I18: =G18*D18 -> 0 | J18: =E18+G18 -> 0 | L18: =J18*D18 -> 0 | O18: =M18*D18 -> 0 | R18: =P18*D18 -> 0
A19: 5 | B19: F04A | C19: Процедура на срцева валвула со пумпа за кардиопулмонално премостување без инвазивно испитување на срцето , со катастрофални КК | D19: 494015 | F19: =E19*D19 -> 0 | I19: =G19*D19 -> 0 | J19: =E19+G19 -> 0 | L19: =J19*D19 -> 0 | O19: =M19*D19 -> 0 | R19: =P19*D19 -> 0
A20: 6 | B20: F04B | C20: Процедура на срцева валвула со пумпа за кардиопулмонално премостување без инвазивно испитување на срцето , без катастрофални КК | D20: 424350 | F20: =E20*D20 -> 0 | I20: =G20*D20 -> 0 | J20: =E20+G20 -> 0 | L20: =J20*D20 -> 0 | O20: =M20*D20 -> 0 | R20: =P20*D20 -> 0
A21: 7 | B21: F05A | C21: Коронарен бајпас со инвазивно испитување на срцето со катастрофални КК | D21: 403840 | F21: =E21*D21 -> 0 | I21: =G21*D21 -> 0 | J21: =E21+G21 -> 0 | L21: =J21*D21 -> 0 | O21: =M21*D21 -> 0 | R21: =P21*D21 -> 0
A22: 8 | B22: F05B | C22: Коронарен бајпас со инвазивно испитување на срцето ,без катастрофални КК | D22: 353625 | F22: =E22*D22 -> 0 | I22: =G22*D22 -> 0 | J22: =E22+G22 -> 0 | L22: =J22*D22 -> 0 | O22: =M22*D22 -> 0 | R22: =P22*D22 -> 0
A23: 9 | B23: F06A | C23: Коронарен бајпас без инвазивно испитување на срцето со катастрофални или тешки КК | D23: 352728 | F23: =E23*D23 -> 0 | I23: =G23*D23 -> 0 | J23: =E23+G23 -> 0 | L23: =J23*D23 -> 0 | O23: =M23*D23 -> 0 | R23: =P23*D23 -> 0
A24: 10 | B24: F06B | C24: Коронарен бајпас без инвазивно испитување на срцето без катастрофални или тешки КК | D24: 332408 | F24: =E24*D24 -> 0 | I24: =G24*D24 -> 0 | J24: =E24+G24 -> 0 | L24: =J24*D24 -> 0 | O24: =M24*D24 -> 0 | R24: =P24*D24 -> 0
A25: 11 | B25: F07A | C25: Други кардиоторакални/васкуларни процедури со пумпа за кардиопулмонално премостување (CPB пумпа) со катастрофални КК | D25: 407800 | F25: =E25*D25 -> 0 | I25: =G25*D25 -> 0 | J25: =E25+G25 -> 0 | L25: =J25*D25 -> 0 | O25: =M25*D25 -> 0 | R25: =P25*D25 -> 0
A26: 12 | B26: F07B | C26: Други кардиоторакални/васкуларни процедури со пумпа за кардиопулмонално премостување (CPB пумпа) без катастрофални КК | D26: 407800 | F26: =E26*D26 -> 0 | I26: =G26*D26 -> 0 | J26: =E26+G26 -> 0 | L26: =J26*D26 -> 0 | O26: =M26*D26 -> 0 | R26: =P26*D26 -> 0
... A98: 84 | B98: БЛК11 | C98: Криоаблација на пулмонални вени при атријална фибрилација | D98: 491000 | F98: =E98*D98 -> 0 | I98: =G98*D98 -> 0 | J98: =E98+G98 -> 0 | L98: =J98*D98 -> 0 | O98: =M98*D98 -> 0 | R98: =P98*D98 -> 0
A99: 85
C100: ВКУПНО | E100: =SUM(E15:E99) -> 0 | F100: =SUM(F15:F99) -> 0 | G100: =SUM(G15:G99) -> 0 | H100: =SUM(I15:I99) -> 0 | J100: =SUM(J15:J99) -> 0 | K100: =SUM(L15:L99) -> 0 | M100: =SUM(M15:M99) -> 0 | N100: =SUM(O15:O99) -> 0 | P100: =SUM(P15:P99) -> 0 | Q100: =SUM(R15:R99) -> 0
B102: ДСГ здравствени услуги по тип на нега
A103: Шифра на ДСГ група | C103: тип на нега | E103: План за 2026 година | N103: 2025 година (Реализација јануари- септември и проекција до декември) | Q103: Реализација за 2024 година
E104: I полугодие | H104: II полугодие | K104: Вкупно
E105: бр. на случаи | F105: Износ | G105: % од бр. на случаи | H105: бр. на случаи | I105: Износ | J105: % од бр. на случаи | K105: бр. на случаи | L105: Износ | M105: % од бр. на случаи | N105: бр. на случаи | O105: Износ | P105: % од бр. на случаи | Q105: бр. на случаи | R105: Износ | S105: % од бр. на случаи
A106: F01-F23, РТС1-РТС2, БК1-БЛК11 | C106: Хируршки ДСГ групи | E106: =SUM(E15:E48)+E86+E87+E88+E89+E90+E91+E92+E93+E94+E95+E96+E97+E98 -> 0 | F106: =SUM(F15:F48)+F86+F87+F88+F89+F90+F91+F92+F93+F94+F95+F96+F97+F98 -> 0 | G106: =E106/$E$100 -> #DIV/0! | H106: =SUM(G15:G48)+G86+G87+G88+G89+G90+G91+G92+G93+G94+G95+G96+G97+G98 -> 0 | I106: =SUM(I15:I48)+I86+I87+I88+I89+I90+I91+I92+I93+I94+I95+I96+I97+I98 -> 0 | J106: =H106/$G$100 -> #DIV/0! | K106: =SUM(J15:J48)+J86+J87+J88+J89+J90+J91+J92+J93+J94+J95+J96+J97+J98 -> 0 | L106: =SUM(L15:L48)+L86+L87+L88+L89+L90+L91+L92+L93+L94+L95+L96+L97+L98 -> 0 | M106: =K106/$J$100 -> #DIV/0! | N106: =SUM(M15:M48)+M86+M87+M88+M89+M90+M91+M92+M93+M94+M95+M96+M97+M98 -> 0 | O106: =SUM(O15:O48)+O86+O87+O88+O89+O90+O91+O92+O93+O94+O95+O96+O97+O98 -> 0 | P106: =N106/$M$100 -> #DIV/0! | Q106: =SUM(P15:P48)+P86+P87+P88+P89+P90+P91+P92+P93+P94+P95+P96+P97+P98 -> 0 | R106: =SUM(R15:R48)+R86+R87+R88+R89+R90+R91+R92+R93+R94+R95+R96+R97+R98 -> 0 | S106: =Q106/$P$100 -> #DIV/0!
A107: F60-F75 | C107: Медицински (интернистички) ДСГ групи | E107: =SUM(E56:E85) -> 0 | F107: =SUM(F56:F85) -> 0 | G107: =E107/$E$100 -> #DIV/0! | H107: =SUM(G56:G85) -> 0 | I107: =SUM(I56:I85) -> 0 | J107: =H107/$G$100 -> #DIV/0! | K107: =SUM(J56:J85) -> 0 | L107: =SUM(L56:L85) -> 0 | M107: =K107/$J$100 -> #DIV/0! | N107: =SUM(M56:M85) -> 0 | O107: =SUM(O56:O85) -> 0 | P107: =N107/$M$100 -> #DIV/0! | Q107: =SUM(P56:P85) -> 0 | R107: =SUM(R56:R85) -> 0 | S107: =Q107/$P$100 -> #DIV/0!
A108: F40-F43 | C108: Останати ДСГ групи | E108: =SUM(E49:E55) -> 0 | F108: =SUM(F49:F55) -> 0 | G108: =E108/$E$100 -> #DIV/0! | H108: =SUM(G49:G55) -> 0 | I108: =SUM(I49:I55) -> 0 | J108: =H108/$G$100 -> #DIV/0! | K108: =SUM(J49:J55) -> 0 | L108: =SUM(L49:L55) -> 0 | M108: =K108/$J$100 -> #DIV/0! | N108: =SUM(M49:M55) -> 0 | O108: =SUM(O49:O55) -> 0 | P108: =N108/$M$100 -> #DIV/0! | Q108: =SUM(P49:P55) -> 0 | R108: =SUM(R49:R55) -> 0 | S108: =Q108/$P$100 -> #DIV/0!
B111: Во | D111: година. | H111: Д и р е к т о р
B113: Составил:

Sheet План-ДСГ-MDC-G
A1: Универзитетски клиники, клинички болници, општи болници, специјални болници | M1: ПЛ 3 - ДСГ MDC-G | Q1: Врати се на почетна страна
C3: Здравствена установа:
C5: П Л А Н
C6: на видот и обемот на ДСГ здравствени услуги и пакети за завршени здравствени услуги во болничка здравствена заштита (акутни болнички случаи кои не се искажуваат според ДС методата) на осигурените лица за
I7: година.
A9: Главна дијагностичка категорија (MDC: G01-G70, БЛГ1) БОЛЕСТИ И ПОРЕМЕТУВАЊА НА ДИГЕСТИВЕН СИСТЕМ
A11: Ред. Број | B11: Шифра на ДСГ услуга | C11: Назив на ДСГ услуга | D11: Референтнa ценa | E11: План за 2027 година | M11: 2026 година (Реализација јануари- септември и проекција до декември) | P11: Реализација за 2025 година
E12: I полугодие | G12: II полугодие | J12: Вкупно
E13: бр. на случаи | F13: износ по ДСГ | G13: бр. на случаи | H13: износ по ДСГ | J13: бр. на услуги | K13: износ по ДСГ | M13: Вкупен бр. на услуги | N13: Вкупен износ по ДСГ | P13: Вкупен бр. на услуги | Q13: Вкупен износ по ДСГ
A14: 1 | B14: 2 | C14: 3 | D14: 4 | E14: 5 | F14: 6 | G14: 7 | H14: 8 | J14: 9 (5+7) | K14: 10 (4*9) | M14: 11 | N14: 12 (4*11) | P14: 13 | Q14: 14 (4*13)
A15: 1 | B15: G01A | C15: Ректална ресекција со катастрофални КК | D15: 211773 | F15: =E15*D15 -> 0 | I15: =G15*D15 -> 0 | J15: =E15+G15 -> 0 | L15: =J15*D15 -> 0 | O15: =M15*D15 -> 0 | R15: =P15*D15 -> 0
A16: 2 | B16: G01B | C16: Ректална ресекција без катастрофални КК | D16: 126974 | F16: =E16*D16 -> 0 | I16: =G16*D16 -> 0 | J16: =E16+G16 -> 0 | L16: =J16*D16 -> 0 | O16: =M16*D16 -> 0 | R16: =P16*D16 -> 0
A17: 3 | B17: G02A | C17: Големи процедури на тенкото и дебелото црево со катастрофални КК | D17: 143348 | F17: =E17*D17 -> 0 | I17: =G17*D17 -> 0 | J17: =E17+G17 -> 0 | L17: =J17*D17 -> 0 | O17: =M17*D17 -> 0 | R17: =P17*D17 -> 0
A18: 4 | B18: G02B | C18: Големи процедури на тенкото и дебелото црево без катастрофални КК | D18: 118910 | F18: =E18*D18 -> 0 | I18: =G18*D18 -> 0 | J18: =E18+G18 -> 0 | L18: =J18*D18 -> 0 | O18: =M18*D18 -> 0 | R18: =P18*D18 -> 0
A19: 5 | B19: G03A | C19: Процедури на желудник, езофагус и дванаесетпалачно црево со малигнa болест | D19: 184000 | F19: =E19*D19 -> 0 | I19: =G19*D19 -> 0 | J19: =E19+G19 -> 0 | L19: =J19*D19 -> 0 | O19: =M19*D19 -> 0 | R19: =P19*D19 -> 0
A20: 6 | B20: G03B | C20: Процедури на желудник, езофагус и дванаесетпалачно црево без малигна болест со катастрофални или тешки КК | D20: 103911 | F20: =E20*D20 -> 0 | I20: =G20*D20 -> 0 | J20: =E20+G20 -> 0 | L20: =J20*D20 -> 0 | O20: =M20*D20 -> 0 | R20: =P20*D20 -> 0
A21: 7 | B21: G03C | C21: Процедури на желудник, езофагус и дванаесетпалачно црево без малигна болест без катастрофални или тешки КК | D21: 85911 | F21: =E21*D21 -> 0 | I21: =G21*D21 -> 0 | J21: =E21+G21 -> 0 | L21: =J21*D21 -> 0 | O21: =M21*D21 -> 0 | R21: =P21*D21 -> 0
A22: 8 | B22: G04A | C22: Перитонеална адхезиолиза, возраст >49 со КК | D22: 78191 | F22: =E22*D22 -> 0 | I22: =G22*D22 -> 0 | J22: =E22+G22 -> 0 | L22: =J22*D22 -> 0 | O22: =M22*D22 -> 0 | R22: =P22*D22 -> 0
A23: 9 | B23: G04B | C23: Перитонеална адхезиолиза, возраст >49 или со КК | D23: 72179 | F23: =E23*D23 -> 0 | I23: =G23*D23 -> 0 | J23: =E23+G23 -> 0 | L23: =J23*D23 -> 0 | O23: =M23*D23 -> 0 | R23: =P23*D23 -> 0
A24: 10 | B24: G04C | C24: Перитонеална адхезиолиза, возраст <50 без КК | D24: 47388 | F24: =E24*D24 -> 0 | I24: =G24*D24 -> 0 | J24: =E24+G24 -> 0 | L24: =J24*D24 -> 0 | O24: =M24*D24 -> 0 | R24: =P24*D24 -> 0
A25: 11 | B25: G05A | C25: Mали процедури на тенкото и дебелото црево со КК | D25: 77860 | F25: =E25*D25 -> 0 | I25: =G25*D25 -> 0 | J25: =E25+G25 -> 0 | L25: =J25*D25 -> 0 | O25: =M25*D25 -> 0 | R25: =P25*D25 -> 0
A26: 12 | B26: G05B | C26: Mали процедури на тенкото и дебелото црево без КК | D26: 56848 | F26: =E26*D26 -> 0 | I26: =G26*D26 -> 0 | J26: =E26+G26 -> 0 | L26: =J26*D26 -> 0 | O26: =M26*D26 -> 0 | R26: =P26*D26 -> 0
... A67: 53 | B67: БЛГ 1 | C67: Радиофреквентна биполарна аблација на езофагус | D67: 153870 | F67: =E67*D67 -> 0 | I67: =G67*D67 -> 0 | J67: =E67+G67 -> 0 | L67: =J67*D67 -> 0 | O67: =M67*D67 -> 0 | R67: =P67*D67 -> 0
C69: ВКУПНО | E69: =SUM(E15:E68) -> 0 | F69: =SUM(F15:F68) -> 0 | G69: =SUM(G15:G68) -> 0 | H69: =SUM(I15:I68) -> 0 | J69: =SUM(J15:J68) -> 0 | K69: =SUM(L15:L68) -> 0 | M69: =SUM(M15:M68) -> 0 | N69: =SUM(O15:O68) -> 0 | P69: =SUM(P15:P68) -> 0 | Q69: =SUM(R15:R68) -> 0
B71: ДСГ здравствени услуги по тип на нега
B72: Шифра на ДСГ група | C72: тип на нега | E72: План за 2026 година | N72: 2025 година (Реализација јануари- септември и проекција до декември) | Q72: Реализација за 2024 година
E73: I полугодие | H73: II полугодие | K73: Вкупно
E74: бр. на случаи | F74: Износ | G74: % од бр. на случаи | H74: бр. на случаи | I74: Износ | J74: % од бр. на случаи | K74: бр. на случаи | L74: Износ | M74: % од бр. на случаи | N74: бр. на случаи | O74: Износ | P74: % од бр. на случаи | Q74: бр. на случаи | R74: Износ | S74: % од бр. на случаи
B75: G01-G12 | C75: Хируршки ДСГ групи | E75: =SUM(E15:E37) -> 0 | F75: =SUM(F15:F37) -> 0 | G75: =E75/$E$69 -> #DIV/0! | H75: =SUM(G15:G37) -> 0 | I75: =SUM(I15:I37) -> 0 | J75: =H75/$G$69 -> #DIV/0! | K75: =SUM(J15:J37) -> 0 | L75: =SUM(L15:L37) -> 0 | M75: =K75/$J$69 -> #DIV/0! | N75: =SUM(M15:M37) -> 0 | O75: =SUM(O15:O37) -> 0 | P75: =N75/$M$69 -> #DIV/0! | Q75: =SUM(P15:P37) -> 0 | R75: =SUM(R15:R37) -> 0 | S75: =Q75/$P$69 -> #DIV/0!
B76: G60-G70, БЛГ1 | C76: Медицински (интернистички) ДСГ групи | E76: =SUM(E49:E67) -> 0 | F76: =SUM(F49:F67) -> 0 | G76: =E76/$E$69 -> #DIV/0! | H76: =SUM(G49:G67) -> 0 | I76: =SUM(I49:I67) -> 0 | J76: =H76/$G$69 -> #DIV/0! | K76: =SUM(J49:J67) -> 0 | L76: =SUM(L49:L67) -> 0 | M76: =K76/$J$69 -> #DIV/0! | N76: =SUM(M49:M67) -> 0 | O76: =SUM(O49:O67) -> 0 | P76: =N76/$M$69 -> #DIV/0! | Q76: =SUM(P49:P67) -> 0 | R76: =SUM(R49:R67) -> 0 | S76: =Q76/$P$69 -> #DIV/0!
B77: G42-G46 | C77: Останати ДСГ групи | E77: =SUM(E38:E48) -> 0 | F77: =SUM(F38:F48) -> 0 | G77: =E77/$E$69 -> #DIV/0! | H77: =SUM(G38:G48) -> 0 | I77: =SUM(I38:I48) -> 0 | J77: =H77/$G$69 -> #DIV/0! | K77: =SUM(J38:J48) -> 0 | L77: =SUM(L38:L48) -> 0 | M77: =K77/$J$69 -> #DIV/0! | N77: =SUM(M38:M48) -> 0 | O77: =SUM(O38:O48) -> 0 | P77: =N77/$M$69 -> #DIV/0! | Q77: =SUM(P38:P48) -> 0 | R77: =SUM(R38:R48) -> 0 | S77: =Q77/$P$69 -> #DIV/0!
B81: Во | D81: година. | H81: Д и р е к т о р
B83: Составил:

Sheet План-ДСГ-MDC-H
A1: Универзитетски клиники, клинички болници, општи болници, специјални болници | M1: ПЛ 3 - ДСГ MDC-H | Q1: Врати се на почетна страна
C3: Здравствена установа:
C5: П Л А Н
C6: на видот и обемот на ДСГ здравствени услуги и пакети за завршени здравствени услуги во болничка здравствена заштита (акутни болнички случаи кои не се искажуваат според ДС методата) на осигурените лица за
I7: година.
C9: Главна дијагностичка категорија (MDC: H01-H64) БОЛЕСТИ И ПОРЕМЕТУВАЊЕ НА ХЕПАТОБИЛИЈАРЕН СИСТЕМ И ПАНКРЕАС
A11: Ред. Број | B11: Шифра на ДСГ услуга | C11: Назив на ДСГ услуга | D11: Референтнa ценa | E11: План за 2027 година | M11: 2026 година (Реализација јануари- септември и проекција до декември) | P11: Реализација за 2025 година
E12: I полугодие | G12: II полугодие | J12: Вкупно
E13: бр. на случаи | F13: износ по ДСГ | G13: бр. на случаи | H13: износ по ДСГ | J13: бр. на услуги | K13: износ по ДСГ | M13: Вкупен бр. на услуги | N13: Вкупен износ по ДСГ | P13: Вкупен бр. на услуги | Q13: Вкупен износ по ДСГ
A14: 1 | B14: 2 | C14: 3 | D14: 4 | E14: 5 | F14: 6 | G14: 7 | H14: 8 | J14: 9 (5+7) | K14: 10 (4*9) | M14: 11 | N14: 12 (4*11) | P14: 13 | Q14: 14 (4*13)
A15: 1 | B15: H01A | C15: Процедури на панкреас, црн дроб и шант со катастрофални КК | D15: 185512 | F15: =E15*D15 -> 0 | I15: =G15*D15 -> 0 | J15: =E15+G15 -> 0 | L15: =J15*D15 -> 0 | O15: =M15*D15 -> 0 | R15: =P15*D15 -> 0
A16: 2 | B16: H01B | C16: Процедури на панкреас, црн дроб и шант без катастрофални КК | D16: 169500 | F16: =E16*D16 -> 0 | I16: =G16*D16 -> 0 | J16: =E16+G16 -> 0 | L16: =J16*D16 -> 0 | O16: =M16*D16 -> 0 | R16: =P16*D16 -> 0
A17: 3 | B17: H02A | C17: Големи процедури на билијарниот тракт со малигни болести или катастрофални КК | D17: 120786 | F17: =E17*D17 -> 0 | I17: =G17*D17 -> 0 | J17: =E17+G17 -> 0 | L17: =J17*D17 -> 0 | O17: =M17*D17 -> 0 | R17: =P17*D17 -> 0
A18: 4 | B18: H02B | C18: Големи процедури на билијарниот тракт без малигни болести со тешки или умерени КК | D18: 104617 | F18: =E18*D18 -> 0 | I18: =G18*D18 -> 0 | J18: =E18+G18 -> 0 | L18: =J18*D18 -> 0 | O18: =M18*D18 -> 0 | R18: =P18*D18 -> 0
A19: 5 | B19: H02C | C19: Големи процедури на билијарниот тракт без малигни болести без КК | D19: 73439 | F19: =E19*D19 -> 0 | I19: =G19*D19 -> 0 | J19: =E19+G19 -> 0 | L19: =J19*D19 -> 0 | O19: =M19*D19 -> 0 | R19: =P19*D19 -> 0
A20: 6 | B20: H05A | C20: Хепатобилијарни дијагностички процедури со катастрофални или тешки КК | D20: 82281 | F20: =E20*D20 -> 0 | I20: =G20*D20 -> 0 | J20: =E20+G20 -> 0 | L20: =J20*D20 -> 0 | O20: =M20*D20 -> 0 | R20: =P20*D20 -> 0
A21: 7 | B21: H05B | C21: Хепатобилијарни дијагностички процедури без катастрофални или тешки КК | D21: 53996 | F21: =E21*D21 -> 0 | I21: =G21*D21 -> 0 | J21: =E21+G21 -> 0 | L21: =J21*D21 -> 0 | O21: =M21*D21 -> 0 | R21: =P21*D21 -> 0
A22: 8 | B22: H06Z | C22: Други хепатобилијарни процедури или процедури на панкреас во операциона сала | D22: 84468 | F22: =E22*D22 -> 0 | I22: =G22*D22 -> 0 | J22: =E22+G22 -> 0 | L22: =J22*D22 -> 0 | O22: =M22*D22 -> 0 | R22: =P22*D22 -> 0
A23: 9 | B23: H07A | C23: Отворена холецистектомија со затворенa експлорација на ductus choledocus или со катастрофални КК | D23: 97791 | F23: =E23*D23 -> 0 | I23: =G23*D23 -> 0 | J23: =E23+G23 -> 0 | L23: =J23*D23 -> 0 | O23: =M23*D23 -> 0 | R23: =P23*D23 -> 0
A24: 10 | B24: H07B | C24: Отворена холецистектомија со затворенa експлорација на ductus choledocus без катастрофални КК | D24: 36567 | F24: =E24*D24 -> 0 | I24: =G24*D24 -> 0 | J24: =E24+G24 -> 0 | L24: =J24*D24 -> 0 | O24: =M24*D24 -> 0 | R24: =P24*D24 -> 0
A25: 11 | B25: H08A | C25: Лапароскопска холецистектомија со затворенa експлорација на ductus choledocus или со (катастрофални или тешки КК) | D25: 55904 | F25: =E25*D25 -> 0 | I25: =G25*D25 -> 0 | J25: =E25+G25 -> 0 | L25: =J25*D25 -> 0 | O25: =M25*D25 -> 0 | R25: =P25*D25 -> 0
A26: 12 | B26: H08B | C26: Лапароскопска холецистектомија без затворенa експлорација на ductus choledocus без катастрофални или тешки КК | D26: 44986 | F26: =E26*D26 -> 0 | I26: =G26*D26 -> 0 | J26: =E26+G26 -> 0 | L26: =J26*D26 -> 0 | O26: =M26*D26 -> 0 | R26: =P26*D26 -> 0
... A43: 29 | B43: H64B | C43: Пореметувања на билијарниот тракт без КК | D43: 15917 | F43: =E43*D43 -> 0 | I43: =G43*D43 -> 0 | J43: =E43+G43 -> 0 | L43: =J43*D43 -> 0 | O43: =M43*D43 -> 0 | R43: =P43*D43 -> 0
C45: ВКУПНО | E45: =SUM(E15:E44) -> 0 | F45: =SUM(F15:F44) -> 0 | G45: =SUM(G15:G44) -> 0 | H45: =SUM(I15:I44) -> 0 | J45: =SUM(J15:J44) -> 0 | K45: =SUM(L15:L44) -> 0 | M45: =SUM(M15:M44) -> 0 | N45: =SUM(O15:O44) -> 0 | P45: =SUM(P15:P44) -> 0 | Q45: =SUM(R15:R44) -> 0
B47: ДСГ здравствени услуги по тип на нега
B48: Шифра на ДСГ група | C48: тип на нега | E48: План за 2026 година | N48: 2025 година (Реализација јануари- септември и проекција до декември) | Q48: Реализација за 2024 година
E49: I полугодие | H49: II полугодие | K49: Вкупно
E50: бр. на случаи | F50: Износ | G50: % од бр. на случаи | H50: бр. на случаи | I50: Износ | J50: % од бр. на случаи | K50: бр. на случаи | L50: Износ | M50: % од бр. на случаи | N50: бр. на случаи | O50: Износ | P50: % од бр. на случаи | Q50: бр. на случаи | R50: Износ | S50: % од бр. на случаи
B51: B01-B07 | C51: Хируршки ДСГ групи | E51: =SUM(E15:E26) -> 0 | F51: =SUM(F15:F26) -> 0 | G51: =E51/$E$45 -> #DIV/0! | H51: =SUM(G15:G26) -> 0 | I51: =SUM(I15:I26) -> 0 | J51: =H51/$G$45 -> #DIV/0! | K51: =SUM(J15:J26) -> 0 | L51: =SUM(L15:L26) -> 0 | M51: =K51/$J$45 -> #DIV/0! | N51: =SUM(M15:M26) -> 0 | O51: =SUM(O15:O26) -> 0 | P51: =N51/$M$45 -> #DIV/0! | Q51: =SUM(P15:P26) -> 0 | R51: =SUM(R15:R26) -> 0 | S51: =Q51/$P$45 -> #DIV/0!
B52: B60-B81 | C52: Медицински (интернистички) ДСГ групи | E52: =SUM(E33:E44) -> 0 | F52: =SUM(F33:F44) -> 0 | G52: =E52/$E$45 -> #DIV/0! | H52: =SUM(G33:G44) -> 0 | I52: =SUM(I33:I44) -> 0 | J52: =H52/$G$45 -> #DIV/0! | K52: =SUM(J33:J44) -> 0 | L52: =SUM(L33:L44) -> 0 | M52: =K52/$J$45 -> #DIV/0! | N52: =SUM(M33:M44) -> 0 | O52: =SUM(O33:O44) -> 0 | P52: =N52/$M$45 -> #DIV/0! | Q52: =SUM(P33:P44) -> 0 | R52: =SUM(R33:R44) -> 0 | S52: =Q52/$P$45 -> #DIV/0!
B53: B40-B41 | C53: Останати ДСГ групи | E53: =SUM(E27:E32) -> 0 | F53: =SUM(F27:F32) -> 0 | G53: =E53/$E$45 -> #DIV/0! | H53: =SUM(G27:G32) -> 0 | I53: =SUM(I27:I32) -> 0 | J53: =H53/$G$45 -> #DIV/0! | K53: =SUM(J27:J32) -> 0 | L53: =SUM(L27:L32) -> 0 | M53: =K53/$J$45 -> #DIV/0! | N53: =SUM(M27:M32) -> 0 | O53: =SUM(O27:O32) -> 0 | P53: =N53/$M$45 -> #DIV/0! | Q53: =SUM(P27:P32) -> 0 | R53: =SUM(R27:R32) -> 0 | S53: =Q53/$P$45 -> #DIV/0!
B57: Во | D57: година. | H57: Д и р е к т о р
B59: Составил:

Sheet План-ДСГ-MDC-I
A1: Универзитетски клиники, клинички болници, општи болници, специјални болници | M1: ПЛ 3 - ДСГ MDC-I | Q1: Врати се на почетна страна
C3: Здравствена установа:
C5: П Л А Н
C6: на видот и обемот на ДСГ здравствени услуги и пакети за завршени здравствени услуги во болничка здравствена заштита (акутни болнички случаи кои не се искажуваат според ДС методата) на осигурените лица за
I7: година.
C9: Главна дијагностичка категорија (MDC: I01-I79, БЛО1-БЛО2) БОЛЕСТИ И ПОРЕМЕТУВАЊА НА МУСКУЛНО-КОСКЕН И СВРЗЕН СИСТЕМ
A11: Ред. Број | B11: Шифра на ДСГ услуга | C11: Назив на ДСГ услуга | D11: Референтнa ценa | E11: План за 2027 година | M11: 2026 година (Реализација јануари- септември и проекција до декември) | P11: Реализација за 2025 година
E12: I полугодие | G12: II полугодие | J12: Вкупно
E13: бр. на случаи | F13: износ по ДСГ | G13: бр. на случаи | H13: износ по ДСГ | J13: бр. на услуги | K13: износ по ДСГ | M13: Вкупен бр. на услуги | N13: Вкупен износ по ДСГ | P13: Вкупен бр. на услуги | Q13: Вкупен износ по ДСГ
A14: 1 | B14: 2 | C14: 3 | D14: 4 | E14: 5 | F14: 6 | G14: 7 | H14: 8 | J14: 9 (5+7) | K14: 10 (4*9) | M14: 11 | N14: 12 (4*11) | P14: 13 | Q14: 14 (4*13)
A15: 1 | B15: I01Z | C15: Билатерални или повеќекратни процедури на големите зглобови на долните екстремитети | D15: 175254 | F15: =E15*D15 -> 0 | I15: =G15*D15 -> 0 | J15: =E15+G15 -> 0 | L15: =J15*D15 -> 0 | O15: =M15*D15 -> 0 | R15: =P15*D15 -> 0
A16: 2 | B16: I02A | C16: Микроваскуларен трансфер на ткиво (кожен графт со катастрофални или тешки КК), освен на рака | D16: 110720 | F16: =E16*D16 -> 0 | I16: =G16*D16 -> 0 | J16: =E16+G16 -> 0 | L16: =J16*D16 -> 0 | O16: =M16*D16 -> 0 | R16: =P16*D16 -> 0
A17: 3 | B17: I02B | C17: Кожен графт без катастрофални или тешки КК, освен на рака | D17: 56624 | F17: =E17*D17 -> 0 | I17: =G17*D17 -> 0 | J17: =E17+G17 -> 0 | L17: =J17*D17 -> 0 | O17: =M17*D17 -> 0 | R17: =P17*D17 -> 0
A18: 4 | B18: I03A | C18: Ревизија на колк со катастрофални или тешки КК | D18: 303890 | F18: =E18*D18 -> 0 | I18: =G18*D18 -> 0 | J18: =E18+G18 -> 0 | L18: =J18*D18 -> 0 | O18: =M18*D18 -> 0 | R18: =P18*D18 -> 0
A19: 5 | B19: I03B | C19: Замена на колк со катастрофални или тешки КК или ревизија на колк без катастофални или тешки КК | D19: 235820 | F19: =E19*D19 -> 0 | I19: =G19*D19 -> 0 | J19: =E19+G19 -> 0 | L19: =J19*D19 -> 0 | O19: =M19*D19 -> 0 | R19: =P19*D19 -> 0
A20: 6 | B20: I03C | C20: Замена на колк без катастрофални или тешки КК | D20: 189840 | F20: =E20*D20 -> 0 | I20: =G20*D20 -> 0 | J20: =E20+G20 -> 0 | L20: =J20*D20 -> 0 | O20: =M20*D20 -> 0 | R20: =P20*D20 -> 0
A21: 7 | B21: I04Z | C21: Замена на колено и повторно спојување | D21: 123846 | F21: =E21*D21 -> 0 | I21: =G21*D21 -> 0 | J21: =E21+G21 -> 0 | L21: =J21*D21 -> 0 | O21: =M21*D21 -> 0 | R21: =P21*D21 -> 0
A22: 8 | B22: I05Z | C22: Други репласмани на големите зглобови и процедури за повторно спојување на ектремитети | D22: 98222 | F22: =E22*D22 -> 0 | I22: =G22*D22 -> 0 | J22: =E22+G22 -> 0 | L22: =J22*D22 -> 0 | O22: =M22*D22 -> 0 | R22: =P22*D22 -> 0
A23: 9 | B23: I06Z | C23: ’Рбетна фузија со деформитет | D23: 735000 | F23: =E23*D23 -> 0 | I23: =G23*D23 -> 0 | J23: =E23+G23 -> 0 | L23: =J23*D23 -> 0 | O23: =M23*D23 -> 0 | R23: =P23*D23 -> 0
A24: 10 | B24: I07Z | C24: Ампутација | D24: 106298 | F24: =E24*D24 -> 0 | I24: =G24*D24 -> 0 | J24: =E24+G24 -> 0 | L24: =J24*D24 -> 0 | O24: =M24*D24 -> 0 | R24: =P24*D24 -> 0
A25: 11 | B25: I08A | C25: Други процедури на колк и фемур со катастрофални или тешки КК | D25: 168420 | F25: =E25*D25 -> 0 | I25: =G25*D25 -> 0 | J25: =E25+G25 -> 0 | L25: =J25*D25 -> 0 | O25: =M25*D25 -> 0 | R25: =P25*D25 -> 0
A26: 12 | B26: I08B | C26: Други процедури на колк и фемур без катастрофални или тешки КК | D26: 122480 | F26: =E26*D26 -> 0 | I26: =G26*D26 -> 0 | J26: =E26+G26 -> 0 | L26: =J26*D26 -> 0 | O26: =M26*D26 -> 0 | R26: =P26*D26 -> 0
... A95: 81 | B95: БЛО2 | C95: Рбетна фузија на три и повеќе нивоа | D95: 210000 | F95: =E95*D95 -> 0 | I95: =G95*D95 -> 0 | J95: =E95+G95 -> 0 | L95: =J95*D95 -> 0 | O95: =M95*D95 -> 0 | R95: =P95*D95 -> 0
A96: 82
C97: ВКУПНО | E97: =SUM(E15:E96) -> 0 | F97: =SUM(F15:F96) -> 0 | G97: =SUM(G15:G96) -> 0 | H97: =SUM(I15:I96) -> 0 | J97: =SUM(J15:J96) -> 0 | K97: =SUM(L15:L96) -> 0 | M97: =SUM(M15:M96) -> 0 | N97: =SUM(O15:O96) -> 0 | P97: =SUM(P15:P96) -> 0 | Q97: =SUM(R15:R96) -> 0
B99: ДСГ здравствени услуги по тип на нега
A100: Шифра на ДСГ група | C100: тип на нега | E100: План за 2026 година | N100: 2025 година (Реализација јануари- септември и проекција до декември) | Q100: Реализација за 2024 година
E101: I полугодие | H101: II полугодие | K101: Вкупно
E102: бр. на случаи | F102: Износ | G102: % од бр. на случаи | H102: бр. на случаи | I102: Износ | J102: % од бр. на случаи | K102: бр. на случаи | L102: Износ | M102: % од бр. на случаи | N102: бр. на случаи | O102: Износ | P102: % од бр. на случаи | Q102: бр. на случаи | R102: Износ | S102: % од бр. на случаи
A103: I01-I30, БЛО1-БЛO2 | C103: Хируршки ДСГ групи | E103: =SUM(E15:E54)+E94+E95 -> 0 | F103: =SUM(F15:F54)+F94+F95 -> 0 | G103: =E103/$E$97 -> #DIV/0! | H103: =SUM(G15:G54)+G94+G95 -> 0 | I103: =SUM(I15:I54)+I94+I95 -> 0 | J103: =H103/$G$97 -> #DIV/0! | K103: =SUM(J15:J54)+J94+J95 -> 0 | L103: =SUM(L15:L54)+L94+L95 -> 0 | M103: =K103/$J$97 -> #DIV/0! | N103: =SUM(M15:M54)+M94+M95 -> 0 | O103: =SUM(O15:O54)+O94+O95 -> 0 | P103: =N103/$M$97 -> #DIV/0! | Q103: =SUM(P15:P54)+P94+P95 -> 0 | R103: =SUM(R15:R54)+R94+R95 -> 0 | S103: =Q103/$P$97 -> #DIV/0!
A104: I60-I78 | C104: Медицински (интернистички) ДСГ групи | E104: =SUM(E55:E93) -> 0 | F104: =SUM(F55:F93) -> 0 | G104: =E104/$E$97 -> #DIV/0! | H104: =SUM(G55:G93) -> 0 | I104: =SUM(I55:I93) -> 0 | J104: =H104/$G$97 -> #DIV/0! | K104: =SUM(J55:J93) -> 0 | L104: =SUM(L55:L93) -> 0 | M104: =K104/$J$97 -> #DIV/0! | N104: =SUM(M55:M93) -> 0 | O104: =SUM(O55:O93) -> 0 | P104: =N104/$M$97 -> #DIV/0! | Q104: =SUM(P55:P93) -> 0 | R104: =SUM(R55:R93) -> 0 | S104: =Q104/$P$97 -> #DIV/0!
A105: нема | C105: Останати ДСГ групи | E105: 0 | F105: 0 | G105: =E105/$E$97 -> #DIV/0! | H105: 0 | I105: 0 | J105: =H105/$G$97 -> #DIV/0! | K105: 0 | L105: 0 | M105: =K105/$J$97 -> #DIV/0! | N105: 0 | O105: 0 | P105: =N105/$M$97 -> #DIV/0! | Q105: 0 | R105: 0 | S105: =Q105/$P$97 -> #DIV/0!
B110: Во | D110: година. | H110: Д и р е к т о р
B112: Составил:

Sheet План-ДСГ-MDC-J
A1: Универзитетски клиники, клинички болници, општи болници, специјални болници | M1: ПЛ 3 - ДСГ MDC-J | Q1: Врати се на почетна страна
C3: Здравствена установа:
C5: П Л А Н
C6: на видот и обемот на ДСГ здравствени услуги и пакети за завршени здравствени услуги во болничка здравствена заштита (акутни болнички случаи кои не се искажуваат според ДС методата) на осигурените лица за
I7: година.
