Workbook

Sheet ПЛ 2-Б
B1: ЈЗУ и ПЗУ | K1: ПЛ 2 - Б (останати)
A3: Здравствена установа
B5: П Л А Н
B6: на вид и обем на здравствени услуги во ДНЕВНА БОЛНИЦА И БОЛНИЧКИ ДЕН на осигурени лица за | I6: година.
C7: за ДЕЈНОСТА
E9: 2025 година | F9: 2026 година | I9: 2027 година
A10: Р.бр. | B10: Шифра на пакет | C10: Специјалистички пакети / специјалистички услуги согласно ценовникот | D10: референтна цена | E10: годишно | F10: I полугодие | G10: II полугодие | H10: вкупен износ | I10: Број на случаи / пациенти | L10: Вкупен износ
E11: реализиран вкупен износ | F11: реализиран вкупен износ | G11: проекција вкупен износ | I11: I полугодие | J11: II полугодие | K11: Вкупно
A12: 1 | B12: 2 | C12: 3 | D12: 4 | E12: 5 | F12: 6 | G12: 7 | H12: 8 (6+7) | I12: 9 | J12: 10 | K12: 11 (9+10 ) | L12: 12 (4*11)
A13: 1 | B13: ДБ01 | C13: =IF(M13>2, VLOOKUP(B13,ref_ceni!$B$6:$D$100,2,FALSE),"") -> Дневна болница (сместување, оброк и труд на персоналот) за апликација на хемотерапија и/или биолошка терапија под и над 4 часа | D13: =IF(M13>0,VLOOKUP(B13,ref_ceni!$B$6:$D$100,3,FALSE),"") -> 460 | H13: =F13+G13 -> 0 | K13: =I13+J13 -> 0 | L13: =IF(M13>= 2,K13*D13,0) -> 0 | M13: =LEN(B13) -> 4
A14: 2 | B14: ДБ02 | C14: =IF(M14>2, VLOOKUP(B14,ref_ceni!$B$6:$D$100,2,FALSE),"") -> Дневна болница (сместување и оброк) за апликација на медикаментозна терапија над 4 часа | D14: =IF(M14>0,VLOOKUP(B14,ref_ceni!$B$6:$D$100,3,FALSE),"") -> 200 | H14: =F14+G14 -> 0 | K14: =I14+J14 -> 0 | L14: =IF(M14>= 2,K14*D14,0) -> 0 | M14: =LEN(B14) -> 4
A15: 3 | B15: ДБ03 | C15: =IF(M15>2, VLOOKUP(B15,ref_ceni!$B$6:$D$100,2,FALSE),"") -> Дневна болница (сместување, оброк и труд на персоналот) за психијатрија со вклучени здравствени услуги и медикаментозна терапија над 4 часа | D15: =IF(M15>0,VLOOKUP(B15,ref_ceni!$B$6:$D$100,3,FALSE),"") -> 1100 | H15: =F15+G15 -> 0 | K15: =I15+J15 -> 0 | L15: =IF(M15>= 2,K15*D15,0) -> 0 | M15: =LEN(B15) -> 4
A16: 4 | B16: ДБ04 | C16: =IF(M16>2, VLOOKUP(B16,ref_ceni!$B$6:$D$100,2,FALSE),"") -> Дневна болница за апликација на медикаментозна терапија под 4 часа | D16: =IF(M16>0,VLOOKUP(B16,ref_ceni!$B$6:$D$100,3,FALSE),"") -> 130 | H16: =F16+G16 -> 0 | K16: =I16+J16 -> 0 | L16: =IF(M16>= 2,K16*D16,0) -> 0 | M16: =LEN(B16) -> 4
A17: 5 | B17: ДБ05 | C17: =IF(M17>2, VLOOKUP(B17,ref_ceni!$B$6:$D$100,2,FALSE),"") -> Дневна болница за административно прикажување на извршена здравствена услуга | D17: =IF(M17>0,VLOOKUP(B17,ref_ceni!$B$6:$D$100,3,FALSE),"") -> 10 | H17: =F17+G17 -> 0 | K17: =I17+J17 -> 0 | L17: =IF(M17>= 2,K17*D17,0) -> 0 | M17: =LEN(B17) -> 4
A18: 6 | B18: ДС01 | C18: =IF(M18>2, VLOOKUP(B18,ref_ceni!$B$6:$D$100,2,FALSE),"") -> Болнички ден во стационар (сместување, оброци и труд на персоналот) со вклучени здравствени услуги и медикаментозна терапија во психијатрија за болните | D18: =IF(M18>0,VLOOKUP(B18,ref_ceni!$B$6:$D$100,3,FALSE),"") -> 1400 | H18: =F18+G18 -> 0 | K18: =I18+J18 -> 0 | L18: =IF(M18>= 2,K18*D18,0) -> 0 | M18: =LEN(B18) -> 4
A19: 7 | B19: ДС021 | C19: =IF(M19>2, VLOOKUP(B19,ref_ceni!$B$6:$D$100,2,FALSE),"") -> Болнички ден во стационар (сместување, оброци и труд на персоналот) со вклучени здравствени услуги и медикаментозна терапија за хронично болни | D19: 1930 | H19: =F19+G19 -> 0 | K19: =I19+J19 -> 0 | L19: =IF(M19>= 2,K19*D19,0) -> 0 | M19: =LEN(B19) -> 5
A20: 8 | B20: ДС022 | C20: =IF(M20>2, VLOOKUP(B20,ref_ceni!$B$6:$D$100,2,FALSE),"") -> Болнички ден во стационар (сместување, оброци и труд на персоналот) со вклучени здравствени услуги и медикаментозна терапија за продолжено болничко лекување во заводи и специјални болници за пациенти по решение на ФЗО | D20: 1930 | H20: =F20+G20 -> 0 | K20: =I20+J20 -> 0 | L20: =IF(M20>= 2,K20*D20,0) -> 0 | M20: =LEN(B20) -> 5
A21: 9 | B21: ДС03 | C21: =IF(M21>2, VLOOKUP(B21,ref_ceni!$B$6:$D$100,2,FALSE),"") -> Болнички ден во стационар (сместување и оброци) за придружник на болно дете на возраст до 3 години | D21: =IF(M21>0,VLOOKUP(B21,ref_ceni!$B$6:$D$100,3,FALSE),"") -> 350 | H21: =F21+G21 -> 0 | K21: =I21+J21 -> 0 | L21: =IF(M21>= 2,K21*D21,0) -> 0 | M21: =LEN(B21) -> 4
A22: 10 | B22: ДС04 | C22: =IF(M22>2, VLOOKUP(B22,ref_ceni!$B$6:$D$100,2,FALSE),"") -> Болнички ден во стационар со вклучени здравствени услуги и медикаментозна терапија за болни во герентологија | D22: 1160 | H22: =F22+G22 -> 0 | K22: =I22+J22 -> 0 | L22: =IF(M22>= 2,K22*D22,0) -> 0 | M22: =LEN(B22) -> 4
A23: 11 | B23: ДС05 | C23: =IF(M23>2, VLOOKUP(B23,ref_ceni!$B$6:$D$100,2,FALSE),"") -> Болнички ден во стационар на терциерно ниво (физикална и медицинска рехабилитација, сместување, оброци, труд на персонал и лекови како продолжено болничко лекување) | D23: =IF(M23>0,VLOOKUP(B23,ref_ceni!$B$6:$D$100,3,FALSE),"") -> 2270 | H23: =F23+G23 -> 0 | K23: =I23+J23 -> 0 | L23: =IF(M23>= 2,K23*D23,0) -> 0 | M23: =LEN(B23) -> 4
A24: 12 | B24: ДС06 | C24: =IF(M24>2, VLOOKUP(B24,ref_ceni!$B$6:$D$100,2,FALSE),"") -> Роботски третман за болнички пациенти на терциерно ниво | D24: =IF(M24>0,VLOOKUP(B24,ref_ceni!$B$6:$D$100,3,FALSE),"") -> 1210 | H24: =F24+G24 -> 0 | K24: =I24+J24 -> 0 | L24: =IF(M24>= 2,K24*D24,0) -> 0 | M24: =LEN(B24) -> 4
C25: Вкупно | E25: =SUM(E13:E24) -> 0 | F25: =SUM(F13:F24) -> 0 | G25: =SUM(G13:G24) -> 0 | H25: =SUM(H13:H24) -> 0 | I25: =SUM(I13:I24) -> 0 | J25: =SUM(J13:J24) -> 0 | K25: =SUM(K13:K24) -> 0 | L25: =SUM(L13:L24) -> 0
B29: Во | D29: година. | H29: Д и р е к т о р
B31: Составил:

Sheet ref_ceni
A2: Референтни цени за дневна болница и болнички ден во болничка здравствена заштита
A5: Р.бр. | B5: Шифра | C5: НАЗИВ НА ПАКЕТИ НА ЗДРАВСТВЕНАТА УСЛУГАТА | D5: РЕФЕРЕНТНА ЦЕНА | E5: СЛУЖБЕН ВЕСНИК | F5: забелешка
A6: 1 | B6: ДБ01 | C6: Дневна болница (сместување, оброк и труд на персоналот) за апликација на хемотерапија и/или биолошка терапија под и над 4 часа | D6: 460 | E6: бр.181 од 27.12.2011 | F6: во примена од 01.04.2012
A7: 2 | B7: ДБ02 | C7: Дневна болница (сместување и оброк) за апликација на медикаментозна терапија над 4 часа | D7: 200 | E7: бр.181 од 27.12.2011
A8: 3 | B8: ДБ03 | C8: Дневна болница (сместување, оброк и труд на персоналот) за психијатрија со вклучени здравствени услуги и медикаментозна терапија над 4 часа | D8: 1100 | E8: бр. 146 од 11.7.2023 | F8: во примена од 19.07.2023
A9: 4 | B9: ДБ04 | C9: Дневна болница за апликација на медикаментозна терапија под 4 часа | D9: 130 | E9: бр.63 од 23.05.2012 | F9: во примена од 31.05.2012
A10: 5 | B10: ДБ05 | C10: Дневна болница за административно прикажување на извршена здравствена услуга | D10: 10 | E10: бр. 64 од 22.03.2023 | F10: во примена од 23.03.2023
A11: 1 | B11: ДС01 | C11: Болнички ден во стационар (сместување, оброци и труд на персоналот) со вклучени здравствени услуги и медикаментозна терапија во психијатрија за болните | D11: 1400 | E11: бр. 146 од 11.7.2023 | F11: во примена од 19.07.2023
A12: 2 | B12: ДС021 | C12: Болнички ден во стационар (сместување, оброци и труд на персоналот) со вклучени здравствени услуги и медикаментозна терапија за хронично болни | D12: 1930 | E12: бр.131 од 17.06.2026 | F12: во примена од 25.06.2026
A13: 3 | B13: ДС022 | C13: Болнички ден во стационар (сместување, оброци и труд на персоналот) со вклучени здравствени услуги и медикаментозна терапија за продолжено болничко лекување во заводи и специјални болници за пациенти по решение на ФЗО | D13: 1930 | E13: бр.131 од 17.06.2026 | F13: во примена од 25.06.2026
A14: 4 | B14: ДС03 | C14: Болнички ден во стационар (сместување и оброци) за придружник на болно дете на возраст до 3 години | D14: 350 | E14: бр.181 од 27.12.2011 | F14: во примена од 01.04.2012
A15: 5 | B15: ДС04 | C15: Болнички ден во стационар со вклучени здравствени услуги и медикаментозна терапија за болни во герентологија | D15: 1160 | E15: бр.147 од 10.12.2025 | F15: во примена од 18.12.2025
A16: 6 | B16: ДС05 | C16: Болнички ден во стационар на терциерно ниво (физикална и медицинска рехабилитација, сместување, оброци, труд на персонал и лекови како продолжено болничко лекување) | D16: 2270 | E16: бр. 130 од 20.06.2024 | F16: во примена од 28.06.2024
A17: 7 | B17: ДС06 | C17: Роботски третман за болнички пациенти на терциерно ниво | D17: 1210 | E17: бр. 130 од 20.06.2024 | F17: во примена од 28 јуни 2024 (Се применува заедно со пакетот ДС05 за секој ден поединечно кога има роботски третман)
